BEGIN:VCALENDAR
VERSION:2.0
PRODID:-//あかしサポステ - ECPv6.2.9//NONSGML v1.0//EN
CALSCALE:GREGORIAN
METHOD:PUBLISH
X-WR-CALNAME:あかしサポステ
X-ORIGINAL-URL:https://sust-harima.org
X-WR-CALDESC:あかしサポステ のイベント
REFRESH-INTERVAL;VALUE=DURATION:PT1H
X-Robots-Tag:noindex
X-PUBLISHED-TTL:PT1H
BEGIN:VTIMEZONE
TZID:UTC
BEGIN:STANDARD
TZOFFSETFROM:+0000
TZOFFSETTO:+0000
TZNAME:UTC
DTSTART:20250101T000000
END:STANDARD
END:VTIMEZONE
BEGIN:VEVENT
DTSTART;TZID=UTC:20250625T130000
DTEND;TZID=UTC:20250625T163000
DTSTAMP:20260426T041603
CREATED:20250512T024010Z
LAST-MODIFIED:20250512T024012Z
UID:2066-1750856400-1750869000@sust-harima.org
SUMMARY:コラージュ講座＆ボランティア
DESCRIPTION:ウィズあかしの講座「コラージュで楽しむ自己表現」の準備や受付を体験します。\n人と関わる一歩を踏み出したい方、ご参加お待ちしております。\n準備が終わり次第、コラージュ講座も受講できます。\n持ち物：作品を入れる鞄や袋 \n・【日時】2025年6月25日(水)　13:00～16:30 \n・【場所】ウィズあかし \n  \n  \n当講座は登録者専用となります。\nあかしサポステに未登録の方は、まずは「個別相談申し込みフォーム」から登録お願い致します。 \n個別相談申し込みフォームはこちら
URL:https://sust-harima.org/event/%e3%82%b3%e3%83%a9%e3%83%bc%e3%82%b8%e3%83%a5%e8%ac%9b%e5%ba%a7%ef%bc%86%e3%83%9c%e3%83%a9%e3%83%b3%e3%83%86%e3%82%a3%e3%82%a2/
LOCATION:ウィズあかし\, 明石市東仲ノ町６−１\, 兵庫県\, 673-0886\, 日本
CATEGORIES:ジョブトレーニング,ものづくりイベント
END:VEVENT
END:VCALENDAR