BEGIN:VCALENDAR
VERSION:2.0
PRODID:-//あかしサポステ - ECPv6.2.9//NONSGML v1.0//EN
CALSCALE:GREGORIAN
METHOD:PUBLISH
X-WR-CALNAME:あかしサポステ
X-ORIGINAL-URL:https://sust-harima.org
X-WR-CALDESC:あかしサポステ のイベント
REFRESH-INTERVAL;VALUE=DURATION:PT1H
X-Robots-Tag:noindex
X-PUBLISHED-TTL:PT1H
BEGIN:VTIMEZONE
TZID:UTC
BEGIN:STANDARD
TZOFFSETFROM:+0000
TZOFFSETTO:+0000
TZNAME:UTC
DTSTART:20250101T000000
END:STANDARD
END:VTIMEZONE
BEGIN:VEVENT
DTSTART;TZID=UTC:20251017T093000
DTEND;TZID=UTC:20251017T103000
DTSTAMP:20260425T235937
CREATED:20250911T021858Z
LAST-MODIFIED:20250911T021858Z
UID:2292-1760693400-1760697000@sust-harima.org
SUMMARY:レザークラフト
DESCRIPTION:手を動かしながら集中して取り組むレザークラフト体験を通して、\nものづくりの楽しさだけでなく、『集中力を高めること』『完成させる達成感』を味わえます。\n就労に必要な基礎力を身につける準備の場として、ご参加下さい。 \n・【日時】2025年10月17日(金)　9:30～10:30 \n・【場所】サテライト播磨 \n  \n  \n当講座は登録者専用となります。\nあかしサポステに未登録の方は、まずは「個別相談申し込みフォーム」から登録お願い致します。 \n個別相談申し込みフォームはこちら
URL:https://sust-harima.org/event/%e3%83%ac%e3%82%b6%e3%83%bc%e3%82%af%e3%83%a9%e3%83%95%e3%83%88/
LOCATION:サテライト播磨\, 加古川市加古川町溝之口755\, 兵庫県\, 673-0064\, 日本
CATEGORIES:ものづくりイベント
END:VEVENT
END:VCALENDAR