BEGIN:VCALENDAR
VERSION:2.0
PRODID:-//あかしサポステ - ECPv6.2.9//NONSGML v1.0//EN
CALSCALE:GREGORIAN
METHOD:PUBLISH
X-ORIGINAL-URL:https://sust-harima.org
X-WR-CALDESC:あかしサポステ のイベント
REFRESH-INTERVAL;VALUE=DURATION:PT1H
X-Robots-Tag:noindex
X-PUBLISHED-TTL:PT1H
BEGIN:VTIMEZONE
TZID:UTC
BEGIN:STANDARD
TZOFFSETFROM:+0000
TZOFFSETTO:+0000
TZNAME:UTC
DTSTART:20250101T000000
END:STANDARD
END:VTIMEZONE
BEGIN:VEVENT
DTSTART;TZID=UTC:20250705T093000
DTEND;TZID=UTC:20250705T113000
DTSTAMP:20260425T122905
CREATED:20250610T012042Z
LAST-MODIFIED:20250610T012042Z
UID:2094-1751707800-1751715000@sust-harima.org
SUMMARY:ステップアップセミナー「EQ～こころの知能指数の活かし方～」
DESCRIPTION:自分の感情をコントロールしたり、他者の感情を読みとることができればより良い人間関係が生まれます。\nそのためには、脳のしくみから情動のメカニズムを理解し、職場において適切な対処を学びます。 \n・【日時】2025年7月5日(土)　9:30～11:30 \n・【場所】あかし若者サポートステーション \n  \n  \n当講座は登録者専用となります。\nあかしサポステに未登録の方は、まずは「個別相談申し込みフォーム」から登録お願い致します。 \n個別相談申し込みフォームはこちら
URL:https://sust-harima.org/event/%e3%82%b9%e3%83%86%e3%83%83%e3%83%97%e3%82%a2%e3%83%83%e3%83%97%e3%82%bb%e3%83%9f%e3%83%8a%e3%83%bc%e3%80%8ceq%ef%bd%9e%e3%81%93%e3%81%93%e3%82%8d%e3%81%ae%e7%9f%a5%e8%83%bd%e6%8c%87%e6%95%b0%e3%81%ae/
LOCATION:あかし若者サポートステーション\, 38ヤングビル5階\, 明石市相生町2丁目6-5\, 兵庫県\, 673-0882\, 日本
CATEGORIES:セミナー
END:VEVENT
END:VCALENDAR