BEGIN:VCALENDAR
VERSION:2.0
PRODID:-//あかしサポステ - ECPv6.2.9//NONSGML v1.0//EN
CALSCALE:GREGORIAN
METHOD:PUBLISH
X-ORIGINAL-URL:https://sust-harima.org
X-WR-CALDESC:あかしサポステ のイベント
REFRESH-INTERVAL;VALUE=DURATION:PT1H
X-Robots-Tag:noindex
X-PUBLISHED-TTL:PT1H
BEGIN:VTIMEZONE
TZID:UTC
BEGIN:STANDARD
TZOFFSETFROM:+0000
TZOFFSETTO:+0000
TZNAME:UTC
DTSTART:20250101T000000
END:STANDARD
END:VTIMEZONE
BEGIN:VEVENT
DTSTART;TZID=UTC:20250729T093000
DTEND;TZID=UTC:20250729T103000
DTSTAMP:20260425T110643
CREATED:20250610T011939Z
LAST-MODIFIED:20250610T011939Z
UID:2114-1753781400-1753785000@sust-harima.org
SUMMARY:しつもん読書会
DESCRIPTION:「しつもん」を通して1冊の本を読み解くことで、自分の価値観に気づくことができます。\n持ち物は本1冊。どんな本でもOKです。\n「しつもん」と「読書」を楽しみながら、自分を見つけてみませんか？ \n・【日時】2025年7月29(火)　9:30～10:30 \n・【場所】サテライト播磨 \n  \n  \n当講座は登録者専用となります。\nあかしサポステに未登録の方は、まずは「個別相談申し込みフォーム」から登録お願い致します。 \n個別相談申し込みフォームはこちら
URL:https://sust-harima.org/event/%e3%81%97%e3%81%a4%e3%82%82%e3%82%93%e8%aa%ad%e6%9b%b8%e4%bc%9a-2/
LOCATION:サテライト播磨\, 加古川市加古川町溝之口755\, 兵庫県\, 673-0064\, 日本
CATEGORIES:セミナー
END:VEVENT
END:VCALENDAR