BEGIN:VCALENDAR
VERSION:2.0
PRODID:-//あかしサポステ - ECPv6.2.9//NONSGML v1.0//EN
CALSCALE:GREGORIAN
METHOD:PUBLISH
X-ORIGINAL-URL:https://sust-harima.org
X-WR-CALDESC:あかしサポステ のイベント
REFRESH-INTERVAL;VALUE=DURATION:PT1H
X-Robots-Tag:noindex
X-PUBLISHED-TTL:PT1H
BEGIN:VTIMEZONE
TZID:UTC
BEGIN:STANDARD
TZOFFSETFROM:+0000
TZOFFSETTO:+0000
TZNAME:UTC
DTSTART:20250101T000000
END:STANDARD
END:VTIMEZONE
BEGIN:VEVENT
DTSTART;TZID=UTC:20250912T100000
DTEND;TZID=UTC:20250912T120000
DTSTAMP:20260425T111143
CREATED:20250807T044107Z
LAST-MODIFIED:20250807T044107Z
UID:2222-1757671200-1757678400@sust-harima.org
SUMMARY:播磨町就職等自立支援セミナー「アサーション～自分らしく気持ちを伝えよう～」
DESCRIPTION:アサーションとは、お互いを尊重しながら自己表現するコミュニケーションスキルです。\n自分の物の見方や考え方をチェックして、自分らしい伝え方のコツをワークを通じて学びましょう。 \n・【日時】2025年9月12日(金)　10:00～12:00 \n・【場所】播磨町総合福祉センター
URL:https://sust-harima.org/event/%e6%92%ad%e7%a3%a8%e7%94%ba%e5%b0%b1%e8%81%b7%e7%ad%89%e8%87%aa%e7%ab%8b%e6%94%af%e6%8f%b4%e3%82%bb%e3%83%9f%e3%83%8a%e3%83%bc%e3%80%8c%e3%82%a2%e3%82%b5%e3%83%bc%e3%82%b7%e3%83%a7%e3%83%b3%ef%bd%9e/
LOCATION:播磨町福祉会館\, 加古郡播磨町宮北１丁目３−５\, 兵庫県\, 675-0143\, 日本
CATEGORIES:セミナー
END:VEVENT
END:VCALENDAR