BEGIN:VCALENDAR
VERSION:2.0
PRODID:-//あかしサポステ - ECPv6.2.9//NONSGML v1.0//EN
CALSCALE:GREGORIAN
METHOD:PUBLISH
X-ORIGINAL-URL:https://sust-harima.org
X-WR-CALDESC:あかしサポステ のイベント
REFRESH-INTERVAL;VALUE=DURATION:PT1H
X-Robots-Tag:noindex
X-PUBLISHED-TTL:PT1H
BEGIN:VTIMEZONE
TZID:UTC
BEGIN:STANDARD
TZOFFSETFROM:+0000
TZOFFSETTO:+0000
TZNAME:UTC
DTSTART:20250101T000000
END:STANDARD
END:VTIMEZONE
BEGIN:VEVENT
DTSTART;TZID=UTC:20250521T093000
DTEND;TZID=UTC:20250521T103000
DTSTAMP:20260425T122849
CREATED:20250407T042347Z
LAST-MODIFIED:20250407T042348Z
UID:2033-1747819800-1747823400@sust-harima.org
SUMMARY:価値観発見ワーク
DESCRIPTION:カードを使って、自分が大切にしている価値観を見つけてみませんか？\n価値観を知ることで自己理解が深まり、これからの働き方を考えるヒントになります。\n就職活動のはじめの一歩として気軽にご参加ください。 \n・【日時】2025年5月21日(水)　9:30～10:30 \n・【場所】あかし若者サポートステーション \n  \n  \n当講座は登録者専用となります。\nあかしサポステに未登録の方は、まずは「個別相談申し込みフォーム」から登録お願い致します。 \n個別相談申し込みフォームはこちら
URL:https://sust-harima.org/event/%e4%be%a1%e5%80%a4%e8%a6%b3%e7%99%ba%e8%a6%8b%e3%83%af%e3%83%bc%e3%82%af/
LOCATION:あかし若者サポートステーション\, 38ヤングビル5階\, 明石市相生町2丁目6-5\, 兵庫県\, 673-0882\, 日本
CATEGORIES:セミナー
END:VEVENT
BEGIN:VEVENT
DTSTART;TZID=UTC:20250524T093000
DTEND;TZID=UTC:20250524T113000
DTSTAMP:20260425T122849
CREATED:20250407T042333Z
LAST-MODIFIED:20250407T042335Z
UID:2035-1748079000-1748086200@sust-harima.org
SUMMARY:ステップアップセミナー「電話マナー講座」
DESCRIPTION:電話が苦手という人が多いのでは？\n就活や職場で生かせる電話のマナーをお伝えします。\nちょっとしたことだけど、知っておくと便利です。 \n・【日時】2025年5月24日(土)　9:30～11:30 \n・【場所】サテライト播磨 \n  \n  \n当講座は登録者専用となります。\nあかしサポステに未登録の方は、まずは「個別相談申し込みフォーム」から登録お願い致します。 \n個別相談申し込みフォームはこちら
URL:https://sust-harima.org/event/%e3%82%b9%e3%83%86%e3%83%83%e3%83%97%e3%82%a2%e3%83%83%e3%83%97%e3%82%bb%e3%83%9f%e3%83%8a%e3%83%bc%e3%80%8c%e9%9b%bb%e8%a9%b1%e3%83%9e%e3%83%8a%e3%83%bc%e8%ac%9b%e5%ba%a7%e3%80%8d/
LOCATION:サテライト播磨\, 加古川市加古川町溝之口755\, 兵庫県\, 673-0064\, 日本
CATEGORIES:セミナー
END:VEVENT
END:VCALENDAR