BEGIN:VCALENDAR
VERSION:2.0
PRODID:-//あかしサポステ - ECPv6.2.9//NONSGML v1.0//EN
CALSCALE:GREGORIAN
METHOD:PUBLISH
X-WR-CALNAME:あかしサポステ
X-ORIGINAL-URL:https://sust-harima.org
X-WR-CALDESC:あかしサポステ のイベント
REFRESH-INTERVAL;VALUE=DURATION:PT1H
X-Robots-Tag:noindex
X-PUBLISHED-TTL:PT1H
BEGIN:VTIMEZONE
TZID:UTC
BEGIN:STANDARD
TZOFFSETFROM:+0000
TZOFFSETTO:+0000
TZNAME:UTC
DTSTART:20240101T000000
END:STANDARD
END:VTIMEZONE
BEGIN:VEVENT
DTSTART;TZID=UTC:20240509T090000
DTEND;TZID=UTC:20240509T120000
DTSTAMP:20260425T220634
CREATED:20240409T044936Z
LAST-MODIFIED:20240409T044936Z
UID:1394-1715245200-1715256000@sust-harima.org
SUMMARY:自然体験(農作業体験)
DESCRIPTION:自然の土に触れて、日頃のストレスを解消しませんか？\n普段行わない作業をすることで、意外な発見があるかもしれません。\n汚れてもよい服でお越しください。(荒天中止)\n持ち物：飲み物、軍手、長靴(ある方) \n  \n・【日時】2024年5月9日(木)　9:00～12:00 \n・JR加古川駅集合・解散 \n  \n  \n当講座は登録者専用となります。\nあかしサポステに未登録の方は、まずは「個別相談申し込みフォーム」から登録お願い致します。 \n個別相談申し込みフォームはこちら \n 
URL:https://sust-harima.org/event/%e8%87%aa%e7%84%b6%e4%bd%93%e9%a8%93%e8%be%b2%e4%bd%9c%e6%a5%ad%e4%bd%93%e9%a8%93/
CATEGORIES:農業体験ボランティア
END:VEVENT
END:VCALENDAR