BEGIN:VCALENDAR
VERSION:2.0
PRODID:-//あかしサポステ - ECPv6.2.9//NONSGML v1.0//EN
CALSCALE:GREGORIAN
METHOD:PUBLISH
X-WR-CALNAME:あかしサポステ
X-ORIGINAL-URL:https://sust-harima.org
X-WR-CALDESC:あかしサポステ のイベント
REFRESH-INTERVAL;VALUE=DURATION:PT1H
X-Robots-Tag:noindex
X-PUBLISHED-TTL:PT1H
BEGIN:VTIMEZONE
TZID:UTC
BEGIN:STANDARD
TZOFFSETFROM:+0000
TZOFFSETTO:+0000
TZNAME:UTC
DTSTART:20250101T000000
END:STANDARD
END:VTIMEZONE
BEGIN:VEVENT
DTSTART;TZID=UTC:20260416T133000
DTEND;TZID=UTC:20260416T153000
DTSTAMP:20260425T140306
CREATED:20260309T045858Z
LAST-MODIFIED:20260309T045858Z
UID:2650-1776346200-1776353400@sust-harima.org
SUMMARY:PC講座【Word基礎】
DESCRIPTION:PC経験が少なく不安を感じる方はWordの基礎から学んでいきましょう。\nWordは就職活動や職場など、様々な場面で活用できます。 \n・【日時】2026年4月16日(木)　13:30～15:30 \n・【場所】あかし若者サポートステーション
URL:https://sust-harima.org/event/pc%e8%ac%9b%e5%ba%a7%e3%80%90word%e5%9f%ba%e7%a4%8e%e3%80%91-29/
LOCATION:あかし若者サポートステーション\, 38ヤングビル5階\, 明石市相生町2丁目6-5\, 兵庫県\, 673-0882\, 日本
CATEGORIES:PC講座
END:VEVENT
BEGIN:VEVENT
DTSTART;TZID=UTC:20260316T133000
DTEND;TZID=UTC:20260316T153000
DTSTAMP:20260425T140306
CREATED:20260212T043057Z
LAST-MODIFIED:20260317T023417Z
UID:2617-1773667800-1773675000@sust-harima.org
SUMMARY:PC講座【Excel基礎】
DESCRIPTION:ビジネスの視点からExcelの基本を学びます。PCの経験を増やしたい方、是非ご参加ください。\nExcelは表やグラフ作成など様々な場面で活用できます。 \n・【日時】2026年3月16日(月)　13:30～15:30 \n・【場所】サテライト播磨
URL:https://sust-harima.org/event/pc%e8%ac%9b%e5%ba%a7%e3%80%90excel%e5%9f%ba%e7%a4%8e%e3%80%91-28/
LOCATION:サテライト播磨\, 加古川市加古川町溝之口755\, 兵庫県\, 673-0064\, 日本
CATEGORIES:PC講座
END:VEVENT
BEGIN:VEVENT
DTSTART;TZID=UTC:20260311T133000
DTEND;TZID=UTC:20260311T153000
DTSTAMP:20260425T140306
CREATED:20260212T043105Z
LAST-MODIFIED:20260212T043105Z
UID:2615-1773235800-1773243000@sust-harima.org
SUMMARY:PC講座【Word基礎】
DESCRIPTION:PC経験が少なく不安を感じる方はWordの基礎から学んでいきましょう。\nWordは就職活動や職場など、様々な場面で活用できます。 \n・【日時】2026年3月11日(水)　13:30～15:30 \n・【場所】サテライト播磨
URL:https://sust-harima.org/event/pc%e8%ac%9b%e5%ba%a7%e3%80%90word%e5%9f%ba%e7%a4%8e%e3%80%91-28/
LOCATION:サテライト播磨\, 加古川市加古川町溝之口755\, 兵庫県\, 673-0064\, 日本
CATEGORIES:PC講座
END:VEVENT
BEGIN:VEVENT
DTSTART;TZID=UTC:20260225T133000
DTEND;TZID=UTC:20260225T153000
DTSTAMP:20260425T140306
CREATED:20260109T012501Z
LAST-MODIFIED:20260109T012501Z
UID:2575-1772026200-1772033400@sust-harima.org
SUMMARY:PC講座【Excel基礎】
DESCRIPTION:ビジネスの視点からExcelの基本を学びます。PCの経験を増やしたい方、是非ご参加ください。\nExcelは表やグラフ作成など様々な場面で活用できます。 \n・【日時】2026年2月25日(水)　13:30～15:30 \n・【場所】あかし若者サポートステーション
URL:https://sust-harima.org/event/pc%e8%ac%9b%e5%ba%a7%e3%80%90excel%e5%9f%ba%e7%a4%8e%e3%80%91-27/
LOCATION:あかし若者サポートステーション\, 38ヤングビル5階\, 明石市相生町2丁目6-5\, 兵庫県\, 673-0882\, 日本
CATEGORIES:PC講座
END:VEVENT
BEGIN:VEVENT
DTSTART;TZID=UTC:20260219T133000
DTEND;TZID=UTC:20260219T153000
DTSTAMP:20260425T140306
CREATED:20260109T012053Z
LAST-MODIFIED:20260109T012053Z
UID:2569-1771507800-1771515000@sust-harima.org
SUMMARY:PC講座【Word基礎】
DESCRIPTION:PC経験が少なく不安を感じる方はWordの基礎から学んでいきましょう。\nWordは就職活動や職場など、様々な場面で活用できます。 \n・【日時】2026年2月19日(木)　13:30～15:30 \n・【場所】あかし若者サポートステーション \n  \n  \n 
URL:https://sust-harima.org/event/pc%e8%ac%9b%e5%ba%a7%e3%80%90word%e5%9f%ba%e7%a4%8e%e3%80%91-27/
LOCATION:あかし若者サポートステーション\, 38ヤングビル5階\, 明石市相生町2丁目6-5\, 兵庫県\, 673-0882\, 日本
CATEGORIES:PC講座
END:VEVENT
BEGIN:VEVENT
DTSTART;TZID=UTC:20260127T133000
DTEND;TZID=UTC:20260127T153000
DTSTAMP:20260425T140306
CREATED:20251211T043515Z
LAST-MODIFIED:20251211T043515Z
UID:2519-1769520600-1769527800@sust-harima.org
SUMMARY:PC講座【Excel基礎】
DESCRIPTION:ビジネスの視点からExcelの基本を学びます。PCの経験を増やしたい方、是非ご参加ください。\nExcelは表やグラフ作成など様々な場面で活用できます。 \n・【日時】2026年1月27日(火)　13:30～15:30 \n・【場所】サテライト播磨 \n  \n  \n当講座は登録者専用となります。\nあかしサポステに未登録の方は、まずは「個別相談申し込みフォーム」から登録お願い致します。 \n個別相談申し込みフォームはこちら
URL:https://sust-harima.org/event/pc%e8%ac%9b%e5%ba%a7%e3%80%90excel%e5%9f%ba%e7%a4%8e%e3%80%91-26/
LOCATION:サテライト播磨\, 加古川市加古川町溝之口755\, 兵庫県\, 673-0064\, 日本
CATEGORIES:PC講座
END:VEVENT
BEGIN:VEVENT
DTSTART;TZID=UTC:20260122T133000
DTEND;TZID=UTC:20260122T153000
DTSTAMP:20260425T140306
CREATED:20251211T043525Z
LAST-MODIFIED:20251211T043525Z
UID:2517-1769088600-1769095800@sust-harima.org
SUMMARY:PC講座【Word基礎】
DESCRIPTION:PC経験が少なく不安を感じる方はWordの基礎から学んでいきましょう。\nWordは就職活動や職場など、様々な場面で活用できます。 \n・【日時】2026年1月22日(木)　13:30～15:30 \n・【場所】サテライト播磨 \n  \n  \n当講座は登録者専用となります。\nあかしサポステに未登録の方は、まずは「個別相談申し込みフォーム」から登録お願い致します。 \n個別相談申し込みフォームはこちら
URL:https://sust-harima.org/event/pc%e8%ac%9b%e5%ba%a7%e3%80%90word%e5%9f%ba%e7%a4%8e%e3%80%91-26/
LOCATION:サテライト播磨\, 加古川市加古川町溝之口755\, 兵庫県\, 673-0064\, 日本
CATEGORIES:PC講座
END:VEVENT
BEGIN:VEVENT
DTSTART;TZID=UTC:20251215T133000
DTEND;TZID=UTC:20251215T153000
DTSTAMP:20260425T140306
CREATED:20251110T023642Z
LAST-MODIFIED:20251110T023642Z
UID:2447-1765805400-1765812600@sust-harima.org
SUMMARY:PC講座【Excel基礎】
DESCRIPTION:ビジネスの視点からExcelの基本を学びます。PCの経験を増やしたい方、是非ご参加ください。\nExcelは表やグラフ作成など様々な場面で活用できます。 \n・【日時】2025年12月15日(月)　13:30～15:30 \n・【場所】あかし若者サポートステーション \n  \n  \n当講座は登録者専用となります。\nあかしサポステに未登録の方は、まずは「個別相談申し込みフォーム」から登録お願い致します。 \n個別相談申し込みフォームはこちら
URL:https://sust-harima.org/event/pc%e8%ac%9b%e5%ba%a7%e3%80%90excel%e5%9f%ba%e7%a4%8e%e3%80%91-25/
LOCATION:あかし若者サポートステーション\, 38ヤングビル5階\, 明石市相生町2丁目6-5\, 兵庫県\, 673-0882\, 日本
CATEGORIES:PC講座
END:VEVENT
BEGIN:VEVENT
DTSTART;TZID=UTC:20251209T133000
DTEND;TZID=UTC:20251209T153000
DTSTAMP:20260425T140306
CREATED:20251110T023829Z
LAST-MODIFIED:20251110T023829Z
UID:2438-1765287000-1765294200@sust-harima.org
SUMMARY:PC講座【Word基礎】
DESCRIPTION:PC経験が少なく不安を感じる方はWordの基礎から学んでいきましょう。\nWordは就職活動や職場など、様々な場面で活用できます。 \n・【日時】2025年12月9日(火)　13:30～15:30 \n・【場所】あかし若者サポートステーション \n  \n  \n当講座は登録者専用となります。\nあかしサポステに未登録の方は、まずは「個別相談申し込みフォーム」から登録お願い致します。 \n個別相談申し込みフォームはこちら
URL:https://sust-harima.org/event/pc%e8%ac%9b%e5%ba%a7%e3%80%90word%e5%9f%ba%e7%a4%8e%e3%80%91-25/
LOCATION:あかし若者サポートステーション\, 38ヤングビル5階\, 明石市相生町2丁目6-5\, 兵庫県\, 673-0882\, 日本
CATEGORIES:PC講座
END:VEVENT
BEGIN:VEVENT
DTSTART;TZID=UTC:20251121T133000
DTEND;TZID=UTC:20251121T153000
DTSTAMP:20260425T140306
CREATED:20251009T042846Z
LAST-MODIFIED:20251009T042846Z
UID:2368-1763731800-1763739000@sust-harima.org
SUMMARY:PC講座【Excel基礎】
DESCRIPTION:ビジネスの視点からExcelの基本を学びます。PCの経験を増やしたい方、是非ご参加ください。\nExcelは表やグラフ作成など様々な場面で活用できます。 \n・【日時】2025年11月21日(金)　13:30～15:30 \n・【場所】サテライト播磨 \n  \n  \n当講座は登録者専用となります。\nあかしサポステに未登録の方は、まずは「個別相談申し込みフォーム」から登録お願い致します。 \n個別相談申し込みフォームはこちら
URL:https://sust-harima.org/event/pc%e8%ac%9b%e5%ba%a7%e3%80%90excel%e5%9f%ba%e7%a4%8e%e3%80%91-24/
LOCATION:サテライト播磨\, 加古川市加古川町溝之口755\, 兵庫県\, 673-0064\, 日本
CATEGORIES:PC講座
END:VEVENT
BEGIN:VEVENT
DTSTART;TZID=UTC:20251107T133000
DTEND;TZID=UTC:20251107T153000
DTSTAMP:20260425T140306
CREATED:20251009T042955Z
LAST-MODIFIED:20251009T042955Z
UID:2351-1762522200-1762529400@sust-harima.org
SUMMARY:PC講座【Word基礎】
DESCRIPTION:PC経験が少なく不安を感じる方はWordの基礎から学んでいきましょう。\nWordは就職活動や職場など、様々な場面で活用できます。 \n・【日時】2025年11月7日(金)　13:30～15:30 \n・【場所】サテライト播磨 \n  \n  \n当講座は登録者専用となります。\nあかしサポステに未登録の方は、まずは「個別相談申し込みフォーム」から登録お願い致します。 \n個別相談申し込みフォームはこちら
URL:https://sust-harima.org/event/pc%e8%ac%9b%e5%ba%a7%e3%80%90word%e5%9f%ba%e7%a4%8e%e3%80%91-24/
LOCATION:サテライト播磨\, 加古川市加古川町溝之口755\, 兵庫県\, 673-0064\, 日本
CATEGORIES:PC講座
END:VEVENT
BEGIN:VEVENT
DTSTART;TZID=UTC:20251027T133000
DTEND;TZID=UTC:20251027T163000
DTSTAMP:20260425T140306
CREATED:20250911T021818Z
LAST-MODIFIED:20250911T021818Z
UID:2302-1761571800-1761582600@sust-harima.org
SUMMARY:PC講座【Excel基礎】
DESCRIPTION:ビジネスの視点からExcelの基本を学びます。PCの経験を増やしたい方、是非ご参加ください。\nExcelは表やグラフ作成など様々な場面で活用できます。 \n・【日時】2025年10月27日(月)　13:30～16:30 \n・【場所】あかし若者サポートステーション \n  \n  \n当講座は登録者専用となります。\nあかしサポステに未登録の方は、まずは「個別相談申し込みフォーム」から登録お願い致します。 \n個別相談申し込みフォームはこちら
URL:https://sust-harima.org/event/pc%e8%ac%9b%e5%ba%a7%e3%80%90excel%e5%9f%ba%e7%a4%8e%e3%80%91-23/
LOCATION:あかし若者サポートステーション\, 38ヤングビル5階\, 明石市相生町2丁目6-5\, 兵庫県\, 673-0882\, 日本
CATEGORIES:PC講座
END:VEVENT
BEGIN:VEVENT
DTSTART;TZID=UTC:20251023T133000
DTEND;TZID=UTC:20251023T163000
DTSTAMP:20260425T140306
CREATED:20250911T021849Z
LAST-MODIFIED:20250911T021849Z
UID:2294-1761226200-1761237000@sust-harima.org
SUMMARY:PC講座【Word基礎】
DESCRIPTION:PC経験が少なく不安を感じる方はWordの基礎から学んでいきましょう。\nWordは就職活動や職場など、様々な場面で活用できます。 \n・【日時】2025年10月23日(木)　13:30～16:30 \n・【場所】あかし若者サポートステーション \n  \n  \n当講座は登録者専用となります。\nあかしサポステに未登録の方は、まずは「個別相談申し込みフォーム」から登録お願い致します。 \n個別相談申し込みフォームはこちら
URL:https://sust-harima.org/event/pc%e8%ac%9b%e5%ba%a7%e3%80%90word%e5%9f%ba%e7%a4%8e%e3%80%91-23/
LOCATION:あかし若者サポートステーション\, 38ヤングビル5階\, 明石市相生町2丁目6-5\, 兵庫県\, 673-0882\, 日本
CATEGORIES:PC講座
END:VEVENT
BEGIN:VEVENT
DTSTART;TZID=UTC:20250917T133000
DTEND;TZID=UTC:20250917T163000
DTSTAMP:20260425T140306
CREATED:20250807T044114Z
LAST-MODIFIED:20250807T044114Z
UID:2224-1758115800-1758126600@sust-harima.org
SUMMARY:PC講座【Excel基礎】
DESCRIPTION:ビジネスの視点からExcelの基本を学びます。PCの経験を増やしたい方、是非ご参加ください。\nExcelは表やグラフ作成など様々な場面で活用できます。 \n・【日時】2025年9月17日(水)　13:30～16:30 \n・【場所】サテライト播磨 \n  \n  \n当講座は登録者専用となります。\nあかしサポステに未登録の方は、まずは「個別相談申し込みフォーム」から登録お願い致します。 \n個別相談申し込みフォームはこちら
URL:https://sust-harima.org/event/pc%e8%ac%9b%e5%ba%a7%e3%80%90excel%e5%9f%ba%e7%a4%8e%e3%80%91-22/
LOCATION:サテライト播磨\, 加古川市加古川町溝之口755\, 兵庫県\, 673-0064\, 日本
CATEGORIES:PC講座
END:VEVENT
BEGIN:VEVENT
DTSTART;TZID=UTC:20250904T133000
DTEND;TZID=UTC:20250904T163000
DTSTAMP:20260425T140306
CREATED:20250807T044041Z
LAST-MODIFIED:20250807T044045Z
UID:2215-1756992600-1757003400@sust-harima.org
SUMMARY:PC講座【Word基礎】
DESCRIPTION:PC経験が少なく不安を感じる方はWordの基礎から学んでいきましょう。\nWordは就職活動や職場など、様々な場面で活用できます。 \n・【日時】2025年9月4日(木)　13:30～16:30 \n・【場所】サテライト播磨 \n  \n  \n当講座は登録者専用となります。\nあかしサポステに未登録の方は、まずは「個別相談申し込みフォーム」から登録お願い致します。 \n個別相談申し込みフォームはこちら
URL:https://sust-harima.org/event/pc%e8%ac%9b%e5%ba%a7%e3%80%90word%e5%9f%ba%e7%a4%8e%e3%80%91-22/
LOCATION:サテライト播磨\, 加古川市加古川町溝之口755\, 兵庫県\, 673-0064\, 日本
CATEGORIES:PC講座
END:VEVENT
BEGIN:VEVENT
DTSTART;TZID=UTC:20250821T133000
DTEND;TZID=UTC:20250821T163000
DTSTAMP:20260425T140306
CREATED:20250710T021748Z
LAST-MODIFIED:20250710T021748Z
UID:2168-1755783000-1755793800@sust-harima.org
SUMMARY:PC講座【Excel基礎】
DESCRIPTION:ビジネスの視点からExcelの基本を学びます。PCの経験を増やしたい方、是非ご参加ください。\nExcelは表やグラフ作成など様々な場面で活用できます。 \n・【日時】2025年8月21日(木)　13:30～16:30 \n・【場所】あかし若者サポートステーション \n  \n  \n当講座は登録者専用となります。\nあかしサポステに未登録の方は、まずは「個別相談申し込みフォーム」から登録お願い致します。 \n個別相談申し込みフォームはこちら
URL:https://sust-harima.org/event/pc%e8%ac%9b%e5%ba%a7%e3%80%90excel%e5%9f%ba%e7%a4%8e%e3%80%91-21/
LOCATION:あかし若者サポートステーション\, 38ヤングビル5階\, 明石市相生町2丁目6-5\, 兵庫県\, 673-0882\, 日本
CATEGORIES:PC講座
END:VEVENT
BEGIN:VEVENT
DTSTART;TZID=UTC:20250806T133000
DTEND;TZID=UTC:20250806T163000
DTSTAMP:20260425T140306
CREATED:20250710T021819Z
LAST-MODIFIED:20250710T021819Z
UID:2156-1754487000-1754497800@sust-harima.org
SUMMARY:PC講座【Word基礎】
DESCRIPTION:PC経験が少なく不安を感じる方はWordの基礎から学んでいきましょう。\nWordは就職活動や職場など、様々な場面で活用できます。 \n・【日時】2025年8月6日(水)　13:30～16:30 \n・【場所】あかし若者サポートステーション \n  \n  \n当講座は登録者専用となります。\nあかしサポステに未登録の方は、まずは「個別相談申し込みフォーム」から登録お願い致します。 \n個別相談申し込みフォームはこちら
URL:https://sust-harima.org/event/pc%e8%ac%9b%e5%ba%a7%e3%80%90word%e5%9f%ba%e7%a4%8e%e3%80%91-21/
LOCATION:あかし若者サポートステーション\, 38ヤングビル5階\, 明石市相生町2丁目6-5\, 兵庫県\, 673-0882\, 日本
CATEGORIES:PC講座
END:VEVENT
BEGIN:VEVENT
DTSTART;TZID=UTC:20250728T133000
DTEND;TZID=UTC:20250728T163000
DTSTAMP:20260425T140306
CREATED:20250610T011951Z
LAST-MODIFIED:20250610T011951Z
UID:2112-1753709400-1753720200@sust-harima.org
SUMMARY:PC講座【Excel基礎】
DESCRIPTION:ビジネスの視点からExcelの基本を学びます。PCの経験を増やしたい方、是非ご参加ください。\nExcelは表やグラフ作成など様々な場面で活用できます。 \n・【日時】2025年7月28日(月)　13:30～16:30 \n・【場所】サテライト播磨 \n  \n  \n当講座は登録者専用となります。\nあかしサポステに未登録の方は、まずは「個別相談申し込みフォーム」から登録お願い致します。 \n個別相談申し込みフォームはこちら
URL:https://sust-harima.org/event/pc%e8%ac%9b%e5%ba%a7%e3%80%90excel%e5%9f%ba%e7%a4%8e%e3%80%91-20/
LOCATION:サテライト播磨\, 加古川市加古川町溝之口755\, 兵庫県\, 673-0064\, 日本
CATEGORIES:PC講座
END:VEVENT
BEGIN:VEVENT
DTSTART;TZID=UTC:20250724T133000
DTEND;TZID=UTC:20250724T163000
DTSTAMP:20260425T140306
CREATED:20250610T012010Z
LAST-MODIFIED:20250610T012010Z
UID:2106-1753363800-1753374600@sust-harima.org
SUMMARY:PC講座【Word基礎】
DESCRIPTION:PC経験が少なく不安を感じる方はWordの基礎から学んでいきましょう。\nWordは就職活動や職場など、様々な場面で活用できます。 \n・【日時】2025年7月24日(木)　13:30～16:30 \n・【場所】サテライト播磨 \n  \n  \n当講座は登録者専用となります。\nあかしサポステに未登録の方は、まずは「個別相談申し込みフォーム」から登録お願い致します。 \n個別相談申し込みフォームはこちら
URL:https://sust-harima.org/event/pc%e8%ac%9b%e5%ba%a7%e3%80%90word%e5%9f%ba%e7%a4%8e%e3%80%91-20/
LOCATION:サテライト播磨\, 加古川市加古川町溝之口755\, 兵庫県\, 673-0064\, 日本
CATEGORIES:PC講座
END:VEVENT
BEGIN:VEVENT
DTSTART;TZID=UTC:20250626T133000
DTEND;TZID=UTC:20250626T163000
DTSTAMP:20260425T140306
CREATED:20250512T024001Z
LAST-MODIFIED:20250512T024002Z
UID:2068-1750944600-1750955400@sust-harima.org
SUMMARY:PC講座【Excel基礎】
DESCRIPTION:ビジネスの視点からExcelの基本を学びます。PCの経験を増やしたい方、是非ご参加ください。\nExcelは表やグラフ作成など様々な場面で活用できます。 \n・【日時】2025年6月26日(木)　13:30～16:30 \n・【場所】あかし若者サポートステーション \n  \n  \n当講座は登録者専用となります。\nあかしサポステに未登録の方は、まずは「個別相談申し込みフォーム」から登録お願い致します。 \n個別相談申し込みフォームはこちら
URL:https://sust-harima.org/event/pc%e8%ac%9b%e5%ba%a7%e3%80%90excel%e5%9f%ba%e7%a4%8e%e3%80%91-19/
LOCATION:あかし若者サポートステーション\, 38ヤングビル5階\, 明石市相生町2丁目6-5\, 兵庫県\, 673-0882\, 日本
CATEGORIES:PC講座
END:VEVENT
BEGIN:VEVENT
DTSTART;TZID=UTC:20250618T133000
DTEND;TZID=UTC:20250618T163000
DTSTAMP:20260425T140306
CREATED:20250512T024020Z
LAST-MODIFIED:20250512T024022Z
UID:2064-1750253400-1750264200@sust-harima.org
SUMMARY:PC講座【Word基礎】
DESCRIPTION:PC経験が少なく不安を感じる方はWordの基礎から学んでいきましょう。\nWordは就職活動や職場など、様々な場面で活用できます。 \n・【日時】2025年6月18日(水)　13:30～16:30 \n・【場所】あかし若者サポートステーション \n  \n  \n当講座は登録者専用となります。\nあかしサポステに未登録の方は、まずは「個別相談申し込みフォーム」から登録お願い致します。 \n個別相談申し込みフォームはこちら
URL:https://sust-harima.org/event/pc%e8%ac%9b%e5%ba%a7%e3%80%90word%e5%9f%ba%e7%a4%8e%e3%80%91-19/
LOCATION:あかし若者サポートステーション\, 38ヤングビル5階\, 明石市相生町2丁目6-5\, 兵庫県\, 673-0882\, 日本
CATEGORIES:PC講座
END:VEVENT
BEGIN:VEVENT
DTSTART;TZID=UTC:20250523T133000
DTEND;TZID=UTC:20250523T163000
DTSTAMP:20260425T140306
CREATED:20250407T042321Z
LAST-MODIFIED:20250407T042323Z
UID:2037-1748007000-1748017800@sust-harima.org
SUMMARY:PC講座【Excel基礎】
DESCRIPTION:ビジネスの視点からExcelの基本を学びます。PCの経験を増やしたい方、是非ご参加ください。\nExcelは表やグラフ作成など様々な場面で活用できます。 \n・【日時】2025年5月23日(金)　13:30～16:30 \n・【場所】サテライト播磨 \n  \n  \n当講座は登録者専用となります。\nあかしサポステに未登録の方は、まずは「個別相談申し込みフォーム」から登録お願い致します。 \n個別相談申し込みフォームはこちら
URL:https://sust-harima.org/event/pc%e8%ac%9b%e5%ba%a7%e3%80%90excel%e5%9f%ba%e7%a4%8e%e3%80%91-18/
LOCATION:サテライト播磨\, 加古川市加古川町溝之口755\, 兵庫県\, 673-0064\, 日本
CATEGORIES:PC講座
END:VEVENT
BEGIN:VEVENT
DTSTART;TZID=UTC:20250515T133000
DTEND;TZID=UTC:20250515T163000
DTSTAMP:20260425T140306
CREATED:20250407T042355Z
LAST-MODIFIED:20250407T042357Z
UID:2031-1747315800-1747326600@sust-harima.org
SUMMARY:PC講座【Word基礎】
DESCRIPTION:PC経験が少なく不安を感じる方はWordの基礎から学んでいきましょう。\nWordは就職活動や職場など、様々な場面で活用できます。 \n・【日時】2025年5月15日(木)　13:30～16:30 \n・【場所】サテライト播磨 \n  \n  \n当講座は登録者専用となります。\nあかしサポステに未登録の方は、まずは「個別相談申し込みフォーム」から登録お願い致します。 \n個別相談申し込みフォームはこちら
URL:https://sust-harima.org/event/pc%e8%ac%9b%e5%ba%a7%e3%80%90word%e5%9f%ba%e7%a4%8e%e3%80%91-18/
LOCATION:サテライト播磨\, 加古川市加古川町溝之口755\, 兵庫県\, 673-0064\, 日本
CATEGORIES:PC講座
END:VEVENT
BEGIN:VEVENT
DTSTART;TZID=UTC:20250425T133000
DTEND;TZID=UTC:20250425T163000
DTSTAMP:20260425T140306
CREATED:20250317T012605Z
LAST-MODIFIED:20250317T012605Z
UID:1998-1745587800-1745598600@sust-harima.org
SUMMARY:PC講座【Excel基礎】
DESCRIPTION:ビジネスの視点からExcelの基本を学びます。PCの経験を増やしたい方、是非ご参加ください。\nExcelは表やグラフ作成など様々な場面で活用できます。 \n・【日時】2025年4月25日(金)　13:30～16:30 \n・【場所】あかし若者サポートステーション \n  \n  \n当講座は登録者専用となります。\nあかしサポステに未登録の方は、まずは「個別相談申し込みフォーム」から登録お願い致します。 \n個別相談申し込みフォームはこちら
URL:https://sust-harima.org/event/pc%e8%ac%9b%e5%ba%a7%e3%80%90excel%e5%9f%ba%e7%a4%8e%e3%80%91-17/
LOCATION:あかし若者サポートステーション\, 38ヤングビル5階\, 明石市相生町2丁目6-5\, 兵庫県\, 673-0882\, 日本
CATEGORIES:PC講座
END:VEVENT
BEGIN:VEVENT
DTSTART;TZID=UTC:20250417T133000
DTEND;TZID=UTC:20250417T163000
DTSTAMP:20260425T140306
CREATED:20250317T012729Z
LAST-MODIFIED:20250317T012729Z
UID:1989-1744896600-1744907400@sust-harima.org
SUMMARY:PC講座【Word基礎】
DESCRIPTION:PC経験が少なく不安を感じる方はWordの基礎から学んでいきましょう。\nWordは就職活動や職場など、様々な場面で活用できます。 \n・【日時】2025年4月17日(木)　13:30～16:30 \n・【場所】あかし若者サポートステーション \n  \n  \n当講座は登録者専用となります。\nあかしサポステに未登録の方は、まずは「個別相談申し込みフォーム」から登録お願い致します。 \n個別相談申し込みフォームはこちら
URL:https://sust-harima.org/event/pc%e8%ac%9b%e5%ba%a7%e3%80%90word%e5%9f%ba%e7%a4%8e%e3%80%91-17/
LOCATION:あかし若者サポートステーション\, 38ヤングビル5階\, 明石市相生町2丁目6-5\, 兵庫県\, 673-0882\, 日本
CATEGORIES:PC講座
END:VEVENT
BEGIN:VEVENT
DTSTART;TZID=UTC:20250318T133000
DTEND;TZID=UTC:20250318T163000
DTSTAMP:20260425T140306
CREATED:20250210T034716Z
LAST-MODIFIED:20250210T034716Z
UID:1967-1742304600-1742315400@sust-harima.org
SUMMARY:PC講座【Excel基礎】
DESCRIPTION:ビジネスの視点からExcelの基本を学びます。PCの経験を増やしたい方、是非ご参加ください。\nExcelは表やグラフ作成など様々な場面で活用できます。 \n・【日時】2025年3月18日(火)　13:30～16:30 \n・【場所】サテライト播磨 \n  \n  \n当講座は登録者専用となります。\nあかしサポステに未登録の方は、まずは「個別相談申し込みフォーム」から登録お願い致します。 \n個別相談申し込みフォームはこちら
URL:https://sust-harima.org/event/pc%e8%ac%9b%e5%ba%a7%e3%80%90excel%e5%9f%ba%e7%a4%8e%e3%80%91-16/
LOCATION:サテライト播磨\, 加古川市加古川町溝之口755\, 兵庫県\, 673-0064\, 日本
CATEGORIES:PC講座
END:VEVENT
BEGIN:VEVENT
DTSTART;TZID=UTC:20250313T133000
DTEND;TZID=UTC:20250313T163000
DTSTAMP:20260425T140306
CREATED:20250210T034739Z
LAST-MODIFIED:20250210T034739Z
UID:1963-1741872600-1741883400@sust-harima.org
SUMMARY:PC講座【Word基礎】
DESCRIPTION:PC経験が少なく不安を感じる方はWordの基礎から学んでいきましょう。\nWordは就職活動や職場など、様々な場面で活用できます。 \n・【日時】2025年3月13日(木)　13:30～16:30 \n・【場所】サテライト播磨 \n  \n  \n当講座は登録者専用となります。\nあかしサポステに未登録の方は、まずは「個別相談申し込みフォーム」から登録お願い致します。 \n個別相談申し込みフォームはこちら
URL:https://sust-harima.org/event/pc%e8%ac%9b%e5%ba%a7%e3%80%90word%e5%9f%ba%e7%a4%8e%e3%80%91-16/
LOCATION:サテライト播磨\, 加古川市加古川町溝之口755\, 兵庫県\, 673-0064\, 日本
CATEGORIES:PC講座
END:VEVENT
BEGIN:VEVENT
DTSTART;TZID=UTC:20250221T133000
DTEND;TZID=UTC:20250221T163000
DTSTAMP:20260425T140306
CREATED:20250114T021429Z
LAST-MODIFIED:20250114T021429Z
UID:1938-1740144600-1740155400@sust-harima.org
SUMMARY:PC講座【Excel基礎】
DESCRIPTION:ビジネスの視点からExcelの基本を学びます。PCの経験を増やしたい方、是非ご参加ください。\nExcelは表やグラフ作成など様々な場面で活用できます。 \n・【日時】2025年2月21日(金)　13:30～16:30 \n・【場所】あかし若者サポートステーション \n  \n  \n当講座は登録者専用となります。\nあかしサポステに未登録の方は、まずは「個別相談申し込みフォーム」から登録お願い致します。 \n個別相談申し込みフォームはこちら
URL:https://sust-harima.org/event/pc%e8%ac%9b%e5%ba%a7%e3%80%90excel%e5%9f%ba%e7%a4%8e%e3%80%91-15/
LOCATION:あかし若者サポートステーション\, 38ヤングビル5階\, 明石市相生町2丁目6-5\, 兵庫県\, 673-0882\, 日本
CATEGORIES:PC講座
END:VEVENT
BEGIN:VEVENT
DTSTART;TZID=UTC:20250212T133000
DTEND;TZID=UTC:20250212T163000
DTSTAMP:20260425T140306
CREATED:20250114T021403Z
LAST-MODIFIED:20250114T021403Z
UID:1931-1739367000-1739377800@sust-harima.org
SUMMARY:PC講座【Word基礎】
DESCRIPTION:PC経験が少なく不安を感じる方はWordの基礎から学んでいきましょう。\nWordは就職活動や職場など、様々な場面で活用できます。 \n・【日時】2025年2月12日(水)　13:30～16:30 \n・【場所】あかし若者サポートステーション \n  \n  \n当講座は登録者専用となります。\nあかしサポステに未登録の方は、まずは「個別相談申し込みフォーム」から登録お願い致します。 \n個別相談申し込みフォームはこちら
URL:https://sust-harima.org/event/pc%e8%ac%9b%e5%ba%a7%e3%80%90word%e5%9f%ba%e7%a4%8e%e3%80%91-15/
LOCATION:あかし若者サポートステーション\, 38ヤングビル5階\, 明石市相生町2丁目6-5\, 兵庫県\, 673-0882\, 日本
CATEGORIES:PC講座
END:VEVENT
BEGIN:VEVENT
DTSTART;TZID=UTC:20250123T133000
DTEND;TZID=UTC:20250123T163000
DTSTAMP:20260425T140306
CREATED:20241209T033827Z
LAST-MODIFIED:20241209T033827Z
UID:1897-1737639000-1737649800@sust-harima.org
SUMMARY:PC講座【Excel基礎】
DESCRIPTION:ビジネスの視点からExcelの基本を学びます。PCの経験を増やしたい方、是非ご参加ください。\nExcelは表やグラフ作成など様々な場面で活用できます。 \n・【日時】2025年1月23日(木)　13:30～16:30 \n・【場所】サテライト播磨 \n  \n  \n当講座は登録者専用となります。\nあかしサポステに未登録の方は、まずは「個別相談申し込みフォーム」から登録お願い致します。 \n個別相談申し込みフォームはこちら
URL:https://sust-harima.org/event/pc%e8%ac%9b%e5%ba%a7%e3%80%90excel%e5%9f%ba%e7%a4%8e%e3%80%91-14/
LOCATION:サテライト播磨\, 加古川市加古川町溝之口755\, 兵庫県\, 673-0064\, 日本
CATEGORIES:PC講座
END:VEVENT
END:VCALENDAR