BEGIN:VCALENDAR
VERSION:2.0
PRODID:-//あかしサポステ - ECPv6.2.9//NONSGML v1.0//EN
CALSCALE:GREGORIAN
METHOD:PUBLISH
X-WR-CALNAME:あかしサポステ
X-ORIGINAL-URL:https://sust-harima.org
X-WR-CALDESC:あかしサポステ のイベント
REFRESH-INTERVAL;VALUE=DURATION:PT1H
X-Robots-Tag:noindex
X-PUBLISHED-TTL:PT1H
BEGIN:VTIMEZONE
TZID:UTC
BEGIN:STANDARD
TZOFFSETFROM:+0000
TZOFFSETTO:+0000
TZNAME:UTC
DTSTART:20240101T000000
END:STANDARD
END:VTIMEZONE
BEGIN:VEVENT
DTSTART;TZID=UTC:20251024T100000
DTEND;TZID=UTC:20251024T120000
DTSTAMP:20260425T142432
CREATED:20250911T021839Z
LAST-MODIFIED:20250911T021839Z
UID:2296-1761300000-1761307200@sust-harima.org
SUMMARY:就労支援セミナー「雑談のPOWER！」
DESCRIPTION:雑談があなたの未来を変える。\n何気ない会話から新たな気づきが生まれるかもしれません。\n気軽に話すコツを学んで自分の可能性を広げよう！ \n・【日時】2025年10月24日(金)　10:00～12:00 \n・【場所】明石市立勤労福祉会館
URL:https://sust-harima.org/event/%e5%b0%b1%e5%8a%b4%e6%94%af%e6%8f%b4%e3%82%bb%e3%83%9f%e3%83%8a%e3%83%bc%e3%80%8c%e9%9b%91%e8%ab%87%e3%81%aepower%ef%bc%81%e3%80%8d/
LOCATION:明石市勤労福祉会館\, 明石市相生町２丁目７−１２\, 兵庫県\, 673-0882\, 日本
CATEGORIES:セミナー
END:VEVENT
BEGIN:VEVENT
DTSTART;TZID=UTC:20251015T140000
DTEND;TZID=UTC:20251015T160000
DTSTAMP:20260425T142432
CREATED:20250911T021906Z
LAST-MODIFIED:20250911T021906Z
UID:2289-1760536800-1760544000@sust-harima.org
SUMMARY:明石市自立就職支援セミナー「はたらく幸せ　仕事で求めるウェルビーイング」
DESCRIPTION:人が身体的・精神的・社会的に“良好な状態”であることを指す「ウェルビーイング」が注目されています。\n働く上で、人がどのようなときに幸せを感じるのか。幸福度を高める考え方、方法について学びます。 \n・【日時】2025年10月15日(水)　14:00～16:00 \n・【場所】複合型交流拠点ウィズあかし
URL:https://sust-harima.org/event/%e6%98%8e%e7%9f%b3%e5%b8%82%e8%87%aa%e7%ab%8b%e5%b0%b1%e8%81%b7%e6%94%af%e6%8f%b4%e3%82%bb%e3%83%9f%e3%83%8a%e3%83%bc%e3%80%8c%e3%81%af%e3%81%9f%e3%82%89%e3%81%8f%e5%b9%b8%e3%81%9b%e3%80%80%e4%bb%95/
LOCATION:ウィズあかし\, 明石市東仲ノ町６−１\, 兵庫県\, 673-0886\, 日本
CATEGORIES:セミナー
END:VEVENT
BEGIN:VEVENT
DTSTART;TZID=UTC:20251014T100000
DTEND;TZID=UTC:20251014T120000
DTSTAMP:20260425T142432
CREATED:20250911T021914Z
LAST-MODIFIED:20250911T021914Z
UID:2286-1760436000-1760443200@sust-harima.org
SUMMARY:高砂市就職自立支援セミナー「失敗を成長に変えるマインドセット」
DESCRIPTION:就職活動、思うようにいかず自信をなくしていませんか？\n失敗を前向きに捉える「しなやかマインドセット」を身につけることで、\n挑戦する勇気や自己効力感を高め、あなたの可能性を広げる一歩を踏み出しましょう。 \n・【日時】2025年10月14日(火)　10:00～12:00 \n・【場所】生石研修センター(高砂市)
URL:https://sust-harima.org/event/%e9%ab%98%e7%a0%82%e5%b8%82%e5%b0%b1%e8%81%b7%e8%87%aa%e7%ab%8b%e6%94%af%e6%8f%b4%e3%82%bb%e3%83%9f%e3%83%8a%e3%83%bc%e3%80%8c%e5%a4%b1%e6%95%97%e3%82%92%e6%88%90%e9%95%b7%e3%81%ab%e5%a4%89%e3%81%88/
LOCATION:生石研修センター\, 高砂市阿弥陀町生石６１−２\, 兵庫県\, 676-0823\, 日本
CATEGORIES:セミナー
END:VEVENT
BEGIN:VEVENT
DTSTART;TZID=UTC:20251010T100000
DTEND;TZID=UTC:20251010T120000
DTSTAMP:20260425T142432
CREATED:20250911T021930Z
LAST-MODIFIED:20250911T021930Z
UID:2283-1760090400-1760097600@sust-harima.org
SUMMARY:播磨町就職等自立支援セミナー「お金から考える働き方」
DESCRIPTION:「お金」を切り口に、自分の生き方や価値観を見つめ直すワークを通じて、\n自分に合った働き方を一緒に考えていきましょう。 \n・【日時】2025年10月10日(金)　10:00～12:00 \n・【場所】播磨町総合福祉センター
URL:https://sust-harima.org/event/%e6%92%ad%e7%a3%a8%e7%94%ba%e5%b0%b1%e8%81%b7%e7%ad%89%e8%87%aa%e7%ab%8b%e6%94%af%e6%8f%b4%e3%82%bb%e3%83%9f%e3%83%8a%e3%83%bc%e3%80%8c%e3%81%8a%e9%87%91%e3%81%8b%e3%82%89%e8%80%83%e3%81%88%e3%82%8b-2/
LOCATION:播磨町福祉会館\, 加古郡播磨町宮北１丁目３−５\, 兵庫県\, 675-0143\, 日本
CATEGORIES:セミナー
END:VEVENT
BEGIN:VEVENT
DTSTART;TZID=UTC:20250925T140000
DTEND;TZID=UTC:20250925T160000
DTSTAMP:20260425T142432
CREATED:20250807T044143Z
LAST-MODIFIED:20250807T044143Z
UID:2232-1758808800-1758816000@sust-harima.org
SUMMARY:明石市自立就職支援セミナー「自信がうまれる自己理解セミナー」
DESCRIPTION:自分の得意・不得意や大切にしている価値観を見つめ直すことで本来の強みが見えてきます。\n自己理解を深め、自信を持って次の一歩を踏み出すためのヒントを探しましょう。 \n・【日時】2025年9月25日(木)　14:00～16:00 \n・【場所】複合型交流拠点ウィズあかし \n \n 
URL:https://sust-harima.org/event/%e6%98%8e%e7%9f%b3%e5%b8%82%e8%87%aa%e7%ab%8b%e5%b0%b1%e8%81%b7%e6%94%af%e6%8f%b4%e3%82%bb%e3%83%9f%e3%83%8a%e3%83%bc%e3%80%8c%e8%87%aa%e4%bf%a1%e3%81%8c%e3%81%86%e3%81%be%e3%82%8c%e3%82%8b%e8%87%aa/
LOCATION:ウィズあかし\, 明石市東仲ノ町６−１\, 兵庫県\, 673-0886\, 日本
CATEGORIES:セミナー
END:VEVENT
BEGIN:VEVENT
DTSTART;TZID=UTC:20250919T140000
DTEND;TZID=UTC:20250919T160000
DTSTAMP:20260425T142432
CREATED:20250807T044119Z
LAST-MODIFIED:20250807T044119Z
UID:2226-1758290400-1758297600@sust-harima.org
SUMMARY:就職意識啓発セミナー「人生を変える習慣化のコツ」
DESCRIPTION:三日坊主、先延ばし、誘惑に負ける人、何をやっても全然続かない人は小さなことから始めて継続することが大切です。\n自分の性格にあった習慣化の方法を学びましょう。 \n・【日時】2025年9月19日(金)　14:00～16:00 \n・【場所】複合型交流拠点ウィズあかし
URL:https://sust-harima.org/event/%e5%b0%b1%e8%81%b7%e6%84%8f%e8%ad%98%e5%95%93%e7%99%ba%e3%82%bb%e3%83%9f%e3%83%8a%e3%83%bc%e3%80%8c%e4%ba%ba%e7%94%9f%e3%82%92%e5%a4%89%e3%81%88%e3%82%8b%e7%bf%92%e6%85%a3%e5%8c%96%e3%81%ae%e3%82%b3/
LOCATION:ウィズあかし\, 明石市東仲ノ町６−１\, 兵庫県\, 673-0886\, 日本
CATEGORIES:セミナー
END:VEVENT
BEGIN:VEVENT
DTSTART;TZID=UTC:20250912T100000
DTEND;TZID=UTC:20250912T120000
DTSTAMP:20260425T142432
CREATED:20250807T044107Z
LAST-MODIFIED:20250807T044107Z
UID:2222-1757671200-1757678400@sust-harima.org
SUMMARY:播磨町就職等自立支援セミナー「アサーション～自分らしく気持ちを伝えよう～」
DESCRIPTION:アサーションとは、お互いを尊重しながら自己表現するコミュニケーションスキルです。\n自分の物の見方や考え方をチェックして、自分らしい伝え方のコツをワークを通じて学びましょう。 \n・【日時】2025年9月12日(金)　10:00～12:00 \n・【場所】播磨町総合福祉センター
URL:https://sust-harima.org/event/%e6%92%ad%e7%a3%a8%e7%94%ba%e5%b0%b1%e8%81%b7%e7%ad%89%e8%87%aa%e7%ab%8b%e6%94%af%e6%8f%b4%e3%82%bb%e3%83%9f%e3%83%8a%e3%83%bc%e3%80%8c%e3%82%a2%e3%82%b5%e3%83%bc%e3%82%b7%e3%83%a7%e3%83%b3%ef%bd%9e/
LOCATION:播磨町福祉会館\, 加古郡播磨町宮北１丁目３−５\, 兵庫県\, 675-0143\, 日本
CATEGORIES:セミナー
END:VEVENT
BEGIN:VEVENT
DTSTART;TZID=UTC:20250909T100000
DTEND;TZID=UTC:20250909T120000
DTSTAMP:20260425T142432
CREATED:20250807T044054Z
LAST-MODIFIED:20250807T044054Z
UID:2218-1757412000-1757419200@sust-harima.org
SUMMARY:高砂市就職自立支援セミナー「自分らしさを伝える応募書類の書き方」
DESCRIPTION:応募したい企業が見つかったら最初に準備するのが応募書類です。\nこの講座では履歴書や職務経歴書の役割なども含め、自己PRや志望動機のポイントなどを学びます。\n就職に向けて何か始めたいという方にお勧めです。 \n・【日時】2025年9月9日(火)　10:00～12:00 \n・【場所】生石研修センター(高砂市)
URL:https://sust-harima.org/event/%e9%ab%98%e7%a0%82%e5%b8%82%e5%b0%b1%e8%81%b7%e8%87%aa%e7%ab%8b%e6%94%af%e6%8f%b4%e3%82%bb%e3%83%9f%e3%83%8a%e3%83%bc%e3%80%8c%e8%87%aa%e5%88%86%e3%82%89%e3%81%97%e3%81%95%e3%82%92%e4%bc%9d%e3%81%88/
LOCATION:生石研修センター\, 高砂市阿弥陀町生石６１−２\, 兵庫県\, 676-0823\, 日本
CATEGORIES:セミナー
END:VEVENT
BEGIN:VEVENT
DTSTART;TZID=UTC:20250820T140000
DTEND;TZID=UTC:20250820T160000
DTSTAMP:20260425T142432
CREATED:20250710T021755Z
LAST-MODIFIED:20250710T021755Z
UID:2162-1755698400-1755705600@sust-harima.org
SUMMARY:明石市自立就職支援セミナー「はじめての就活ガイド」
DESCRIPTION:就活を始めたいけれど、何から手をつけてよいかわからない…。\nそんな不安を抱える方に向けて、基本的な流れや考え方をわかりやすくお伝えします。 \n・【日時】2025年8月20日(水)　14:00～16:00 \n・【場所】ウィズあかし \n \n 
URL:https://sust-harima.org/event/%e6%98%8e%e7%9f%b3%e5%b8%82%e8%87%aa%e7%ab%8b%e5%b0%b1%e8%81%b7%e6%94%af%e6%8f%b4%e3%82%bb%e3%83%9f%e3%83%8a%e3%83%bc%e3%80%8c%e3%81%af%e3%81%98%e3%82%81%e3%81%a6%e3%81%ae%e5%b0%b1%e6%b4%bb%e3%82%ac/
LOCATION:ウィズあかし\, 明石市東仲ノ町６−１\, 兵庫県\, 673-0886\, 日本
CATEGORIES:セミナー
END:VEVENT
BEGIN:VEVENT
DTSTART;TZID=UTC:20250808T100000
DTEND;TZID=UTC:20250808T120000
DTSTAMP:20260425T142432
CREATED:20250710T021804Z
LAST-MODIFIED:20250710T021804Z
UID:2160-1754647200-1754654400@sust-harima.org
SUMMARY:播磨町就職等自立支援セミナー「気まずい雰囲気を乗り越える雑談のコツ」
DESCRIPTION:ちょっとした雑談がスムーズにできるといいなと思ったことはありませんか？\n職場で人間関係を保つには雑談力は必要不可欠です。\n話すことが苦手な方でも気まずい雰囲気とサヨナラできる雑談のコツをお伝えします。 \n・【日時】2025年8月8日(金)　10:00～12:00 \n・【場所】播磨町総合福祉センター \n \n 
URL:https://sust-harima.org/event/%e6%92%ad%e7%a3%a8%e7%94%ba%e5%b0%b1%e8%81%b7%e7%ad%89%e8%87%aa%e7%ab%8b%e6%94%af%e6%8f%b4%e3%82%bb%e3%83%9f%e3%83%8a%e3%83%bc%e3%80%8c%e6%b0%97%e3%81%be%e3%81%9a%e3%81%84%e9%9b%b0%e5%9b%b2%e6%b0%97/
LOCATION:播磨町福祉会館\, 加古郡播磨町宮北１丁目３−５\, 兵庫県\, 675-0143\, 日本
CATEGORIES:セミナー
END:VEVENT
BEGIN:VEVENT
DTSTART;TZID=UTC:20250726T140000
DTEND;TZID=UTC:20250726T160000
DTSTAMP:20260425T142432
CREATED:20250610T011930Z
LAST-MODIFIED:20250610T011930Z
UID:2110-1753538400-1753545600@sust-harima.org
SUMMARY:明石市自立就職支援セミナー「働いていない子を持つ親のためのセミナー」
DESCRIPTION:子どもの不就労に悩む親同士が語り合い、気持ちを共有することで心を軽くするセミナーです。\n親自身が前向きになることで子の変化を促すきっかけを作ります。 \n・【日時】2025年7月26日(土)　14:00～16:00 \n・【場所】ウィズあかし
URL:https://sust-harima.org/event/%e6%98%8e%e7%9f%b3%e5%b8%82%e8%87%aa%e7%ab%8b%e5%b0%b1%e8%81%b7%e6%94%af%e6%8f%b4%e3%82%bb%e3%83%9f%e3%83%8a%e3%83%bc%e3%80%8c%e5%83%8d%e3%81%84%e3%81%a6%e3%81%84%e3%81%aa%e3%81%84%e5%ad%90%e3%82%92/
LOCATION:ウィズあかし\, 明石市東仲ノ町６−１\, 兵庫県\, 673-0886\, 日本
CATEGORIES:セミナー
END:VEVENT
BEGIN:VEVENT
DTSTART;TZID=UTC:20250711T100000
DTEND;TZID=UTC:20250711T120000
DTSTAMP:20260425T142432
CREATED:20250610T012024Z
LAST-MODIFIED:20250610T012024Z
UID:2100-1752228000-1752235200@sust-harima.org
SUMMARY:播磨町就職等自立支援セミナー「才能発見ワーク～あなただけの才能を見つけよう～」
DESCRIPTION:いくつかの質問に答えることで「あなただけの才能」を発見していきます。\n自己理解を深め、「あなただけに合った働く場所」のヒントを一緒に探してみませんか？ \n・【日時】2025年7月11日(金)　10:00～12:00 \n・【場所】播磨町総合福祉センター \n \n 
URL:https://sust-harima.org/event/%e6%92%ad%e7%a3%a8%e7%94%ba%e5%b0%b1%e8%81%b7%e7%ad%89%e8%87%aa%e7%ab%8b%e6%94%af%e6%8f%b4%e3%82%bb%e3%83%9f%e3%83%8a%e3%83%bc%e3%80%8c%e6%89%8d%e8%83%bd%e7%99%ba%e8%a6%8b%e3%83%af%e3%83%bc%e3%82%af/
LOCATION:播磨町福祉会館\, 加古郡播磨町宮北１丁目３−５\, 兵庫県\, 675-0143\, 日本
CATEGORIES:セミナー
END:VEVENT
BEGIN:VEVENT
DTSTART;TZID=UTC:20250708T100000
DTEND;TZID=UTC:20250708T120000
DTSTAMP:20260425T142432
CREATED:20250610T012037Z
LAST-MODIFIED:20250610T012037Z
UID:2096-1751968800-1751976000@sust-harima.org
SUMMARY:高砂市就職自立支援セミナー「印象アップ！社会人マナー講座」
DESCRIPTION:挨拶、身だしなみ、報連相、電話応対など、社会人として必要なマナーを基礎から学び、\n就活だけでなく就職後にも役立つビジネスマナーを身につけます。 \n・【日時】2025年7月8日(火)　10:00～12:00 \n・【場所】生石研修センター(高砂市)
URL:https://sust-harima.org/event/%e9%ab%98%e7%a0%82%e5%b8%82%e5%b0%b1%e8%81%b7%e8%87%aa%e7%ab%8b%e6%94%af%e6%8f%b4%e3%82%bb%e3%83%9f%e3%83%8a%e3%83%bc%e3%80%8c%e5%8d%b0%e8%b1%a1%e3%82%a2%e3%83%83%e3%83%97%ef%bc%81%e7%a4%be%e4%bc%9a/
LOCATION:生石研修センター\, 高砂市阿弥陀町生石６１−２\, 兵庫県\, 676-0823\, 日本
CATEGORIES:セミナー
END:VEVENT
BEGIN:VEVENT
DTSTART;TZID=UTC:20250610T100000
DTEND;TZID=UTC:20250610T120000
DTSTAMP:20260425T142432
CREATED:20250512T024037Z
LAST-MODIFIED:20250512T024039Z
UID:2059-1749549600-1749556800@sust-harima.org
SUMMARY:高砂市就職自立支援セミナー「これからの“キャリア”の話をしよう～未来を切り拓くあなたのキャリアデザイン～」
DESCRIPTION:キャリア理論、プラン例、ワークを通じて、新しいキャリアの作り方を学び、\n将来の自分のなりたい姿を実現するには何が大切か考えていきます。 \n・【日時】2025年6月10日(火)　10:00～12:00 \n・【場所】生石研修センター(高砂市)
URL:https://sust-harima.org/event/%e9%ab%98%e7%a0%82%e5%b8%82%e5%b0%b1%e8%81%b7%e8%87%aa%e7%ab%8b%e6%94%af%e6%8f%b4%e3%82%bb%e3%83%9f%e3%83%8a%e3%83%bc%e3%80%8c%e3%81%93%e3%82%8c%e3%81%8b%e3%82%89%e3%81%ae%e3%82%ad%e3%83%a3/
LOCATION:生石研修センター\, 高砂市阿弥陀町生石６１−２\, 兵庫県\, 676-0823\, 日本
CATEGORIES:セミナー
END:VEVENT
BEGIN:VEVENT
DTSTART;TZID=UTC:20250311T100000
DTEND;TZID=UTC:20250311T120000
DTSTAMP:20260425T142432
CREATED:20250210T034748Z
LAST-MODIFIED:20250210T034748Z
UID:1961-1741687200-1741694400@sust-harima.org
SUMMARY:高砂市就職自立支援セミナー「働き続けるためのメンタルヘルス」
DESCRIPTION:ストレスなく働き続けるのは難しい…。\nだからこそ自分に合った「ストレス対処法」やストレスを生みやすい「思考のクセ」などについて学び、\nワークを通じてストレスとうまく付き合う方法を学びましょう。 \n・【日時】2025年3月11日(火)　10:00～12:00 \n・【場所】生石研修センター(高砂市)
URL:https://sust-harima.org/event/%e9%ab%98%e7%a0%82%e5%b8%82%e5%b0%b1%e8%81%b7%e8%87%aa%e7%ab%8b%e6%94%af%e6%8f%b4%e3%82%bb%e3%83%9f%e3%83%8a%e3%83%bc%e3%80%8c%e5%83%8d%e3%81%8d%e7%b6%9a%e3%81%91%e3%82%8b%e3%81%9f%e3%82%81%e3%81%ae/
LOCATION:生石研修センター\, 高砂市阿弥陀町生石６１−２\, 兵庫県\, 676-0823\, 日本
CATEGORIES:セミナー
END:VEVENT
BEGIN:VEVENT
DTSTART;TZID=UTC:20250225T100000
DTEND;TZID=UTC:20250225T120000
DTSTAMP:20260425T142432
CREATED:20250114T021436Z
LAST-MODIFIED:20250114T021436Z
UID:1941-1740477600-1740484800@sust-harima.org
SUMMARY:高砂市就職自立支援セミナー「気まずい雰囲気を乗り越える雑談のコツ」
DESCRIPTION:ちょっとした雑談がスムーズにできるといいなと思ったことはありませんか？\n仕事生活を送るうえで雑談は必要不可欠です。\n話すことが苦手な方でも気まずい雰囲気とサヨナラできる雑談のコツをお伝えします。 \n・【日時】2025年2月25日(火)　10:00～12:00 \n・【場所】生石研修センター(高砂市)
URL:https://sust-harima.org/event/%e9%ab%98%e7%a0%82%e5%b8%82%e5%b0%b1%e8%81%b7%e8%87%aa%e7%ab%8b%e6%94%af%e6%8f%b4%e3%82%bb%e3%83%9f%e3%83%8a%e3%83%bc%e3%80%8c%e6%b0%97%e3%81%be%e3%81%9a%e3%81%84%e9%9b%b0%e5%9b%b2%e6%b0%97%e3%82%92/
LOCATION:生石研修センター\, 高砂市阿弥陀町生石６１−２\, 兵庫県\, 676-0823\, 日本
CATEGORIES:セミナー
END:VEVENT
BEGIN:VEVENT
DTSTART;TZID=UTC:20250215T100000
DTEND;TZID=UTC:20250215T120000
DTSTAMP:20260425T142432
CREATED:20250114T021418Z
LAST-MODIFIED:20250114T021418Z
UID:1935-1739613600-1739620800@sust-harima.org
SUMMARY:播磨町就職等自立支援セミナー「家族支援セミナー～子の自立に向けて家族だからできること～」
DESCRIPTION:働けない理由はさまざまですが、一歩を踏み出すきっかけは家族のかかわりがとても大切です。\n同じ悩みを持つ参加者同士で語らいながら、家族だからできることを一緒に考えるセミナーです。 \n・【日時】2025年2月15日(土)　10:00～12:00 \n・【場所】播磨町福祉会館
URL:https://sust-harima.org/event/%e6%92%ad%e7%a3%a8%e7%94%ba%e5%b0%b1%e8%81%b7%e7%ad%89%e8%87%aa%e7%ab%8b%e6%94%af%e6%8f%b4%e3%82%bb%e3%83%9f%e3%83%8a%e3%83%bc%e3%80%8c%e5%ae%b6%e6%97%8f%e6%94%af%e6%8f%b4%e3%82%bb%e3%83%9f%e3%83%8a/
LOCATION:播磨町福祉会館\, 加古郡播磨町宮北１丁目３−５\, 兵庫県\, 675-0143\, 日本
CATEGORIES:セミナー
END:VEVENT
BEGIN:VEVENT
DTSTART;TZID=UTC:20250114T100000
DTEND;TZID=UTC:20250114T120000
DTSTAMP:20260425T142432
CREATED:20241209T033912Z
LAST-MODIFIED:20241209T033912Z
UID:1888-1736848800-1736856000@sust-harima.org
SUMMARY:高砂市就職自立支援セミナー「才能発見ワーク～あなただけの才能を見つけよう～」
DESCRIPTION:いくつかの質問に答えることで「あなただけの才能」を発見していきます。\n自己理解を深め、「あなたに合った働く場所」のヒントを一緒に探してみませんか？ \n・【日時】2025年1月14日(火)　10:00～12:00 \n・【場所】生石研修センター(高砂市)
URL:https://sust-harima.org/event/%e9%ab%98%e7%a0%82%e5%b8%82%e5%b0%b1%e8%81%b7%e8%87%aa%e7%ab%8b%e6%94%af%e6%8f%b4%e3%82%bb%e3%83%9f%e3%83%8a%e3%83%bc%e3%80%8c%e6%89%8d%e8%83%bd%e7%99%ba%e8%a6%8b%e3%83%af%e3%83%bc%e3%82%af%ef%bd%9e/
LOCATION:生石研修センター\, 高砂市阿弥陀町生石６１−２\, 兵庫県\, 676-0823\, 日本
CATEGORIES:セミナー
END:VEVENT
BEGIN:VEVENT
DTSTART;TZID=UTC:20250110T100000
DTEND;TZID=UTC:20250110T120000
DTSTAMP:20260425T142432
CREATED:20241209T033920Z
LAST-MODIFIED:20241209T033920Z
UID:1885-1736503200-1736510400@sust-harima.org
SUMMARY:播磨町就職等自立支援セミナー「人生を変える習慣化のコツ～小さなことからコツコツと～」
DESCRIPTION:三日坊主、先延ばし、誘惑に負ける…何をやっても全然続かない。\n習慣化で人生を変えたいあなた、小さなことから始めて継続することが大切です。\n自分にあった習慣化の方法を一緒に学びましょう。 \n・【日時】2025年1月10日(金)　10:00～12:00 \n・【場所】播磨町福祉会館
URL:https://sust-harima.org/event/%e6%92%ad%e7%a3%a8%e7%94%ba%e5%b0%b1%e8%81%b7%e7%ad%89%e8%87%aa%e7%ab%8b%e6%94%af%e6%8f%b4%e3%82%bb%e3%83%9f%e3%83%8a%e3%83%bc%e3%80%8c%e4%ba%ba%e7%94%9f%e3%82%92%e5%a4%89%e3%81%88%e3%82%8b%e7%bf%92/
LOCATION:播磨町福祉会館\, 加古郡播磨町宮北１丁目３−５\, 兵庫県\, 675-0143\, 日本
CATEGORIES:セミナー
END:VEVENT
BEGIN:VEVENT
DTSTART;TZID=UTC:20241218T140000
DTEND;TZID=UTC:20241218T160000
DTSTAMP:20260425T142432
CREATED:20241111T020040Z
LAST-MODIFIED:20241111T020040Z
UID:1854-1734530400-1734537600@sust-harima.org
SUMMARY:就職氷河期活躍支援セミナー「面接が苦手な人のための面接対策セミナー」
DESCRIPTION:面接への苦手意識を軽減させるには、事前準備と練習が大切です。\nこのセミナーでは、前向きな気持ちで面接本番にのぞめるようになる面接のコツをお伝えします。 \n  \n・【日時】2024年12月18日(水)　14:00～16:00 \n・【場所】複合型交流拠点ウィズあかし \nチラシのダウンロード
URL:https://sust-harima.org/event/%e5%b0%b1%e8%81%b7%e6%b0%b7%e6%b2%b3%e6%9c%9f%e6%b4%bb%e8%ba%8d%e6%94%af%e6%8f%b4%e3%82%bb%e3%83%9f%e3%83%8a%e3%83%bc%e3%80%8c%e9%9d%a2%e6%8e%a5%e3%81%8c%e8%8b%a6%e6%89%8b%e3%81%aa%e4%ba%ba%e3%81%ae/
LOCATION:ウィズあかし\, 明石市東仲ノ町６−１\, 兵庫県\, 673-0886\, 日本
CATEGORIES:セミナー
END:VEVENT
BEGIN:VEVENT
DTSTART;TZID=UTC:20241213T100000
DTEND;TZID=UTC:20241213T120000
DTSTAMP:20260425T142432
CREATED:20241111T020026Z
LAST-MODIFIED:20241111T020026Z
UID:1850-1734084000-1734091200@sust-harima.org
SUMMARY:播磨町就職等自立支援セミナー「印象アップ！社会人マナー講座」
DESCRIPTION:挨拶、身だしなみ、報連相、電話応対など、社会人として必要なマナーを基礎から学び、\n就活だけでなく就職後にも役立つビジネスマナーを身につけます。 \n・【日時】2024年12月13日(金)　10:00～12:00 \n・【場所】播磨町福祉会館 \nチラシのダウンロード
URL:https://sust-harima.org/event/%e6%92%ad%e7%a3%a8%e7%94%ba%e5%b0%b1%e8%81%b7%e7%ad%89%e8%87%aa%e7%ab%8b%e6%94%af%e6%8f%b4%e3%82%bb%e3%83%9f%e3%83%8a%e3%83%bc%e3%80%8c%e5%8d%b0%e8%b1%a1%e3%82%a2%e3%83%83%e3%83%97%ef%bc%81%e7%a4%be/
LOCATION:播磨町福祉会館\, 加古郡播磨町宮北１丁目３−５\, 兵庫県\, 675-0143\, 日本
CATEGORIES:セミナー
END:VEVENT
BEGIN:VEVENT
DTSTART;TZID=UTC:20241210T100000
DTEND;TZID=UTC:20241210T120000
DTSTAMP:20260425T142432
CREATED:20241111T020001Z
LAST-MODIFIED:20241111T020001Z
UID:1848-1733824800-1733832000@sust-harima.org
SUMMARY:高砂市就職自立支援セミナー「科学的なモチベーションアップ術」
DESCRIPTION:やる気が続かない、低下してきた気がするな～。\n根性に頼らず、科学的にモチベーションアップする方法を学んで、毎日楽しく過ごすことを考えましょう。 \n・【日時】2024年12月10日(火)　10:00～12:00 \n・【場所】生石研修センター(高砂市) \nチラシのダウンロード
URL:https://sust-harima.org/event/%e9%ab%98%e7%a0%82%e5%b8%82%e5%b0%b1%e8%81%b7%e8%87%aa%e7%ab%8b%e6%94%af%e6%8f%b4%e3%82%bb%e3%83%9f%e3%83%8a%e3%83%bc%e3%80%8c%e7%a7%91%e5%ad%a6%e7%9a%84%e3%81%aa%e3%83%a2%e3%83%81%e3%83%99%e3%83%bc/
LOCATION:生石研修センター\, 高砂市阿弥陀町生石６１−２\, 兵庫県\, 676-0823\, 日本
CATEGORIES:セミナー
END:VEVENT
BEGIN:VEVENT
DTSTART;TZID=UTC:20241122T140000
DTEND;TZID=UTC:20241122T160000
DTSTAMP:20260425T142432
CREATED:20241011T022612Z
LAST-MODIFIED:20241011T022612Z
UID:1806-1732284000-1732291200@sust-harima.org
SUMMARY:就職支援セミナー「科学的なモチベーションアップ術」
DESCRIPTION:やる気が続かない、低下してきた気がするな～。\n根性に頼らず、科学的にモチベーションアップする方法を学んで毎日楽しく過ごすことを考えましょう。 \n  \n・【日時】2024年11月22日(金)　14:00～16:00 \n・【場所】明石市勤労福祉会館 \nチラシのダウンロード
URL:https://sust-harima.org/event/%e5%b0%b1%e8%81%b7%e6%94%af%e6%8f%b4%e3%82%bb%e3%83%9f%e3%83%8a%e3%83%bc%e3%80%8c%e7%a7%91%e5%ad%a6%e7%9a%84%e3%81%aa%e3%83%a2%e3%83%81%e3%83%99%e3%83%bc%e3%82%b7%e3%83%a7%e3%83%b3%e3%82%a2%e3%83%83/
LOCATION:明石市勤労福祉会館\, 明石市相生町２丁目７−１２\, 兵庫県\, 673-0882\, 日本
END:VEVENT
BEGIN:VEVENT
DTSTART;TZID=UTC:20241112T100000
DTEND;TZID=UTC:20241112T120000
DTSTAMP:20260425T142432
CREATED:20241011T022522Z
LAST-MODIFIED:20241011T022522Z
UID:1797-1731405600-1731412800@sust-harima.org
SUMMARY:高砂市就職自立支援セミナー「アサーション～自分らしく気持ちを伝えよう～」
DESCRIPTION:アサーションとは、お互いを尊重しながら自己表現するコミュニケーションスキルです。\n自分の物の見方や考え方をチェックして、ワークを通じ、自分らしい伝え方のコツを学びましょう。 \n・【日時】2024年11月12日(火)　10:00～12:00 \n・【場所】生石研修センター(高砂市) \nチラシのダウンロード
URL:https://sust-harima.org/event/%e9%ab%98%e7%a0%82%e5%b8%82%e5%b0%b1%e8%81%b7%e8%87%aa%e7%ab%8b%e6%94%af%e6%8f%b4%e3%82%bb%e3%83%9f%e3%83%8a%e3%83%bc%e3%80%8c%e3%82%a2%e3%82%b5%e3%83%bc%e3%82%b7%e3%83%a7%e3%83%b3%ef%bd%9e%e8%87%aa/
LOCATION:生石研修センター\, 高砂市阿弥陀町生石６１−２\, 兵庫県\, 676-0823\, 日本
END:VEVENT
BEGIN:VEVENT
DTSTART;TZID=UTC:20241108T100000
DTEND;TZID=UTC:20241108T120000
DTSTAMP:20260425T142432
CREATED:20241011T022426Z
LAST-MODIFIED:20241011T022426Z
UID:1793-1731060000-1731067200@sust-harima.org
SUMMARY:播磨町就職等自立支援セミナー「お金から考える働き方」
DESCRIPTION:「お金」を切り口に、自分の生き方や価値観を見つめ直すワークを通じて、\n自分に合った働き方を一緒に考えていきましょう。 \n・【日時】2024年11月8日(金)　10:00～12:00 \n・【場所】播磨町福祉会館 \nチラシのダウンロード
URL:https://sust-harima.org/event/%e6%92%ad%e7%a3%a8%e7%94%ba%e5%b0%b1%e8%81%b7%e7%ad%89%e8%87%aa%e7%ab%8b%e6%94%af%e6%8f%b4%e3%82%bb%e3%83%9f%e3%83%8a%e3%83%bc%e3%80%8c%e3%81%8a%e9%87%91%e3%81%8b%e3%82%89%e8%80%83%e3%81%88%e3%82%8b/
LOCATION:播磨町福祉会館\, 加古郡播磨町宮北１丁目３−５\, 兵庫県\, 675-0143\, 日本
END:VEVENT
BEGIN:VEVENT
DTSTART;TZID=UTC:20241026T140000
DTEND;TZID=UTC:20241026T160000
DTSTAMP:20260425T142432
CREATED:20240911T043220Z
LAST-MODIFIED:20240911T043220Z
UID:1732-1729951200-1729958400@sust-harima.org
SUMMARY:自立就職支援セミナー「つまずきは、人生へのプレゼント」
DESCRIPTION:誰でもつまずく事はある。つまずくのは誰しも避けたい。\nしかし、そのつまずきを宝物とすることができるならどうだろうか？\nつまずきから学び、それを自身の人生へのプレゼントにしよう！ \n  \n・【日時】2024年10月26日(土)　14:00～16:00 \n・【場所】複合型交流拠点ウィズあかし \nチラシのダウンロード
URL:https://sust-harima.org/event/%e8%87%aa%e7%ab%8b%e5%b0%b1%e8%81%b7%e6%94%af%e6%8f%b4%e3%82%bb%e3%83%9f%e3%83%8a%e3%83%bc%e3%80%8c%e3%81%a4%e3%81%be%e3%81%9a%e3%81%8d%e3%81%af%e3%80%81%e4%ba%ba%e7%94%9f%e3%81%b8%e3%81%ae%e3%83%97/
LOCATION:ウィズあかし\, 明石市東仲ノ町６−１\, 兵庫県\, 673-0886\, 日本
CATEGORIES:セミナー
END:VEVENT
BEGIN:VEVENT
DTSTART;TZID=UTC:20241016T140000
DTEND;TZID=UTC:20241016T160000
DTSTAMP:20260425T142432
CREATED:20240911T043300Z
LAST-MODIFIED:20240911T043300Z
UID:1722-1729087200-1729094400@sust-harima.org
SUMMARY:就職氷河期活躍支援セミナー「やさしい自己理解セミナー」
DESCRIPTION:就職活動の第一歩は自己理解から！\nグループワークを通じて自分の性格や価値観を知り、自分に合った働き方を見つけます。 \n  \n・【日時】2024年10月16日(水)　14:00～16:00 \n・【場所】複合型交流拠点ウィズあかし \nチラシのダウンロード
URL:https://sust-harima.org/event/%e5%b0%b1%e8%81%b7%e6%b0%b7%e6%b2%b3%e6%9c%9f%e6%b4%bb%e8%ba%8d%e6%94%af%e6%8f%b4%e3%82%bb%e3%83%9f%e3%83%8a%e3%83%bc%e3%80%8c%e3%82%84%e3%81%95%e3%81%97%e3%81%84%e8%87%aa%e5%b7%b1%e7%90%86%e8%a7%a3/
LOCATION:ウィズあかし\, 明石市東仲ノ町６−１\, 兵庫県\, 673-0886\, 日本
CATEGORIES:セミナー
END:VEVENT
BEGIN:VEVENT
DTSTART;TZID=UTC:20241012T130000
DTEND;TZID=UTC:20241012T150000
DTSTAMP:20260425T142432
CREATED:20240911T043308Z
LAST-MODIFIED:20240911T043308Z
UID:1719-1728738000-1728745200@sust-harima.org
SUMMARY:高砂市就職自立支援セミナー「子の不就労を考える家族支援セミナー」
DESCRIPTION:わが子の就労に悩んでいる家族同士で語り合いながら、\n親としてできることは何かについて考えましょう。 \n・【日時】2024年10月12日(土)　13:00～15:00 \n・【場所】生石研修センター(高砂市) \nチラシのダウンロード
URL:https://sust-harima.org/event/%e9%ab%98%e7%a0%82%e5%b8%82%e5%b0%b1%e8%81%b7%e8%87%aa%e7%ab%8b%e6%94%af%e6%8f%b4%e3%82%bb%e3%83%9f%e3%83%8a%e3%83%bc%e3%80%8c%e5%ad%90%e3%81%ae%e4%b8%8d%e5%b0%b1%e5%8a%b4%e3%82%92%e8%80%83%e3%81%88/
LOCATION:生石研修センター\, 高砂市阿弥陀町生石６１−２\, 兵庫県\, 676-0823\, 日本
CATEGORIES:セミナー
END:VEVENT
BEGIN:VEVENT
DTSTART;TZID=UTC:20241011T100000
DTEND;TZID=UTC:20241011T120000
DTSTAMP:20260425T142432
CREATED:20240911T043316Z
LAST-MODIFIED:20240911T043316Z
UID:1713-1728640800-1728648000@sust-harima.org
SUMMARY:播磨町就職等自立支援セミナー「自分らしさ発見プログラム」
DESCRIPTION:物事のとらえ方や視点を変えることで、\nあなたが短所だと思っていることも長所に変えることができます。\n他の参加者と一緒に新たな「自分らしさ」を発見しましょう。 \n・【日時】2024年10月11日(金)　10:00～12:00 \n・【場所】播磨町福祉会館 \nチラシのダウンロード
URL:https://sust-harima.org/event/%e6%92%ad%e7%a3%a8%e7%94%ba%e5%b0%b1%e8%81%b7%e7%ad%89%e8%87%aa%e7%ab%8b%e6%94%af%e6%8f%b4%e3%82%bb%e3%83%9f%e3%83%8a%e3%83%bc%e3%80%8c%e8%87%aa%e5%88%86%e3%82%89%e3%81%97%e3%81%95%e7%99%ba%e8%a6%8b/
LOCATION:播磨町福祉会館\, 加古郡播磨町宮北１丁目３−５\, 兵庫県\, 675-0143\, 日本
CATEGORIES:セミナー
END:VEVENT
BEGIN:VEVENT
DTSTART;TZID=UTC:20240918T140000
DTEND;TZID=UTC:20240918T160000
DTSTAMP:20260425T142432
CREATED:20240808T053100Z
LAST-MODIFIED:20240819T041737Z
UID:1648-1726668000-1726675200@sust-harima.org
SUMMARY:就職氷河期活躍支援セミナー「これからの“キャリア”の話をしよう」
DESCRIPTION:キャリア理論、ワーク、例えを通じて、新しいキャリアの作り方を学び、\n将来の自分のなりたい姿を実現するには何が大切かについて考えます。 \n  \n・【日時】2024年9月18日(水)　14:00～16:00 \n・【場所】複合型交流拠点ウィズあかし \n \nチラシのダウンロード
URL:https://sust-harima.org/event/%e5%b0%b1%e8%81%b7%e6%b0%b7%e6%b2%b3%e6%9c%9f%e6%b4%bb%e8%ba%8d%e6%94%af%e6%8f%b4%e3%82%bb%e3%83%9f%e3%83%8a%e3%83%bc%e3%80%8c%e3%81%93%e3%82%8c%e3%81%8b%e3%82%89%e3%81%ae%e3%82%ad%e3%83%a3/
LOCATION:ウィズあかし\, 明石市東仲ノ町６−１\, 兵庫県\, 673-0886\, 日本
CATEGORIES:セミナー
END:VEVENT
END:VCALENDAR