BEGIN:VCALENDAR
VERSION:2.0
PRODID:-//あかしサポステ - ECPv6.2.9//NONSGML v1.0//EN
CALSCALE:GREGORIAN
METHOD:PUBLISH
X-WR-CALNAME:あかしサポステ
X-ORIGINAL-URL:https://sust-harima.org
X-WR-CALDESC:あかしサポステ のイベント
REFRESH-INTERVAL;VALUE=DURATION:PT1H
X-Robots-Tag:noindex
X-PUBLISHED-TTL:PT1H
BEGIN:VTIMEZONE
TZID:UTC
BEGIN:STANDARD
TZOFFSETFROM:+0000
TZOFFSETTO:+0000
TZNAME:UTC
DTSTART:20250101T000000
END:STANDARD
END:VTIMEZONE
BEGIN:VEVENT
DTSTART;TZID=UTC:20250610T100000
DTEND;TZID=UTC:20250610T120000
DTSTAMP:20260425T105822
CREATED:20250512T024037Z
LAST-MODIFIED:20250512T024039Z
UID:2059-1749549600-1749556800@sust-harima.org
SUMMARY:高砂市就職自立支援セミナー「これからの“キャリア”の話をしよう～未来を切り拓くあなたのキャリアデザイン～」
DESCRIPTION:キャリア理論、プラン例、ワークを通じて、新しいキャリアの作り方を学び、\n将来の自分のなりたい姿を実現するには何が大切か考えていきます。 \n・【日時】2025年6月10日(火)　10:00～12:00 \n・【場所】生石研修センター(高砂市)
URL:https://sust-harima.org/event/%e9%ab%98%e7%a0%82%e5%b8%82%e5%b0%b1%e8%81%b7%e8%87%aa%e7%ab%8b%e6%94%af%e6%8f%b4%e3%82%bb%e3%83%9f%e3%83%8a%e3%83%bc%e3%80%8c%e3%81%93%e3%82%8c%e3%81%8b%e3%82%89%e3%81%ae%e3%82%ad%e3%83%a3/
LOCATION:生石研修センター\, 高砂市阿弥陀町生石６１−２\, 兵庫県\, 676-0823\, 日本
CATEGORIES:セミナー
END:VEVENT
END:VCALENDAR