BEGIN:VCALENDAR
VERSION:2.0
PRODID:-//あかしサポステ - ECPv6.2.9//NONSGML v1.0//EN
CALSCALE:GREGORIAN
METHOD:PUBLISH
X-WR-CALNAME:あかしサポステ
X-ORIGINAL-URL:https://sust-harima.org
X-WR-CALDESC:あかしサポステ のイベント
REFRESH-INTERVAL;VALUE=DURATION:PT1H
X-Robots-Tag:noindex
X-PUBLISHED-TTL:PT1H
BEGIN:VTIMEZONE
TZID:UTC
BEGIN:STANDARD
TZOFFSETFROM:+0000
TZOFFSETTO:+0000
TZNAME:UTC
DTSTART:20250101T000000
END:STANDARD
END:VTIMEZONE
BEGIN:VEVENT
DTSTART;TZID=UTC:20251212T100000
DTEND;TZID=UTC:20251212T120000
DTSTAMP:20260425T003610
CREATED:20251110T023747Z
LAST-MODIFIED:20251110T023747Z
UID:2442-1765533600-1765540800@sust-harima.org
SUMMARY:播磨町就職等自立支援セミナー「レジリエンス～しなやかに立ち直る力～」
DESCRIPTION:「心の回復力」であるレジリエンスを高めておけば、困難な状況でも乗り越えて成長することができます。\nレジリエンスについて知り、折れないしなやかな心を持つコツを学びましょう。 \n・【日時】2025年12月12日(金)　10:00～12:00 \n・【場所】播磨町総合福祉センター
URL:https://sust-harima.org/event/%e6%92%ad%e7%a3%a8%e7%94%ba%e5%b0%b1%e8%81%b7%e7%ad%89%e8%87%aa%e7%ab%8b%e6%94%af%e6%8f%b4%e3%82%bb%e3%83%9f%e3%83%8a%e3%83%bc%e3%80%8c%e3%83%ac%e3%82%b8%e3%83%aa%e3%82%a8%e3%83%b3%e3%82%b9%ef%bd%9e-2/
LOCATION:播磨町福祉会館\, 加古郡播磨町宮北１丁目３−５\, 兵庫県\, 675-0143\, 日本
CATEGORIES:セミナー
END:VEVENT
BEGIN:VEVENT
DTSTART;TZID=UTC:20251213T100000
DTEND;TZID=UTC:20251213T120000
DTSTAMP:20260425T003610
CREATED:20251110T023721Z
LAST-MODIFIED:20251110T023721Z
UID:2444-1765620000-1765627200@sust-harima.org
SUMMARY:高砂市就職自立支援セミナー「働いていない子を持つ親のためのセミナー」
DESCRIPTION:子供の不就労に悩む親同士が語り合い、気持ちを共有することで心を軽くするセミナーです。\n日常の過ごし方や関わり方などを学び、親自身が前向きになることで子の変化を促すきっかけを作ります。 \n・【日時】2025年12月13日(土)　10:00～12:00　個別相談12:00～12:45 \n・【場所】生石研修センター(高砂市)
URL:https://sust-harima.org/event/%e9%ab%98%e7%a0%82%e5%b8%82%e5%b0%b1%e8%81%b7%e8%87%aa%e7%ab%8b%e6%94%af%e6%8f%b4%e3%82%bb%e3%83%9f%e3%83%8a%e3%83%bc%e3%80%8c%e5%83%8d%e3%81%84%e3%81%a6%e3%81%84%e3%81%aa%e3%81%84%e5%ad%90%e3%82%92/
LOCATION:生石研修センター\, 高砂市阿弥陀町生石６１−２\, 兵庫県\, 676-0823\, 日本
CATEGORIES:セミナー
END:VEVENT
BEGIN:VEVENT
DTSTART;TZID=UTC:20251217T140000
DTEND;TZID=UTC:20251217T160000
DTSTAMP:20260425T003610
CREATED:20251110T023622Z
LAST-MODIFIED:20251110T023622Z
UID:2449-1765980000-1765987200@sust-harima.org
SUMMARY:明石市自立就職支援セミナー「自分らしく伝えるための面接対策」
DESCRIPTION:面接では「うまく話すこと」よりも「自分らしく伝えること」が大切です。\nこのセミナーでは、自分の想いや強みを整理し、自信をもって面接に臨むコツを学びます。 \n・【日時】2025年12月17日(水)　14:00～16:00 \n・【場所】複合型交流拠点ウィズあかし
URL:https://sust-harima.org/event/%e6%98%8e%e7%9f%b3%e5%b8%82%e8%87%aa%e7%ab%8b%e5%b0%b1%e8%81%b7%e6%94%af%e6%8f%b4%e3%82%bb%e3%83%9f%e3%83%8a%e3%83%bc%e3%80%8c%e8%87%aa%e5%88%86%e3%82%89%e3%81%97%e3%81%8f%e4%bc%9d%e3%81%88%e3%82%8b/
LOCATION:ウィズあかし\, 明石市東仲ノ町６−１\, 兵庫県\, 673-0886\, 日本
CATEGORIES:セミナー
END:VEVENT
END:VCALENDAR