BEGIN:VCALENDAR
VERSION:2.0
PRODID:-//あかしサポステ - ECPv6.2.9//NONSGML v1.0//EN
CALSCALE:GREGORIAN
METHOD:PUBLISH
X-ORIGINAL-URL:https://sust-harima.org
X-WR-CALDESC:あかしサポステ のイベント
REFRESH-INTERVAL;VALUE=DURATION:PT1H
X-Robots-Tag:noindex
X-PUBLISHED-TTL:PT1H
BEGIN:VTIMEZONE
TZID:UTC
BEGIN:STANDARD
TZOFFSETFROM:+0000
TZOFFSETTO:+0000
TZNAME:UTC
DTSTART:20260101T000000
END:STANDARD
END:VTIMEZONE
BEGIN:VEVENT
DTSTART;TZID=UTC:20260109T100000
DTEND;TZID=UTC:20260109T120000
DTSTAMP:20260424T225353
CREATED:20251211T043620Z
LAST-MODIFIED:20251211T043620Z
UID:2505-1767952800-1767960000@sust-harima.org
SUMMARY:播磨町就職等自立支援セミナー「自己肯定感～自分らしい一歩をふみだそう～」
DESCRIPTION:「自己肯定感」とはありのままの自分を肯定し、自分が価値ある存在と認識することです。\n自分を受け入れイキイキとした就労への第一歩を一緒に踏み出しましょう。 \n・【日時】2026年1月9日(金)　10:00～12:00 \n・【場所】播磨町総合福祉センター
URL:https://sust-harima.org/event/%e6%92%ad%e7%a3%a8%e7%94%ba%e5%b0%b1%e8%81%b7%e7%ad%89%e8%87%aa%e7%ab%8b%e6%94%af%e6%8f%b4%e3%82%bb%e3%83%9f%e3%83%8a%e3%83%bc%e3%80%8c%e8%87%aa%e5%b7%b1%e8%82%af%e5%ae%9a%e6%84%9f%ef%bd%9e%e8%87%aa/
LOCATION:播磨町福祉会館\, 加古郡播磨町宮北１丁目３−５\, 兵庫県\, 675-0143\, 日本
CATEGORIES:セミナー
END:VEVENT
BEGIN:VEVENT
DTSTART;TZID=UTC:20260113T100000
DTEND;TZID=UTC:20260113T120000
DTSTAMP:20260424T225353
CREATED:20251211T043611Z
LAST-MODIFIED:20251211T043611Z
UID:2508-1768298400-1768305600@sust-harima.org
SUMMARY:高砂市就職自立支援セミナー「才能発見ワーク～あなただけの才能を見つけよう～」
DESCRIPTION:いくつかの質問に答えることで「あなただけの才能」を発見していきます。\n自己理解を深め、「あなたに合った働く場所」のヒントを一緒に探してみませんか？ \n・【日時】2026年1月13日(火)　10:00～12:00 \n・【場所】生石研修センター(高砂市)
URL:https://sust-harima.org/event/%e9%ab%98%e7%a0%82%e5%b8%82%e5%b0%b1%e8%81%b7%e8%87%aa%e7%ab%8b%e6%94%af%e6%8f%b4%e3%82%bb%e3%83%9f%e3%83%8a%e3%83%bc%e3%80%8c%e6%89%8d%e8%83%bd%e7%99%ba%e8%a6%8b%e3%83%af%e3%83%bc%e3%82%af%ef%bd%9e-2/
LOCATION:生石研修センター\, 高砂市阿弥陀町生石６１−２\, 兵庫県\, 676-0823\, 日本
CATEGORIES:セミナー
END:VEVENT
END:VCALENDAR