BEGIN:VCALENDAR
VERSION:2.0
PRODID:-//あかしサポステ - ECPv6.2.9//NONSGML v1.0//EN
CALSCALE:GREGORIAN
METHOD:PUBLISH
X-WR-CALNAME:あかしサポステ
X-ORIGINAL-URL:https://sust-harima.org
X-WR-CALDESC:あかしサポステ のイベント
REFRESH-INTERVAL;VALUE=DURATION:PT1H
X-Robots-Tag:noindex
X-PUBLISHED-TTL:PT1H
BEGIN:VTIMEZONE
TZID:UTC
BEGIN:STANDARD
TZOFFSETFROM:+0000
TZOFFSETTO:+0000
TZNAME:UTC
DTSTART:20260101T000000
END:STANDARD
END:VTIMEZONE
BEGIN:VEVENT
DTSTART;TZID=UTC:20260207T140000
DTEND;TZID=UTC:20260207T160000
DTSTAMP:20260424T212057
CREATED:20260109T010742Z
LAST-MODIFIED:20260109T010742Z
UID:2558-1770472800-1770480000@sust-harima.org
SUMMARY:自立就職支援セミナー「～あなたの感情はどこから～ラクに生きるための『心の地図』」
DESCRIPTION:不安や恐れ、イライラ、モヤモヤはいったいどこからやってくるのでしょう。\n自分の「考え方のクセ」を知れば楽に生きることができます。\nさぁ、心の地図を広げて心の旅へ出かけましょう。 \n・【日時】2026年2月7日(土)　14:00～16:00 \n・【場所】明石市立勤労福祉会館
URL:https://sust-harima.org/event/%e8%87%aa%e7%ab%8b%e5%b0%b1%e8%81%b7%e6%94%af%e6%8f%b4%e3%82%bb%e3%83%9f%e3%83%8a%e3%83%bc%e3%80%8c%ef%bd%9e%e3%81%82%e3%81%aa%e3%81%9f%e3%81%ae%e6%84%9f%e6%83%85%e3%81%af%e3%81%a9%e3%81%93%e3%81%8b/
LOCATION:明石市勤労福祉会館\, 明石市相生町２丁目７−１２\, 兵庫県\, 673-0882\, 日本
CATEGORIES:セミナー
END:VEVENT
BEGIN:VEVENT
DTSTART;TZID=UTC:20260210T100000
DTEND;TZID=UTC:20260210T120000
DTSTAMP:20260424T212057
CREATED:20260109T011342Z
LAST-MODIFIED:20260109T011342Z
UID:2563-1770717600-1770724800@sust-harima.org
SUMMARY:高砂市就職自立支援セミナー「やさしい自己理解セミナー」
DESCRIPTION:就職活動の第一歩は自己理解から！\nグループワークを通じて、自分の性格や価値観を知り、自分に合った働き方を見つけましょう。 \n・【日時】2026年2月10日(火)　10:00～12:00 \n・【場所】生石研修センター(高砂市)
URL:https://sust-harima.org/event/%e9%ab%98%e7%a0%82%e5%b8%82%e5%b0%b1%e8%81%b7%e8%87%aa%e7%ab%8b%e6%94%af%e6%8f%b4%e3%82%bb%e3%83%9f%e3%83%8a%e3%83%bc%e3%80%8c%e3%82%84%e3%81%95%e3%81%97%e3%81%84%e8%87%aa%e5%b7%b1%e7%90%86%e8%a7%a3/
LOCATION:生石研修センター\, 高砂市阿弥陀町生石６１−２\, 兵庫県\, 676-0823\, 日本
CATEGORIES:セミナー
END:VEVENT
BEGIN:VEVENT
DTSTART;TZID=UTC:20260214T100000
DTEND;TZID=UTC:20260214T120000
DTSTAMP:20260424T212057
CREATED:20260109T011558Z
LAST-MODIFIED:20260109T011558Z
UID:2565-1771063200-1771070400@sust-harima.org
SUMMARY:播磨町就職等自立支援セミナー「働いていない子を持つ親のためのセミナー」
DESCRIPTION:子どもの不就労に悩む親同士が語り合い、気持ちを共有することで心を軽くするセミナーです。\n日常の過ごし方や関わり方などを学び、親自身が前向きになることで子の変化を促すきっかけを作ります。 \n・【日時】2026年2月14日(土)　10:00～12:00 \n・【場所】播磨町総合福祉センター
URL:https://sust-harima.org/event/%e6%92%ad%e7%a3%a8%e7%94%ba%e5%b0%b1%e8%81%b7%e7%ad%89%e8%87%aa%e7%ab%8b%e6%94%af%e6%8f%b4%e3%82%bb%e3%83%9f%e3%83%8a%e3%83%bc%e3%80%8c%e5%83%8d%e3%81%84%e3%81%a6%e3%81%84%e3%81%aa%e3%81%84%e5%ad%90/
LOCATION:播磨町福祉会館\, 加古郡播磨町宮北１丁目３−５\, 兵庫県\, 675-0143\, 日本
CATEGORIES:セミナー
END:VEVENT
BEGIN:VEVENT
DTSTART;TZID=UTC:20260219T133000
DTEND;TZID=UTC:20260219T153000
DTSTAMP:20260424T212057
CREATED:20260109T012053Z
LAST-MODIFIED:20260109T012053Z
UID:2569-1771507800-1771515000@sust-harima.org
SUMMARY:PC講座【Word基礎】
DESCRIPTION:PC経験が少なく不安を感じる方はWordの基礎から学んでいきましょう。\nWordは就職活動や職場など、様々な場面で活用できます。 \n・【日時】2026年2月19日(木)　13:30～15:30 \n・【場所】あかし若者サポートステーション \n  \n  \n 
URL:https://sust-harima.org/event/pc%e8%ac%9b%e5%ba%a7%e3%80%90word%e5%9f%ba%e7%a4%8e%e3%80%91-27/
LOCATION:あかし若者サポートステーション\, 38ヤングビル5階\, 明石市相生町2丁目6-5\, 兵庫県\, 673-0882\, 日本
CATEGORIES:PC講座
END:VEVENT
BEGIN:VEVENT
DTSTART;TZID=UTC:20260225T133000
DTEND;TZID=UTC:20260225T153000
DTSTAMP:20260424T212057
CREATED:20260109T012501Z
LAST-MODIFIED:20260109T012501Z
UID:2575-1772026200-1772033400@sust-harima.org
SUMMARY:PC講座【Excel基礎】
DESCRIPTION:ビジネスの視点からExcelの基本を学びます。PCの経験を増やしたい方、是非ご参加ください。\nExcelは表やグラフ作成など様々な場面で活用できます。 \n・【日時】2026年2月25日(水)　13:30～15:30 \n・【場所】あかし若者サポートステーション
URL:https://sust-harima.org/event/pc%e8%ac%9b%e5%ba%a7%e3%80%90excel%e5%9f%ba%e7%a4%8e%e3%80%91-27/
LOCATION:あかし若者サポートステーション\, 38ヤングビル5階\, 明石市相生町2丁目6-5\, 兵庫県\, 673-0882\, 日本
CATEGORIES:PC講座
END:VEVENT
END:VCALENDAR