BEGIN:VCALENDAR
VERSION:2.0
PRODID:-//あかしサポステ - ECPv6.2.9//NONSGML v1.0//EN
CALSCALE:GREGORIAN
METHOD:PUBLISH
X-WR-CALNAME:あかしサポステ
X-ORIGINAL-URL:https://sust-harima.org
X-WR-CALDESC:あかしサポステ のイベント
REFRESH-INTERVAL;VALUE=DURATION:PT1H
X-Robots-Tag:noindex
X-PUBLISHED-TTL:PT1H
BEGIN:VTIMEZONE
TZID:UTC
BEGIN:STANDARD
TZOFFSETFROM:+0000
TZOFFSETTO:+0000
TZNAME:UTC
DTSTART:20260101T000000
END:STANDARD
END:VTIMEZONE
BEGIN:VEVENT
DTSTART;TZID=UTC:20260108T093000
DTEND;TZID=UTC:20260108T113000
DTSTAMP:20260425T142716
CREATED:20251211T043630Z
LAST-MODIFIED:20251211T043630Z
UID:2503-1767864600-1767871800@sust-harima.org
SUMMARY:プチボラ(封入作業)
DESCRIPTION:チラシの封入作業を通して、軽作業に必要な「正確さ」「丁寧さ」「作業スピード」など、\n働く上で欠かせない基礎スキルを体験できるプログラムです。 \n・【日時】2026年1月8(木)　9:30～11:30 \n・【場所】あかし若者サポートステーション \n  \n  \n当講座は登録者専用となります。\nあかしサポステに未登録の方は、まずは「個別相談申し込みフォーム」から登録お願い致します。 \n個別相談申し込みフォームはこちら
URL:https://sust-harima.org/event/%e3%83%97%e3%83%81%e3%83%9c%e3%83%a9%e5%b0%81%e5%85%a5%e4%bd%9c%e6%a5%ad-27/
LOCATION:あかし若者サポートステーション\, 38ヤングビル5階\, 明石市相生町2丁目6-5\, 兵庫県\, 673-0882\, 日本
CATEGORIES:ジョブトレーニング
END:VEVENT
BEGIN:VEVENT
DTSTART;TZID=UTC:20260117T133000
DTEND;TZID=UTC:20260117T153000
DTSTAMP:20260425T142716
CREATED:20251211T043547Z
LAST-MODIFIED:20251211T043547Z
UID:2513-1768656600-1768663800@sust-harima.org
SUMMARY:ステップアップセミナー「職場での関係づくり入門」
DESCRIPTION:気軽な交流と短いワークを通して、職場で円滑にコミュニケーションをとるための距離感や関わり方を学びます。\n良好な人間関係づくりは職場適応に直結する大切な力。\nサポステの仲間と共に、働く自信を育てていくセミナーです。 \n・【日時】2026年1月17(土)　13:30～15:30 \n・【場所】あかし若者サポートステーション \n  \n  \n当講座は登録者専用となります。\nあかしサポステに未登録の方は、まずは「個別相談申し込みフォーム」から登録お願い致します。 \n個別相談申し込みフォームはこちら
URL:https://sust-harima.org/event/%e3%82%b9%e3%83%86%e3%83%83%e3%83%97%e3%82%a2%e3%83%83%e3%83%97%e3%82%bb%e3%83%9f%e3%83%8a%e3%83%bc%e3%80%8c%e8%81%b7%e5%a0%b4%e3%81%a7%e3%81%ae%e9%96%a2%e4%bf%82%e3%81%a5%e3%81%8f%e3%82%8a%e5%85%a5/
LOCATION:あかし若者サポートステーション\, 38ヤングビル5階\, 明石市相生町2丁目6-5\, 兵庫県\, 673-0882\, 日本
CATEGORIES:セミナー
END:VEVENT
BEGIN:VEVENT
DTSTART;TZID=UTC:20260119T093000
DTEND;TZID=UTC:20260119T103000
DTSTAMP:20260425T142716
CREATED:20251211T043535Z
LAST-MODIFIED:20251211T043535Z
UID:2515-1768815000-1768818600@sust-harima.org
SUMMARY:ものづくり体験「レザークラフト」
DESCRIPTION:手順を確認しながら作品を仕上げる体験を通して、\n集中力や手順理解、作業の丁寧さなど職場で求められる基礎スキルを養います。 \n・【日時】2026年1月19(月)　9:30～10:30 \n・【場所】あかし若者サポートステーション \n  \n  \n当講座は登録者専用となります。\nあかしサポステに未登録の方は、まずは「個別相談申し込みフォーム」から登録お願い致します。 \n個別相談申し込みフォームはこちら
URL:https://sust-harima.org/event/%e3%82%82%e3%81%ae%e3%81%a5%e3%81%8f%e3%82%8a%e4%bd%93%e9%a8%93%e3%80%8c%e3%83%ac%e3%82%b6%e3%83%bc%e3%82%af%e3%83%a9%e3%83%95%e3%83%88%e3%80%8d/
LOCATION:あかし若者サポートステーション\, 38ヤングビル5階\, 明石市相生町2丁目6-5\, 兵庫県\, 673-0882\, 日本
CATEGORIES:ものづくりイベント
END:VEVENT
BEGIN:VEVENT
DTSTART;TZID=UTC:20260122T133000
DTEND;TZID=UTC:20260122T153000
DTSTAMP:20260425T142716
CREATED:20251211T043525Z
LAST-MODIFIED:20251211T043525Z
UID:2517-1769088600-1769095800@sust-harima.org
SUMMARY:PC講座【Word基礎】
DESCRIPTION:PC経験が少なく不安を感じる方はWordの基礎から学んでいきましょう。\nWordは就職活動や職場など、様々な場面で活用できます。 \n・【日時】2026年1月22日(木)　13:30～15:30 \n・【場所】サテライト播磨 \n  \n  \n当講座は登録者専用となります。\nあかしサポステに未登録の方は、まずは「個別相談申し込みフォーム」から登録お願い致します。 \n個別相談申し込みフォームはこちら
URL:https://sust-harima.org/event/pc%e8%ac%9b%e5%ba%a7%e3%80%90word%e5%9f%ba%e7%a4%8e%e3%80%91-26/
LOCATION:サテライト播磨\, 加古川市加古川町溝之口755\, 兵庫県\, 673-0064\, 日本
CATEGORIES:PC講座
END:VEVENT
BEGIN:VEVENT
DTSTART;TZID=UTC:20260127T133000
DTEND;TZID=UTC:20260127T153000
DTSTAMP:20260425T142716
CREATED:20251211T043515Z
LAST-MODIFIED:20251211T043515Z
UID:2519-1769520600-1769527800@sust-harima.org
SUMMARY:PC講座【Excel基礎】
DESCRIPTION:ビジネスの視点からExcelの基本を学びます。PCの経験を増やしたい方、是非ご参加ください。\nExcelは表やグラフ作成など様々な場面で活用できます。 \n・【日時】2026年1月27日(火)　13:30～15:30 \n・【場所】サテライト播磨 \n  \n  \n当講座は登録者専用となります。\nあかしサポステに未登録の方は、まずは「個別相談申し込みフォーム」から登録お願い致します。 \n個別相談申し込みフォームはこちら
URL:https://sust-harima.org/event/pc%e8%ac%9b%e5%ba%a7%e3%80%90excel%e5%9f%ba%e7%a4%8e%e3%80%91-26/
LOCATION:サテライト播磨\, 加古川市加古川町溝之口755\, 兵庫県\, 673-0064\, 日本
CATEGORIES:PC講座
END:VEVENT
BEGIN:VEVENT
DTSTART;TZID=UTC:20260128T093000
DTEND;TZID=UTC:20260128T120000
DTSTAMP:20260425T142716
CREATED:20251211T043454Z
LAST-MODIFIED:20251211T043454Z
UID:2523-1769592600-1769601600@sust-harima.org
SUMMARY:身体づくりセミナー
DESCRIPTION:働く前の準備のために、まずは自分でできる健康づくりから始めましょう。\n汗をかいてみんなでリフレッシュしましょう。 \n持ち物：上履き、動きやすい服装、タオル、飲み物 \n・【日時】2026年1月28日(水)　9:30～11:50 \n・【場所】明石勤労福祉会館 \n  \n  \n当講座は登録者専用となります。\nあかしサポステに未登録の方は、まずは「個別相談申し込みフォーム」から登録お願い致します。 \n個別相談申し込みフォームはこちら
URL:https://sust-harima.org/event/%e8%ba%ab%e4%bd%93%e3%81%a5%e3%81%8f%e3%82%8a%e3%82%bb%e3%83%9f%e3%83%8a%e3%83%bc-4/
LOCATION:明石市勤労福祉会館\, 明石市相生町２丁目７−１２\, 兵庫県\, 673-0882\, 日本
CATEGORIES:セミナー
END:VEVENT
BEGIN:VEVENT
DTSTART;TZID=UTC:20260209T093000
DTEND;TZID=UTC:20260209T113000
DTSTAMP:20260425T142716
CREATED:20260109T011015Z
LAST-MODIFIED:20260109T011015Z
UID:2561-1770629400-1770636600@sust-harima.org
SUMMARY:プチボラ(封入作業)
DESCRIPTION:チラシの封入作業を通して、軽作業に必要な「正確さ」「丁寧さ」「作業スピード」など、\n働く上で欠かせない基礎スキルを体験できるプログラムです。 \n・【日時】2026年2月9(月)　9:30～11:30 \n・【場所】サテライト播磨 \n  \n  \n当講座は登録者専用となります。\nあかしサポステに未登録の方は、まずは「個別相談申し込みフォーム」から登録お願い致します。 \n個別相談申し込みフォームはこちら
URL:https://sust-harima.org/event/%e3%83%97%e3%83%81%e3%83%9c%e3%83%a9%e5%b0%81%e5%85%a5%e4%bd%9c%e6%a5%ad-28/
LOCATION:サテライト播磨\, 加古川市加古川町溝之口755\, 兵庫県\, 673-0064\, 日本
CATEGORIES:ジョブトレーニング
END:VEVENT
BEGIN:VEVENT
DTSTART;TZID=UTC:20260218T093000
DTEND;TZID=UTC:20260218T113000
DTSTAMP:20260425T142716
CREATED:20260109T011754Z
LAST-MODIFIED:20260109T011754Z
UID:2567-1771407000-1771414200@sust-harima.org
SUMMARY:主体性を育むワーク～自分の「こうしたい」から始まる一歩～
DESCRIPTION:働きたいのに応募できない。決められない自分を責めてしまう。\nそんな悩みは、意欲がないからではありません。\nこのセミナーでは「自分のこうしたい」に気づき、主体性に選ぶ力を育てていきます。 \n・【日時】2026年2月18(水)　9:30～11:30 \n・【場所】サテライト播磨 \n  \n  \n当講座は登録者専用となります。\nあかしサポステに未登録の方は、まずは「個別相談申し込みフォーム」から登録お願い致します。 \n個別相談申し込みフォームはこちら
URL:https://sust-harima.org/event/%e4%b8%bb%e4%bd%93%e6%80%a7%e3%82%92%e8%82%b2%e3%82%80%e3%83%af%e3%83%bc%e3%82%af%ef%bd%9e%e8%87%aa%e5%88%86%e3%81%ae%e3%80%8c%e3%81%93%e3%81%86%e3%81%97%e3%81%9f%e3%81%84%e3%80%8d%e3%81%8b%e3%82%89/
LOCATION:サテライト播磨\, 加古川市加古川町溝之口755\, 兵庫県\, 673-0064\, 日本
CATEGORIES:セミナー
END:VEVENT
BEGIN:VEVENT
DTSTART;TZID=UTC:20260221T110000
DTEND;TZID=UTC:20260221T120000
DTSTAMP:20260425T142716
CREATED:20260109T012319Z
LAST-MODIFIED:20260109T012319Z
UID:2573-1771671600-1771675200@sust-harima.org
SUMMARY:価値観発見ワーク
DESCRIPTION:カードを使って、自分が大切にしている価値観を見つけてみませんか？\n価値観を知ることで自己理解が深まり、これから働き方を考えるヒントになります。\n就職活動のはじめの一歩として気軽にご参加ください。 \n・【日時】2026年2月21(土)　11:00～12:00 \n・【場所】あかし若者サポートステーション \n  \n  \n当講座は登録者専用となります。\nあかしサポステに未登録の方は、まずは「個別相談申し込みフォーム」から登録お願い致します。 \n個別相談申し込みフォームはこちら
URL:https://sust-harima.org/event/%e4%be%a1%e5%80%a4%e8%a6%b3%e7%99%ba%e8%a6%8b%e3%83%af%e3%83%bc%e3%82%af-3/
LOCATION:あかし若者サポートステーション\, 38ヤングビル5階\, 明石市相生町2丁目6-5\, 兵庫県\, 673-0882\, 日本
CATEGORIES:セミナー
END:VEVENT
BEGIN:VEVENT
DTSTART;TZID=UTC:20260302T093000
DTEND;TZID=UTC:20260302T113000
DTSTAMP:20260425T142716
CREATED:20260212T043122Z
LAST-MODIFIED:20260212T043122Z
UID:2608-1772443800-1772451000@sust-harima.org
SUMMARY:企業研究と求められる人材
DESCRIPTION:仕事理解を深め、業種、企業研究の情報源を知っておきましょう。\nまた企業が求める人材、そして仕事に求められる能力、コンピテンシーを理解し、\n求人広告や求人票を読み取る力を身につけていきます。 \n・【日時】2026年3月2(月)　9:30～11:30 \n・【場所】あかし若者サポートステーション \n  \n  \n当講座は登録者専用となります。\nあかしサポステに未登録の方は、まずは「個別相談申し込みフォーム」から登録お願い致します。 \n個別相談申し込みフォームはこちら
URL:https://sust-harima.org/event/%e4%bc%81%e6%a5%ad%e7%a0%94%e7%a9%b6%e3%81%a8%e6%b1%82%e3%82%81%e3%82%89%e3%82%8c%e3%82%8b%e4%ba%ba%e6%9d%90-2/
LOCATION:あかし若者サポートステーション\, 38ヤングビル5階\, 明石市相生町2丁目6-5\, 兵庫県\, 673-0882\, 日本
CATEGORIES:セミナー
END:VEVENT
BEGIN:VEVENT
DTSTART;TZID=UTC:20260309T093000
DTEND;TZID=UTC:20260309T113000
DTSTAMP:20260425T142716
CREATED:20260212T043128Z
LAST-MODIFIED:20260212T043128Z
UID:2611-1773048600-1773055800@sust-harima.org
SUMMARY:プチボラ(封入作業)
DESCRIPTION:チラシの封入作業を通して、軽作業に必要な「正確さ」「丁寧さ」「作業スピード」など、\n働く上で欠かせない基礎スキルを体験できるプログラムです。 \n・【日時】2026年3月9(月)　9:30～11:30 \n・【場所】あかし若者サポートステーション \n  \n  \n当講座は登録者専用となります。\nあかしサポステに未登録の方は、まずは「個別相談申し込みフォーム」から登録お願い致します。 \n個別相談申し込みフォームはこちら
URL:https://sust-harima.org/event/%e3%83%97%e3%83%81%e3%83%9c%e3%83%a9%e5%b0%81%e5%85%a5%e4%bd%9c%e6%a5%ad-29/
LOCATION:あかし若者サポートステーション\, 38ヤングビル5階\, 明石市相生町2丁目6-5\, 兵庫県\, 673-0882\, 日本
CATEGORIES:ジョブトレーニング
END:VEVENT
BEGIN:VEVENT
DTSTART;TZID=UTC:20260318T130000
DTEND;TZID=UTC:20260318T170000
DTSTAMP:20260425T142716
CREATED:20260212T043049Z
LAST-MODIFIED:20260212T043049Z
UID:2619-1773838800-1773853200@sust-harima.org
SUMMARY:コラージュ講座＆ボランティア
DESCRIPTION:ウィズあかしの講座「コラージュで楽しむ自己表現」の準備や受付を体験します。\n人と関わる一歩を踏み出したい方、ご参加お待ちしております。\n準備が終わり次第、コラージュ講座も受講できます。\n持ち物：作品を入れる鞄や袋 \n・【日時】2026年3月18(水)　13:00～17:00 \n・【場所】ウィズあかし \n  \n  \n当講座は登録者専用となります。\nあかしサポステに未登録の方は、まずは「個別相談申し込みフォーム」から登録お願い致します。 \n個別相談申し込みフォームはこちら
URL:https://sust-harima.org/event/%e3%82%b3%e3%83%a9%e3%83%bc%e3%82%b8%e3%83%a5%e8%ac%9b%e5%ba%a7%ef%bc%86%e3%83%9c%e3%83%a9%e3%83%b3%e3%83%86%e3%82%a3%e3%82%a2-2/
LOCATION:ウィズあかし\, 明石市東仲ノ町６−１\, 兵庫県\, 673-0886\, 日本
CATEGORIES:ジョブトレーニング
END:VEVENT
BEGIN:VEVENT
DTSTART;TZID=UTC:20260326T093000
DTEND;TZID=UTC:20260326T113000
DTSTAMP:20260425T142716
CREATED:20260212T043040Z
LAST-MODIFIED:20260212T043040Z
UID:2621-1774517400-1774524600@sust-harima.org
SUMMARY:失敗を成長に変えるマインドセット
DESCRIPTION:就職活動、思うようにいかず自信をなくしていませんか？\n失敗を前向きに捉える「しなやかマインドセット」を身につけることで、\n挑戦する勇気や自己効力感を高め、あなたの可能性を広げる一歩を踏み出しましょう。 \n・【日時】2026年3月26(木)　9:30～11:30 \n・【場所】サテライト播磨 \n  \n  \n当講座は登録者専用となります。\nあかしサポステに未登録の方は、まずは「個別相談申し込みフォーム」から登録お願い致します。 \n個別相談申し込みフォームはこちら
URL:https://sust-harima.org/event/%e5%a4%b1%e6%95%97%e3%82%92%e6%88%90%e9%95%b7%e3%81%ab%e5%a4%89%e3%81%88%e3%82%8b%e3%83%9e%e3%82%a4%e3%83%b3%e3%83%89%e3%82%bb%e3%83%83%e3%83%88/
LOCATION:サテライト播磨\, 加古川市加古川町溝之口755\, 兵庫県\, 673-0064\, 日本
CATEGORIES:セミナー
END:VEVENT
BEGIN:VEVENT
DTSTART;TZID=UTC:20260413T093000
DTEND;TZID=UTC:20260413T113000
DTSTAMP:20260425T142716
CREATED:20260309T045919Z
LAST-MODIFIED:20260309T045919Z
UID:2648-1776072600-1776079800@sust-harima.org
SUMMARY:プチボラ(封入作業)
DESCRIPTION:チラシの封入作業を通して、軽作業に必要な「正確さ」「丁寧さ」「作業スピード」など、\n働く上で欠かせない基礎スキルを体験できるプログラムです。 \n・【日時】2026年4月13(月)　9:30～11:30 \n・【場所】サテライト播磨 \n  \n  \n当講座は登録者専用となります。\nあかしサポステに未登録の方は、まずは「個別相談申し込みフォーム」から登録お願い致します。 \n個別相談申し込みフォームはこちら
URL:https://sust-harima.org/event/%e3%83%97%e3%83%81%e3%83%9c%e3%83%a9%e5%b0%81%e5%85%a5%e4%bd%9c%e6%a5%ad-30/
LOCATION:サテライト播磨\, 加古川市加古川町溝之口755\, 兵庫県\, 673-0064\, 日本
CATEGORIES:ジョブトレーニング
END:VEVENT
BEGIN:VEVENT
DTSTART;TZID=UTC:20260424T093000
DTEND;TZID=UTC:20260424T103000
DTSTAMP:20260425T142716
CREATED:20260309T045801Z
LAST-MODIFIED:20260309T045801Z
UID:2657-1777023000-1777026600@sust-harima.org
SUMMARY:ものづくり体験　レザークラフト
DESCRIPTION:手順を確認しながら作品を仕上げる体験を通して、\n集中力や手順理解、作業の丁寧さなど職場で求められる基礎スキルを養います。 \n・【日時】2026年4月24(金)　9:30～10:30 \n・【場所】サテライト播磨 \n  \n  \n当講座は登録者専用となります。\nあかしサポステに未登録の方は、まずは「個別相談申し込みフォーム」から登録お願い致します。 \n個別相談申し込みフォームはこちら
URL:https://sust-harima.org/event/%e3%82%82%e3%81%ae%e3%81%a5%e3%81%8f%e3%82%8a%e4%bd%93%e9%a8%93%e3%80%80%e3%83%ac%e3%82%b6%e3%83%bc%e3%82%af%e3%83%a9%e3%83%95%e3%83%88/
LOCATION:サテライト播磨\, 加古川市加古川町溝之口755\, 兵庫県\, 673-0064\, 日本
CATEGORIES:ものづくりイベント
END:VEVENT
BEGIN:VEVENT
DTSTART;TZID=UTC:20260511T093000
DTEND;TZID=UTC:20260511T113000
DTSTAMP:20260425T142716
CREATED:20260413T041236Z
LAST-MODIFIED:20260413T041236Z
UID:2715-1778491800-1778499000@sust-harima.org
SUMMARY:プチボラ(封入作業)
DESCRIPTION:チラシの封入作業を通して、軽作業に必要な「正確さ」「丁寧さ」「作業スピード」など、\n働く上で欠かせない基礎スキルを体験できるプログラムです。 \n・【日時】2026年5月11(月)　9:30～11:30 \n・【場所】あかし若者サポートステーション \n  \n  \n当講座は登録者専用となります。\nあかしサポステに未登録の方は、まずは「個別相談申し込みフォーム」から登録お願い致します。 \n個別相談申し込みフォームはこちら
URL:https://sust-harima.org/event/%e3%83%97%e3%83%81%e3%83%9c%e3%83%a9%e5%b0%81%e5%85%a5%e4%bd%9c%e6%a5%ad-31/
LOCATION:あかし若者サポートステーション\, 38ヤングビル5階\, 明石市相生町2丁目6-5\, 兵庫県\, 673-0882\, 日本
CATEGORIES:ジョブトレーニング
END:VEVENT
BEGIN:VEVENT
DTSTART;TZID=UTC:20260515T093000
DTEND;TZID=UTC:20260515T120000
DTSTAMP:20260425T142716
CREATED:20260413T040910Z
LAST-MODIFIED:20260413T040910Z
UID:2699-1778837400-1778846400@sust-harima.org
SUMMARY:自然体験(農業作業体験)
DESCRIPTION:自然の中で土に触れながら、基礎的な作業スキルを身につけてみませんか。\n日ごろ経験しないような作業に取り組むことで、業務遂行力や課題発見力など、\n仕事に活かせる視点を養いましょう。 \n・【日時】2026年5月15(金)　9:30～12:00 \n・【場所】加古川 \n  \n  \n当講座は登録者専用となります。\nあかしサポステに未登録の方は、まずは「個別相談申し込みフォーム」から登録お願い致します。 \n個別相談申し込みフォームはこちら
URL:https://sust-harima.org/event/%e8%87%aa%e7%84%b6%e4%bd%93%e9%a8%93%e8%be%b2%e6%a5%ad%e4%bd%9c%e6%a5%ad%e4%bd%93%e9%a8%93/
LOCATION:兵庫県
CATEGORIES:農業体験ボランティア
END:VEVENT
BEGIN:VEVENT
DTSTART;TZID=UTC:20260520T093000
DTEND;TZID=UTC:20260520T113000
DTSTAMP:20260425T142716
CREATED:20260413T040855Z
LAST-MODIFIED:20260413T040855Z
UID:2703-1779269400-1779276600@sust-harima.org
SUMMARY:仕事のモチベーションアップ～「やる気が出ない」を抜け出す方法！～
DESCRIPTION:やる気が出ない、続かない、低下してきた気がするな～。\n根性に頼らず、仕事のモチベーションをアップする方法を学んで\n前向きに取り組めるようになりましょう。 \n・【日時】2026年5月20(水)　9:30～10:30 \n・【場所】あかし若者サポートステーション \n  \n  \n当講座は登録者専用となります。\nあかしサポステに未登録の方は、まずは「個別相談申し込みフォーム」から登録お願い致します。 \n個別相談申し込みフォームはこちら
URL:https://sust-harima.org/event/%e4%bb%95%e4%ba%8b%e3%81%ae%e3%83%a2%e3%83%81%e3%83%99%e3%83%bc%e3%82%b7%e3%83%a7%e3%83%b3%e3%82%a2%e3%83%83%e3%83%97%ef%bd%9e%e3%80%8c%e3%82%84%e3%82%8b%e6%b0%97%e3%81%8c%e5%87%ba%e3%81%aa%e3%81%84/
LOCATION:あかし若者サポートステーション\, 38ヤングビル5階\, 明石市相生町2丁目6-5\, 兵庫県\, 673-0882\, 日本
CATEGORIES:セミナー
END:VEVENT
BEGIN:VEVENT
DTSTART;TZID=UTC:20260527T093000
DTEND;TZID=UTC:20260527T120000
DTSTAMP:20260425T142716
CREATED:20260413T040831Z
LAST-MODIFIED:20260413T040831Z
UID:2709-1779874200-1779883200@sust-harima.org
SUMMARY:身体づくりセミナー
DESCRIPTION:働く前の準備のために、まずは自分でできる健康づくりから始めませんか？\n身体を動かすことで、就労に向けての気持ちを整えましょう。\n持ち物：上履き、動きやすい服装、タオル、飲み物 \n・【日時】2026年5月27日(水)　9:30～11:50 \n・【場所】明石勤労福祉会館 \n  \n  \n当講座は登録者専用となります。\nあかしサポステに未登録の方は、まずは「個別相談申し込みフォーム」から登録お願い致します。 \n個別相談申し込みフォームはこちら
URL:https://sust-harima.org/event/%e8%ba%ab%e4%bd%93%e3%81%a5%e3%81%8f%e3%82%8a%e3%82%bb%e3%83%9f%e3%83%8a%e3%83%bc-5/
LOCATION:明石市勤労福祉会館\, 明石市相生町２丁目７−１２\, 兵庫県\, 673-0882\, 日本
CATEGORIES:ジョブトレーニング
END:VEVENT
END:VCALENDAR