BEGIN:VCALENDAR
VERSION:2.0
PRODID:-//あかしサポステ - ECPv6.2.9//NONSGML v1.0//EN
CALSCALE:GREGORIAN
METHOD:PUBLISH
X-ORIGINAL-URL:https://sust-harima.org
X-WR-CALDESC:あかしサポステ のイベント
REFRESH-INTERVAL;VALUE=DURATION:PT1H
X-Robots-Tag:noindex
X-PUBLISHED-TTL:PT1H
BEGIN:VTIMEZONE
TZID:UTC
BEGIN:STANDARD
TZOFFSETFROM:+0000
TZOFFSETTO:+0000
TZNAME:UTC
DTSTART:20260101T000000
END:STANDARD
END:VTIMEZONE
BEGIN:VEVENT
DTSTART;TZID=UTC:20260218T093000
DTEND;TZID=UTC:20260218T113000
DTSTAMP:20260424T225707
CREATED:20260109T011754Z
LAST-MODIFIED:20260109T011754Z
UID:2567-1771407000-1771414200@sust-harima.org
SUMMARY:主体性を育むワーク～自分の「こうしたい」から始まる一歩～
DESCRIPTION:働きたいのに応募できない。決められない自分を責めてしまう。\nそんな悩みは、意欲がないからではありません。\nこのセミナーでは「自分のこうしたい」に気づき、主体性に選ぶ力を育てていきます。 \n・【日時】2026年2月18(水)　9:30～11:30 \n・【場所】サテライト播磨 \n  \n  \n当講座は登録者専用となります。\nあかしサポステに未登録の方は、まずは「個別相談申し込みフォーム」から登録お願い致します。 \n個別相談申し込みフォームはこちら
URL:https://sust-harima.org/event/%e4%b8%bb%e4%bd%93%e6%80%a7%e3%82%92%e8%82%b2%e3%82%80%e3%83%af%e3%83%bc%e3%82%af%ef%bd%9e%e8%87%aa%e5%88%86%e3%81%ae%e3%80%8c%e3%81%93%e3%81%86%e3%81%97%e3%81%9f%e3%81%84%e3%80%8d%e3%81%8b%e3%82%89/
LOCATION:サテライト播磨\, 加古川市加古川町溝之口755\, 兵庫県\, 673-0064\, 日本
CATEGORIES:セミナー
END:VEVENT
END:VCALENDAR