BEGIN:VCALENDAR
VERSION:2.0
PRODID:-//あかしサポステ - ECPv6.2.9//NONSGML v1.0//EN
CALSCALE:GREGORIAN
METHOD:PUBLISH
X-WR-CALNAME:あかしサポステ
X-ORIGINAL-URL:https://sust-harima.org
X-WR-CALDESC:あかしサポステ のイベント
REFRESH-INTERVAL;VALUE=DURATION:PT1H
X-Robots-Tag:noindex
X-PUBLISHED-TTL:PT1H
BEGIN:VTIMEZONE
TZID:UTC
BEGIN:STANDARD
TZOFFSETFROM:+0000
TZOFFSETTO:+0000
TZNAME:UTC
DTSTART:20240101T000000
END:STANDARD
END:VTIMEZONE
BEGIN:VEVENT
DTSTART;TZID=UTC:20241115T140000
DTEND;TZID=UTC:20241115T143000
DTSTAMP:20260425T154137
CREATED:20241011T022547Z
LAST-MODIFIED:20241011T022547Z
UID:1801-1731679200-1731681000@sust-harima.org
SUMMARY:サポステ説明会
DESCRIPTION:サポステの施設を見学しながら、どんな支援が受けられるかをご説明いたします。\n利用を迷われている方や、興味がある方は、お気軽にご参加ください。 \n・【日時】2024年11月15日(金)　14:00～14:30 \n・【場所】サテライト播磨
URL:https://sust-harima.org/event/%e3%82%b5%e3%83%9d%e3%82%b9%e3%83%86%e8%aa%ac%e6%98%8e%e4%bc%9a-13/
LOCATION:サテライト播磨\, 加古川市加古川町溝之口755\, 兵庫県\, 673-0064\, 日本
END:VEVENT
BEGIN:VEVENT
DTSTART;TZID=UTC:20241114T133000
DTEND;TZID=UTC:20241114T163000
DTSTAMP:20260425T154137
CREATED:20241011T022537Z
LAST-MODIFIED:20241011T022537Z
UID:1799-1731591000-1731601800@sust-harima.org
SUMMARY:PC講座【Word基礎】
DESCRIPTION:PC経験が少なく不安を感じる方はWordの基礎から学んでいきましょう。\nWordは就職活動や職場など、様々な場面で活用できます。 \n・【日時】2024年11月14日(木)　13:30～16:30 \n・【場所】サテライト播磨 \n  \n  \n当講座は登録者専用となります。\nあかしサポステに未登録の方は、まずは「個別相談申し込みフォーム」から登録お願い致します。 \n個別相談申し込みフォームはこちら
URL:https://sust-harima.org/event/pc%e8%ac%9b%e5%ba%a7%e3%80%90word%e5%9f%ba%e7%a4%8e%e3%80%91-12/
LOCATION:サテライト播磨\, 加古川市加古川町溝之口755\, 兵庫県\, 673-0064\, 日本
END:VEVENT
BEGIN:VEVENT
DTSTART;TZID=UTC:20241112T100000
DTEND;TZID=UTC:20241112T120000
DTSTAMP:20260425T154137
CREATED:20241011T022522Z
LAST-MODIFIED:20241011T022522Z
UID:1797-1731405600-1731412800@sust-harima.org
SUMMARY:高砂市就職自立支援セミナー「アサーション～自分らしく気持ちを伝えよう～」
DESCRIPTION:アサーションとは、お互いを尊重しながら自己表現するコミュニケーションスキルです。\n自分の物の見方や考え方をチェックして、ワークを通じ、自分らしい伝え方のコツを学びましょう。 \n・【日時】2024年11月12日(火)　10:00～12:00 \n・【場所】生石研修センター(高砂市) \nチラシのダウンロード
URL:https://sust-harima.org/event/%e9%ab%98%e7%a0%82%e5%b8%82%e5%b0%b1%e8%81%b7%e8%87%aa%e7%ab%8b%e6%94%af%e6%8f%b4%e3%82%bb%e3%83%9f%e3%83%8a%e3%83%bc%e3%80%8c%e3%82%a2%e3%82%b5%e3%83%bc%e3%82%b7%e3%83%a7%e3%83%b3%ef%bd%9e%e8%87%aa/
LOCATION:生石研修センター\, 高砂市阿弥陀町生石６１−２\, 兵庫県\, 676-0823\, 日本
END:VEVENT
BEGIN:VEVENT
DTSTART;TZID=UTC:20241111T093000
DTEND;TZID=UTC:20241111T113000
DTSTAMP:20260425T154137
CREATED:20241011T022509Z
LAST-MODIFIED:20241011T022509Z
UID:1795-1731317400-1731324600@sust-harima.org
SUMMARY:プチボラ(封入作業)
DESCRIPTION:チラシの封入作業を一緒にしませんか？\n普段しない作業を通して意外な長所が発見できるかもしれません。 \n・【日時】2024年11月11日(月)　9:30～11:30 \n・【場所】あかし若者サポートステーション \n  \n  \n当講座は登録者専用となります。\nあかしサポステに未登録の方は、まずは「個別相談申し込みフォーム」から登録お願い致します。 \n個別相談申し込みフォームはこちら
URL:https://sust-harima.org/event/%e3%83%97%e3%83%81%e3%83%9c%e3%83%a9%e5%b0%81%e5%85%a5%e4%bd%9c%e6%a5%ad-13/
LOCATION:あかし若者サポートステーション\, 38ヤングビル5階\, 明石市相生町2丁目6-5\, 兵庫県\, 673-0882\, 日本
END:VEVENT
BEGIN:VEVENT
DTSTART;TZID=UTC:20241108T100000
DTEND;TZID=UTC:20241108T120000
DTSTAMP:20260425T154137
CREATED:20241011T022426Z
LAST-MODIFIED:20241011T022426Z
UID:1793-1731060000-1731067200@sust-harima.org
SUMMARY:播磨町就職等自立支援セミナー「お金から考える働き方」
DESCRIPTION:「お金」を切り口に、自分の生き方や価値観を見つめ直すワークを通じて、\n自分に合った働き方を一緒に考えていきましょう。 \n・【日時】2024年11月8日(金)　10:00～12:00 \n・【場所】播磨町福祉会館 \nチラシのダウンロード
URL:https://sust-harima.org/event/%e6%92%ad%e7%a3%a8%e7%94%ba%e5%b0%b1%e8%81%b7%e7%ad%89%e8%87%aa%e7%ab%8b%e6%94%af%e6%8f%b4%e3%82%bb%e3%83%9f%e3%83%8a%e3%83%bc%e3%80%8c%e3%81%8a%e9%87%91%e3%81%8b%e3%82%89%e8%80%83%e3%81%88%e3%82%8b/
LOCATION:播磨町福祉会館\, 加古郡播磨町宮北１丁目３−５\, 兵庫県\, 675-0143\, 日本
END:VEVENT
BEGIN:VEVENT
DTSTART;TZID=UTC:20241030T133000
DTEND;TZID=UTC:20241030T163000
DTSTAMP:20260425T154137
CREATED:20240911T043155Z
LAST-MODIFIED:20240911T043155Z
UID:1739-1730295000-1730305800@sust-harima.org
SUMMARY:PC講座【Excel基礎】
DESCRIPTION:ビジネスの視点からExcelの基本を学びます。PCの経験を増やしたい方、是非ご参加ください。\nExcelは表やグラフ作成など様々な場面で活用できます。 \n・【日時】2024年10月30日(水)　13:30～16:30 \n・【場所】あかし若者サポートステーション \n  \n  \n当講座は登録者専用となります。\nあかしサポステに未登録の方は、まずは「個別相談申し込みフォーム」から登録お願い致します。 \n個別相談申し込みフォームはこちら
URL:https://sust-harima.org/event/pc%e8%ac%9b%e5%ba%a7%e3%80%90excel%e5%9f%ba%e7%a4%8e%e3%80%91-12/
LOCATION:あかし若者サポートステーション\, 38ヤングビル5階\, 明石市相生町2丁目6-5\, 兵庫県\, 673-0882\, 日本
CATEGORIES:PC講座
END:VEVENT
BEGIN:VEVENT
DTSTART;TZID=UTC:20241029T093000
DTEND;TZID=UTC:20241029T233000
DTSTAMP:20260425T154137
CREATED:20240911T043209Z
LAST-MODIFIED:20240911T043209Z
UID:1735-1730194200-1730244600@sust-harima.org
SUMMARY:アサーション～自分らしい気持ちの伝え方～
DESCRIPTION:アサーションとは、お互いを尊重しながら自己表現するコミュニケーションスキルです。\n自分の物の見方や考え方をチェックして、ワークを通じ、自分らしい伝え方のコツを学びましょう。 \n・【日時】2024年10月29日(火)　9:30～11:30 \n・【場所】サテライト播磨 \n  \n  \n当講座は登録者専用となります。\nあかしサポステに未登録の方は、まずは「個別相談申し込みフォーム」から登録お願い致します。 \n個別相談申し込みフォームはこちら
URL:https://sust-harima.org/event/%e3%82%a2%e3%82%b5%e3%83%bc%e3%82%b7%e3%83%a7%e3%83%b3%ef%bd%9e%e8%87%aa%e5%88%86%e3%82%89%e3%81%97%e3%81%84%e6%b0%97%e6%8c%81%e3%81%a1%e3%81%ae%e4%bc%9d%e3%81%88%e6%96%b9%ef%bd%9e/
LOCATION:サテライト播磨\, 加古川市加古川町溝之口755\, 兵庫県\, 673-0064\, 日本
CATEGORIES:セミナー
END:VEVENT
BEGIN:VEVENT
DTSTART;TZID=UTC:20241026T140000
DTEND;TZID=UTC:20241026T160000
DTSTAMP:20260425T154137
CREATED:20240911T043220Z
LAST-MODIFIED:20240911T043220Z
UID:1732-1729951200-1729958400@sust-harima.org
SUMMARY:自立就職支援セミナー「つまずきは、人生へのプレゼント」
DESCRIPTION:誰でもつまずく事はある。つまずくのは誰しも避けたい。\nしかし、そのつまずきを宝物とすることができるならどうだろうか？\nつまずきから学び、それを自身の人生へのプレゼントにしよう！ \n  \n・【日時】2024年10月26日(土)　14:00～16:00 \n・【場所】複合型交流拠点ウィズあかし \nチラシのダウンロード
URL:https://sust-harima.org/event/%e8%87%aa%e7%ab%8b%e5%b0%b1%e8%81%b7%e6%94%af%e6%8f%b4%e3%82%bb%e3%83%9f%e3%83%8a%e3%83%bc%e3%80%8c%e3%81%a4%e3%81%be%e3%81%9a%e3%81%8d%e3%81%af%e3%80%81%e4%ba%ba%e7%94%9f%e3%81%b8%e3%81%ae%e3%83%97/
LOCATION:ウィズあかし\, 明石市東仲ノ町６−１\, 兵庫県\, 673-0886\, 日本
CATEGORIES:セミナー
END:VEVENT
BEGIN:VEVENT
DTSTART;TZID=UTC:20241024T133000
DTEND;TZID=UTC:20241024T163000
DTSTAMP:20260425T154137
CREATED:20240911T043243Z
LAST-MODIFIED:20240911T043243Z
UID:1729-1729776600-1729787400@sust-harima.org
SUMMARY:PC講座【Word基礎】
DESCRIPTION:PC経験が少なく不安を感じる方はWordの基礎から学んでいきましょう。\nWordは就職活動や職場など、様々な場面で活用できます。 \n・【日時】2024年10月24日(木)　13:30～16:30 \n・【場所】あかし若者サポートステーション \n  \n  \n当講座は登録者専用となります。\nあかしサポステに未登録の方は、まずは「個別相談申し込みフォーム」から登録お願い致します。 \n個別相談申し込みフォームはこちら
URL:https://sust-harima.org/event/pc%e8%ac%9b%e5%ba%a7%e3%80%90word%e5%9f%ba%e7%a4%8e%e3%80%91-11/
LOCATION:あかし若者サポートステーション\, 38ヤングビル5階\, 明石市相生町2丁目6-5\, 兵庫県\, 673-0882\, 日本
CATEGORIES:PC講座
END:VEVENT
BEGIN:VEVENT
DTSTART;TZID=UTC:20241017T100000
DTEND;TZID=UTC:20241017T110000
DTSTAMP:20260425T154137
CREATED:20240911T043252Z
LAST-MODIFIED:20240911T043252Z
UID:1727-1729159200-1729162800@sust-harima.org
SUMMARY:レザークラフト体験
DESCRIPTION:革を使った小物づくりを体験してみませんか？ \n講師から指導を受けながら、オンリーワンの作品を作ります。 \n材料や道具の準備は不要です。手ぶらでお気軽にご参加ください。 \n・【日時】2024年10月17日(木)　10:00～11:00 \n・【場所】あかし若者サポートステーション \n  \n  \n当講座は登録者専用となります。\nあかしサポステに未登録の方は、まずは「個別相談申し込みフォーム」から登録お願い致します。 \n個別相談申し込みフォームはこちら
URL:https://sust-harima.org/event/%e3%83%ac%e3%82%b6%e3%83%bc%e3%82%af%e3%83%a9%e3%83%95%e3%83%88%e4%bd%93%e9%a8%93-3/
LOCATION:あかし若者サポートステーション\, 38ヤングビル5階\, 明石市相生町2丁目6-5\, 兵庫県\, 673-0882\, 日本
CATEGORIES:ものづくりイベント
END:VEVENT
BEGIN:VEVENT
DTSTART;TZID=UTC:20241016T140000
DTEND;TZID=UTC:20241016T160000
DTSTAMP:20260425T154137
CREATED:20240911T043300Z
LAST-MODIFIED:20240911T043300Z
UID:1722-1729087200-1729094400@sust-harima.org
SUMMARY:就職氷河期活躍支援セミナー「やさしい自己理解セミナー」
DESCRIPTION:就職活動の第一歩は自己理解から！\nグループワークを通じて自分の性格や価値観を知り、自分に合った働き方を見つけます。 \n  \n・【日時】2024年10月16日(水)　14:00～16:00 \n・【場所】複合型交流拠点ウィズあかし \nチラシのダウンロード
URL:https://sust-harima.org/event/%e5%b0%b1%e8%81%b7%e6%b0%b7%e6%b2%b3%e6%9c%9f%e6%b4%bb%e8%ba%8d%e6%94%af%e6%8f%b4%e3%82%bb%e3%83%9f%e3%83%8a%e3%83%bc%e3%80%8c%e3%82%84%e3%81%95%e3%81%97%e3%81%84%e8%87%aa%e5%b7%b1%e7%90%86%e8%a7%a3/
LOCATION:ウィズあかし\, 明石市東仲ノ町６−１\, 兵庫県\, 673-0886\, 日本
CATEGORIES:セミナー
END:VEVENT
BEGIN:VEVENT
DTSTART;TZID=UTC:20241012T130000
DTEND;TZID=UTC:20241012T150000
DTSTAMP:20260425T154137
CREATED:20240911T043308Z
LAST-MODIFIED:20240911T043308Z
UID:1719-1728738000-1728745200@sust-harima.org
SUMMARY:高砂市就職自立支援セミナー「子の不就労を考える家族支援セミナー」
DESCRIPTION:わが子の就労に悩んでいる家族同士で語り合いながら、\n親としてできることは何かについて考えましょう。 \n・【日時】2024年10月12日(土)　13:00～15:00 \n・【場所】生石研修センター(高砂市) \nチラシのダウンロード
URL:https://sust-harima.org/event/%e9%ab%98%e7%a0%82%e5%b8%82%e5%b0%b1%e8%81%b7%e8%87%aa%e7%ab%8b%e6%94%af%e6%8f%b4%e3%82%bb%e3%83%9f%e3%83%8a%e3%83%bc%e3%80%8c%e5%ad%90%e3%81%ae%e4%b8%8d%e5%b0%b1%e5%8a%b4%e3%82%92%e8%80%83%e3%81%88/
LOCATION:生石研修センター\, 高砂市阿弥陀町生石６１−２\, 兵庫県\, 676-0823\, 日本
CATEGORIES:セミナー
END:VEVENT
BEGIN:VEVENT
DTSTART;TZID=UTC:20241011T100000
DTEND;TZID=UTC:20241011T120000
DTSTAMP:20260425T154137
CREATED:20240911T043316Z
LAST-MODIFIED:20240911T043316Z
UID:1713-1728640800-1728648000@sust-harima.org
SUMMARY:播磨町就職等自立支援セミナー「自分らしさ発見プログラム」
DESCRIPTION:物事のとらえ方や視点を変えることで、\nあなたが短所だと思っていることも長所に変えることができます。\n他の参加者と一緒に新たな「自分らしさ」を発見しましょう。 \n・【日時】2024年10月11日(金)　10:00～12:00 \n・【場所】播磨町福祉会館 \nチラシのダウンロード
URL:https://sust-harima.org/event/%e6%92%ad%e7%a3%a8%e7%94%ba%e5%b0%b1%e8%81%b7%e7%ad%89%e8%87%aa%e7%ab%8b%e6%94%af%e6%8f%b4%e3%82%bb%e3%83%9f%e3%83%8a%e3%83%bc%e3%80%8c%e8%87%aa%e5%88%86%e3%82%89%e3%81%97%e3%81%95%e7%99%ba%e8%a6%8b/
LOCATION:播磨町福祉会館\, 加古郡播磨町宮北１丁目３−５\, 兵庫県\, 675-0143\, 日本
CATEGORIES:セミナー
END:VEVENT
BEGIN:VEVENT
DTSTART;TZID=UTC:20241010T093000
DTEND;TZID=UTC:20241010T113000
DTSTAMP:20260425T154137
CREATED:20240911T043323Z
LAST-MODIFIED:20240911T043323Z
UID:1711-1728552600-1728559800@sust-harima.org
SUMMARY:プチボラ(封入作業)
DESCRIPTION:チラシの封入作業を一緒にしませんか？\n普段しない作業を通して意外な長所が発見できるかもしれません。 \n・【日時】2024年10月10日(木)　9:30～11:30 \n・【場所】サテライト播磨 \n  \n  \n当講座は登録者専用となります。\nあかしサポステに未登録の方は、まずは「個別相談申し込みフォーム」から登録お願い致します。 \n個別相談申し込みフォームはこちら
URL:https://sust-harima.org/event/%e3%83%97%e3%83%81%e3%83%9c%e3%83%a9%e5%b0%81%e5%85%a5%e4%bd%9c%e6%a5%ad-12/
LOCATION:サテライト播磨\, 加古川市加古川町溝之口755\, 兵庫県\, 673-0064\, 日本
CATEGORIES:ジョブトレーニング
END:VEVENT
BEGIN:VEVENT
DTSTART;TZID=UTC:20241007T140000
DTEND;TZID=UTC:20241007T143000
DTSTAMP:20260425T154137
CREATED:20240911T043333Z
LAST-MODIFIED:20240911T043333Z
UID:1709-1728309600-1728311400@sust-harima.org
SUMMARY:サポステ説明会
DESCRIPTION:サポステの施設を見学しながら、どんな支援が受けられるかをご説明いたします。\n利用を迷われている方や、興味がある方は、お気軽にご参加ください。 \n・【日時】2024年10月7日(月)　14:00～14:30 \n・【場所】あかし若者サポートステーション
URL:https://sust-harima.org/event/%e3%82%b5%e3%83%9d%e3%82%b9%e3%83%86%e8%aa%ac%e6%98%8e%e4%bc%9a-12/
LOCATION:あかし若者サポートステーション\, 38ヤングビル5階\, 明石市相生町2丁目6-5\, 兵庫県\, 673-0882\, 日本
END:VEVENT
BEGIN:VEVENT
DTSTART;TZID=UTC:20240930T100000
DTEND;TZID=UTC:20240930T113000
DTSTAMP:20260425T154137
CREATED:20240808T053024Z
LAST-MODIFIED:20240808T053024Z
UID:1654-1727690400-1727695800@sust-harima.org
SUMMARY:サポステ美術部
DESCRIPTION:絵や工作がお好きな方、一緒に制作をしてみませんか？\n今回は「透かし切り絵」を作ります。\n材料や道具の準備は不要です。お気軽にご参加下さい。 \n・【日時】2024年9月30日(月)　10:00～11:30 \n・【場所】サテライト播磨 \n  \n  \n当講座は登録者専用となります。\nあかしサポステに未登録の方は、まずは「個別相談申し込みフォーム」から登録お願い致します。 \n個別相談申し込みフォームはこちら
URL:https://sust-harima.org/event/%e3%82%b5%e3%83%9d%e3%82%b9%e3%83%86%e7%be%8e%e8%a1%93%e9%83%a8/
LOCATION:サテライト播磨\, 加古川市加古川町溝之口755\, 兵庫県\, 673-0064\, 日本
CATEGORIES:ものづくりイベント
END:VEVENT
BEGIN:VEVENT
DTSTART;TZID=UTC:20240927T133000
DTEND;TZID=UTC:20240927T163000
DTSTAMP:20260425T154137
CREATED:20240808T053040Z
LAST-MODIFIED:20240808T053040Z
UID:1652-1727443800-1727454600@sust-harima.org
SUMMARY:PC講座【Excel基礎】
DESCRIPTION:ビジネスの視点からExcelの基本を学びます。PCの経験を増やしたい方、是非ご参加ください。\nExcelは表やグラフ作成など様々な場面で活用できます。 \n・【日時】2024年9月27日(金)　13:30～16:30 \n・【場所】サテライト播磨 \n  \n  \n当講座は登録者専用となります。\nあかしサポステに未登録の方は、まずは「個別相談申し込みフォーム」から登録お願い致します。 \n個別相談申し込みフォームはこちら \n 
URL:https://sust-harima.org/event/pc%e8%ac%9b%e5%ba%a7%e3%80%90excel%e5%9f%ba%e7%a4%8e%e3%80%91-11/
LOCATION:サテライト播磨\, 加古川市加古川町溝之口755\, 兵庫県\, 673-0064\, 日本
CATEGORIES:PC講座
END:VEVENT
BEGIN:VEVENT
DTSTART;TZID=UTC:20240919T133000
DTEND;TZID=UTC:20240919T163000
DTSTAMP:20260425T154137
CREATED:20240808T053049Z
LAST-MODIFIED:20240808T053049Z
UID:1650-1726752600-1726763400@sust-harima.org
SUMMARY:PC講座【Word基礎】
DESCRIPTION:PC経験が少なく不安を感じる方はWordの基礎から学んでいきましょう。\nWordは就職活動や職場など、様々な場面で活用できます。 \n・【日時】2024年9月19日(木)　13:30～16:30 \n・【場所】サテライト播磨 \n  \n  \n当講座は登録者専用となります。\nあかしサポステに未登録の方は、まずは「個別相談申し込みフォーム」から登録お願い致します。 \n個別相談申し込みフォームはこちら
URL:https://sust-harima.org/event/pc%e8%ac%9b%e5%ba%a7%e3%80%90word%e5%9f%ba%e7%a4%8e%e3%80%91-9/
LOCATION:サテライト播磨\, 加古川市加古川町溝之口755\, 兵庫県\, 673-0064\, 日本
CATEGORIES:PC講座
END:VEVENT
BEGIN:VEVENT
DTSTART;TZID=UTC:20240918T140000
DTEND;TZID=UTC:20240918T160000
DTSTAMP:20260425T154137
CREATED:20240808T053100Z
LAST-MODIFIED:20240819T041737Z
UID:1648-1726668000-1726675200@sust-harima.org
SUMMARY:就職氷河期活躍支援セミナー「これからの“キャリア”の話をしよう」
DESCRIPTION:キャリア理論、ワーク、例えを通じて、新しいキャリアの作り方を学び、\n将来の自分のなりたい姿を実現するには何が大切かについて考えます。 \n  \n・【日時】2024年9月18日(水)　14:00～16:00 \n・【場所】複合型交流拠点ウィズあかし \n \nチラシのダウンロード
URL:https://sust-harima.org/event/%e5%b0%b1%e8%81%b7%e6%b0%b7%e6%b2%b3%e6%9c%9f%e6%b4%bb%e8%ba%8d%e6%94%af%e6%8f%b4%e3%82%bb%e3%83%9f%e3%83%8a%e3%83%bc%e3%80%8c%e3%81%93%e3%82%8c%e3%81%8b%e3%82%89%e3%81%ae%e3%82%ad%e3%83%a3/
LOCATION:ウィズあかし\, 明石市東仲ノ町６−１\, 兵庫県\, 673-0886\, 日本
CATEGORIES:セミナー
END:VEVENT
BEGIN:VEVENT
DTSTART;TZID=UTC:20240913T100000
DTEND;TZID=UTC:20240913T120000
DTSTAMP:20260425T154137
CREATED:20240808T053112Z
LAST-MODIFIED:20240808T053112Z
UID:1646-1726221600-1726228800@sust-harima.org
SUMMARY:播磨町就職等自立支援セミナー「一緒に学ぼうSST！～対人関係をラクにする技術～」
DESCRIPTION:SST(ソーシャルスキルトレーニング)とは、対人関係の中で必要不可欠な技術です。\n会社や日常生活の場面をもとにロールプレイなどで解決方法を見つけていき、対人関係を良くする方法を一緒に学びます。 \n・【日時】2024年9月13日(金)　10:00～12:00 \n・【場所】播磨町福祉会館 \nチラシのダウンロード
URL:https://sust-harima.org/event/%e6%92%ad%e7%a3%a8%e7%94%ba%e5%b0%b1%e8%81%b7%e7%ad%89%e8%87%aa%e7%ab%8b%e6%94%af%e6%8f%b4%e3%82%bb%e3%83%9f%e3%83%8a%e3%83%bc%e3%80%8c%e4%b8%80%e7%b7%92%e3%81%ab%e5%ad%a6%e3%81%bc%e3%81%86sst/
LOCATION:播磨町福祉会館\, 加古郡播磨町宮北１丁目３−５\, 兵庫県\, 675-0143\, 日本
CATEGORIES:セミナー
END:VEVENT
BEGIN:VEVENT
DTSTART;TZID=UTC:20240910T100000
DTEND;TZID=UTC:20240910T120000
DTSTAMP:20260425T154137
CREATED:20240808T053124Z
LAST-MODIFIED:20240808T053124Z
UID:1644-1725962400-1725969600@sust-harima.org
SUMMARY:高砂市就職自立支援セミナー「面接が苦手な人のための面接力向上セミナー」
DESCRIPTION:就職活動の中で面接が一番不安だという方へ。\n企業の採用担当者が面接でチェックしているポイントを知り、\n受け答えのコツや就活マナーについて実践的に学ぶことで面接力を向上させましょう。 \n・【日時】2024年9月10日(火)　10:00～12:00 \n・【場所】生石研修センター(高砂市) \nチラシのダウンロード
URL:https://sust-harima.org/event/%e9%ab%98%e7%a0%82%e5%b8%82%e5%b0%b1%e8%81%b7%e8%87%aa%e7%ab%8b%e6%94%af%e6%8f%b4%e3%82%bb%e3%83%9f%e3%83%8a%e3%83%bc%e3%80%8c%e9%9d%a2%e6%8e%a5%e3%81%8c%e8%8b%a6%e6%89%8b%e3%81%aa%e4%ba%ba%e3%81%ae/
LOCATION:生石研修センター\, 高砂市阿弥陀町生石６１−２\, 兵庫県\, 676-0823\, 日本
CATEGORIES:セミナー
END:VEVENT
BEGIN:VEVENT
DTSTART;TZID=UTC:20240909T093000
DTEND;TZID=UTC:20240909T233000
DTSTAMP:20260425T154137
CREATED:20240808T053137Z
LAST-MODIFIED:20240808T053137Z
UID:1642-1725874200-1725924600@sust-harima.org
SUMMARY:プチボラ(封入作業)
DESCRIPTION:チラシの封入作業を一緒にしませんか？\n普段しない作業を通して意外な長所が発見できるかもしれません。 \n・【日時】2024年9月9日(月)　9:30～11:30 \n・【場所】あかし若者サポートステーション \n  \n  \n当講座は登録者専用となります。\nあかしサポステに未登録の方は、まずは「個別相談申し込みフォーム」から登録お願い致します。 \n個別相談申し込みフォームはこちら
URL:https://sust-harima.org/event/%e3%83%97%e3%83%81%e3%83%9c%e3%83%a9%e5%b0%81%e5%85%a5%e4%bd%9c%e6%a5%ad-11/
LOCATION:あかし若者サポートステーション\, 38ヤングビル5階\, 明石市相生町2丁目6-5\, 兵庫県\, 673-0882\, 日本
CATEGORIES:ジョブトレーニング
END:VEVENT
BEGIN:VEVENT
DTSTART;TZID=UTC:20240906T140000
DTEND;TZID=UTC:20240906T143000
DTSTAMP:20260425T154137
CREATED:20240808T053145Z
LAST-MODIFIED:20240808T053145Z
UID:1639-1725631200-1725633000@sust-harima.org
SUMMARY:サポステ説明会
DESCRIPTION:サポステの施設を見学しながら、どんな支援が受けられるかをご説明いたします。\n利用を迷われている方や、興味がある方は、お気軽にご参加ください。 \n・【日時】2024年9月6日(金)　14:00～14:30 \n・【場所】サテライト播磨
URL:https://sust-harima.org/event/%e3%82%b5%e3%83%9d%e3%82%b9%e3%83%86%e8%aa%ac%e6%98%8e%e4%bc%9a-11/
LOCATION:サテライト播磨\, 加古川市加古川町溝之口755\, 兵庫県\, 673-0064\, 日本
END:VEVENT
BEGIN:VEVENT
DTSTART;TZID=UTC:20240904T093000
DTEND;TZID=UTC:20240904T233000
DTSTAMP:20260425T154137
CREATED:20240808T053152Z
LAST-MODIFIED:20240808T053152Z
UID:1637-1725442200-1725492600@sust-harima.org
SUMMARY:はじめの一歩　プログラムA
DESCRIPTION:物事の考え方や見方の違いに気づくことができれば、あなたの短所は長所に変えることができます。\nグループワーク形式で楽しく自分のいいところを探してみませんか。 \n・【日時】2024年9月4日(水)　9:30～11:30 \n・【場所】あかし若者サポートステーション \n  \n  \n当講座は登録者専用となります。\nあかしサポステに未登録の方は、まずは「個別相談申し込みフォーム」から登録お願い致します。 \n個別相談申し込みフォームはこちら
URL:https://sust-harima.org/event/%e3%81%af%e3%81%98%e3%82%81%e3%81%ae%e4%b8%80%e6%ad%a9%e3%80%80%e3%83%97%e3%83%ad%e3%82%b0%e3%83%a9%e3%83%a0a-2/
LOCATION:あかし若者サポートステーション\, 38ヤングビル5階\, 明石市相生町2丁目6-5\, 兵庫県\, 673-0882\, 日本
CATEGORIES:セミナー
END:VEVENT
BEGIN:VEVENT
DTSTART;TZID=UTC:20240826T133000
DTEND;TZID=UTC:20240826T163000
DTSTAMP:20260425T154137
CREATED:20240710T000009Z
LAST-MODIFIED:20240710T041843Z
UID:1596-1724679000-1724689800@sust-harima.org
SUMMARY:PC講座【Excel基礎】
DESCRIPTION:ビジネスの視点からExcelの基本を学びます。PCの経験を増やしたい方、是非ご参加ください。\nExcelは表やグラフ作成など様々な場面で活用できます。 \n・【日時】2024年8月26日(月)　13:30～16:30 \n・【場所】あかし若者サポートステーション \n  \n  \n当講座は登録者専用となります。\nあかしサポステに未登録の方は、まずは「個別相談申し込みフォーム」から登録お願い致します。 \n個別相談申し込みフォームはこちら \n 
URL:https://sust-harima.org/event/pc%e8%ac%9b%e5%ba%a7%e3%80%90excel%e5%9f%ba%e7%a4%8e%e3%80%91-10/
LOCATION:あかし若者サポートステーション\, 38ヤングビル5階\, 明石市相生町2丁目6-5\, 兵庫県\, 673-0882\, 日本
CATEGORIES:PC講座
END:VEVENT
BEGIN:VEVENT
DTSTART;TZID=UTC:20240823T133000
DTEND;TZID=UTC:20240823T163000
DTSTAMP:20260425T154137
CREATED:20240710T000026Z
LAST-MODIFIED:20240710T041856Z
UID:1593-1724419800-1724430600@sust-harima.org
SUMMARY:PC講座【Word基礎】
DESCRIPTION:PC経験が少なく不安を感じる方はWordの基礎から学んでいきましょう。\nWordは就職活動や職場など、様々な場面で活用できます。 \n・【日時】2024年8月23日(金)　13:30～16:30 \n・【場所】あかし若者サポートステーション \n  \n  \n当講座は登録者専用となります。\nあかしサポステに未登録の方は、まずは「個別相談申し込みフォーム」から登録お願い致します。 \n個別相談申し込みフォームはこちら
URL:https://sust-harima.org/event/pc%e8%ac%9b%e5%ba%a7%e3%80%90word%e5%9f%ba%e7%a4%8e%e3%80%91-10/
LOCATION:あかし若者サポートステーション\, 38ヤングビル5階\, 明石市相生町2丁目6-5\, 兵庫県\, 673-0882\, 日本
CATEGORIES:PC講座
END:VEVENT
BEGIN:VEVENT
DTSTART;TZID=UTC:20240821T140000
DTEND;TZID=UTC:20240821T160000
DTSTAMP:20260425T154137
CREATED:20240710T000011Z
LAST-MODIFIED:20240710T041921Z
UID:1584-1724248800-1724256000@sust-harima.org
SUMMARY:就職氷河期活躍支援セミナー「レジリエンスを高めよう！～困難をしなやかに乗り越え回復する力～」
DESCRIPTION:レジリエンス(立ち直り力)は誰でも持っている力です。\nビジネスの現場でも注目されているこのレジリエンスを高める方法を学びます。 \n  \n・【日時】2024年8月21日(土)　14:00～16:00 \n・【場所】複合型交流拠点ウィズあかし \n  \n 
URL:https://sust-harima.org/event/%e5%b0%b1%e8%81%b7%e6%b0%b7%e6%b2%b3%e6%9c%9f%e6%b4%bb%e8%ba%8d%e6%94%af%e6%8f%b4%e3%82%bb%e3%83%9f%e3%83%8a%e3%83%bc%e3%80%8c%e3%83%ac%e3%82%b8%e3%83%aa%e3%82%a8%e3%83%b3%e3%82%b9%e3%82%92%e9%ab%98/
LOCATION:ウィズあかし\, 明石市東仲ノ町６−１\, 兵庫県\, 673-0886\, 日本
CATEGORIES:セミナー
END:VEVENT
BEGIN:VEVENT
DTSTART;TZID=UTC:20240819T140000
DTEND;TZID=UTC:20240819T143000
DTSTAMP:20260425T154137
CREATED:20240710T000002Z
LAST-MODIFIED:20240710T041935Z
UID:1581-1724076000-1724077800@sust-harima.org
SUMMARY:サポステ説明会
DESCRIPTION:サポステの施設を見学しながら、どんな支援が受けられるかをご説明いたします。\n利用を迷われている方や、興味がある方は、お気軽にご参加ください。 \n\n【日時】2024年8月19日(月)\n【場所】あかし若者サポートステーション
URL:https://sust-harima.org/event/%e3%82%b5%e3%83%9d%e3%82%b9%e3%83%86%e8%aa%ac%e6%98%8e%e4%bc%9a-10/
LOCATION:あかし若者サポートステーション\, 38ヤングビル5階\, 明石市相生町2丁目6-5\, 兵庫県\, 673-0882\, 日本
END:VEVENT
BEGIN:VEVENT
DTSTART;TZID=UTC:20240809T100000
DTEND;TZID=UTC:20240809T120000
DTSTAMP:20260425T154137
CREATED:20240710T000002Z
LAST-MODIFIED:20240710T041624Z
UID:1578-1723197600-1723204800@sust-harima.org
SUMMARY:播磨町就職等自立支援セミナー「EQ～こころの知能指数の活かし方～」
DESCRIPTION:自分の感情をコントロールし、他社の感情を読み取ることができればより良い人間関係が生まれます。\nそのためには、脳のしくみから情動のメカニズムを理解し、職場において適切な対処を学びます。 \n・【日時】2024年8月9日(金)　10:00～12:00 \n・【場所】播磨町福祉会館 \nチラシのダウンロード
URL:https://sust-harima.org/event/%e6%92%ad%e7%a3%a8%e7%94%ba%e5%b0%b1%e8%81%b7%e7%ad%89%e8%87%aa%e7%ab%8b%e6%94%af%e6%8f%b4%e3%82%bb%e3%83%9f%e3%83%8a%e3%83%bc%e3%80%8ceq%ef%bd%9e%e3%81%93%e3%81%93%e3%82%8d%e3%81%ae%e7%9f%a5%e8%83%bd/
LOCATION:播磨町福祉会館\, 加古郡播磨町宮北１丁目３−５\, 兵庫県\, 675-0143\, 日本
CATEGORIES:セミナー
END:VEVENT
BEGIN:VEVENT
DTSTART;TZID=UTC:20240808T093000
DTEND;TZID=UTC:20240808T113000
DTSTAMP:20260425T154137
CREATED:20240710T000046Z
LAST-MODIFIED:20240710T041951Z
UID:1574-1723109400-1723116600@sust-harima.org
SUMMARY:プチボラ(封入作業)
DESCRIPTION:チラシの封入作業を一緒にしませんか？\n普段しない作業を通して意外な長所が発見できるかもしれません。 \n・【日時】2024年8月8日(木)　9:30～11:30 \n・【場所】サテライト播磨 \n  \n  \n当講座は登録者専用となります。\nあかしサポステに未登録の方は、まずは「個別相談申し込みフォーム」から登録お願い致します。 \n個別相談申し込みフォームはこちら
URL:https://sust-harima.org/event/%e3%83%97%e3%83%81%e3%83%9c%e3%83%a9%e5%b0%81%e5%85%a5%e4%bd%9c%e6%a5%ad-10/
LOCATION:サテライト播磨\, 加古川市加古川町溝之口755\, 兵庫県\, 673-0064\, 日本
CATEGORIES:ジョブトレーニング
END:VEVENT
END:VCALENDAR