BEGIN:VCALENDAR
VERSION:2.0
PRODID:-//あかしサポステ - ECPv6.2.9//NONSGML v1.0//EN
CALSCALE:GREGORIAN
METHOD:PUBLISH
X-WR-CALNAME:あかしサポステ
X-ORIGINAL-URL:https://sust-harima.org
X-WR-CALDESC:あかしサポステ のイベント
REFRESH-INTERVAL;VALUE=DURATION:PT1H
X-Robots-Tag:noindex
X-PUBLISHED-TTL:PT1H
BEGIN:VTIMEZONE
TZID:UTC
BEGIN:STANDARD
TZOFFSETFROM:+0000
TZOFFSETTO:+0000
TZNAME:UTC
DTSTART:20230101T000000
END:STANDARD
END:VTIMEZONE
BEGIN:VEVENT
DTSTART;TZID=UTC:20240322T133000
DTEND;TZID=UTC:20240322T163000
DTSTAMP:20260426T011645
CREATED:20240208T052559Z
LAST-MODIFIED:20240208T052559Z
UID:1205-1711114200-1711125000@sust-harima.org
SUMMARY:1day面接対策セミナー
DESCRIPTION:就職活動の中で一番不安なことは「面接」だという方も多いと思います。\nこの講座では、就職活動のポイントを実践的に学んだうえで、面接力を向上させるコツをお伝えします。 \n・【日時】2024年3月22日(金)　13:30～16:30 \n・【場所】明石市立勤労福祉会館 \n  \n  \n当講座は登録者専用となります。\nあかしサポステに未登録の方は、まずは「個別相談申し込みフォーム」から登録お願い致します。 \n個別相談申し込みフォームはこちら \n 
URL:https://sust-harima.org/event/1day%e9%9d%a2%e6%8e%a5%e5%af%be%e7%ad%96%e3%82%bb%e3%83%9f%e3%83%8a%e3%83%bc/
LOCATION:明石市勤労福祉会館\, 明石市相生町２丁目７−１２\, 兵庫県\, 673-0882\, 日本
CATEGORIES:セミナー
END:VEVENT
BEGIN:VEVENT
DTSTART;TZID=UTC:20240318T133000
DTEND;TZID=UTC:20240318T163000
DTSTAMP:20260426T011645
CREATED:20240208T052608Z
LAST-MODIFIED:20240208T052608Z
UID:1202-1710768600-1710779400@sust-harima.org
SUMMARY:PC講座【Word基礎】
DESCRIPTION:PC経験が少なく不安を感じる方はWordの基礎から学んでいきましょう。\nWordは就職活動や職場など、様々な場面で活用できます。 \n・【日時】2024年3月18日(月)　13:30～16:30 \n・【場所】サテライト播磨 \n  \n  \n当講座は登録者専用となります。\nあかしサポステに未登録の方は、まずは「個別相談申し込みフォーム」から登録お願い致します。 \n個別相談申し込みフォームはこちら \n 
URL:https://sust-harima.org/event/pc%e8%ac%9b%e5%ba%a7%e3%80%90word%e5%9f%ba%e7%a4%8e%e3%80%91-5/
LOCATION:サテライト播磨\, 加古川市加古川町溝之口755\, 兵庫県\, 673-0064\, 日本
CATEGORIES:PC講座
END:VEVENT
BEGIN:VEVENT
DTSTART;TZID=UTC:20240315T140000
DTEND;TZID=UTC:20240315T143000
DTSTAMP:20260426T011645
CREATED:20240208T052621Z
LAST-MODIFIED:20240208T052621Z
UID:1211-1710511200-1710513000@sust-harima.org
SUMMARY:サポステ説明会
DESCRIPTION:サポステの施設を見学しながら、どんな支援が受けられるかをご説明いたします。 \n利用を迷われている方や、興味がある方は、お気軽にご参加ください。 \n\n【日時】2024年3月15日(金)\n【場所】サテライト播磨
URL:https://sust-harima.org/event/%e3%82%b5%e3%83%9d%e3%82%b9%e3%83%86%e8%aa%ac%e6%98%8e%e4%bc%9a-5/
LOCATION:サテライト播磨\, 加古川市加古川町溝之口755\, 兵庫県\, 673-0064\, 日本
END:VEVENT
BEGIN:VEVENT
DTSTART;TZID=UTC:20240314T093000
DTEND;TZID=UTC:20240314T113000
DTSTAMP:20260426T011645
CREATED:20240208T052631Z
LAST-MODIFIED:20240208T052631Z
UID:1196-1710408600-1710415800@sust-harima.org
SUMMARY:人生すごろく　金の糸
DESCRIPTION:学生時代の経験を一つ一つ語る中からそれらの経験を繋ぐ「つながり」すなわち「自分らしさ」がみえてきます。\nその繋がりを糸にたとえて「金の糸」と呼びます。\n金の糸は就職先を決める時、重要な手掛かりになるでしょう。\nあなたも自分の金の糸を見つけに来ませんか？ \n・【日時】2024年3月14日(木)　9:30～11:30 \n・【場所】サテライト播磨 \n  \n  \n当講座は登録者専用となります。\nあかしサポステに未登録の方は、まずは「個別相談申し込みフォーム」から登録お願い致します。 \n個別相談申し込みフォームはこちら
URL:https://sust-harima.org/event/%e4%ba%ba%e7%94%9f%e3%81%99%e3%81%94%e3%82%8d%e3%81%8f%e3%80%80%e9%87%91%e3%81%ae%e7%b3%b8/
LOCATION:サテライト播磨\, 加古川市加古川町溝之口755\, 兵庫県\, 673-0064\, 日本
CATEGORIES:セミナー
END:VEVENT
BEGIN:VEVENT
DTSTART;TZID=UTC:20240309T130000
DTEND;TZID=UTC:20240309T150000
DTSTAMP:20260426T011645
CREATED:20240208T052641Z
LAST-MODIFIED:20240208T052641Z
UID:1190-1709989200-1709996400@sust-harima.org
SUMMARY:働く力アップセミナー　サポステ家族セミナー「家族支援セミナー～自立に向けて家族だからできること～」
DESCRIPTION:立ち止まる理由はさまざまですが、動き出すきっかけは家族の関わりがとても大きいと考えます。\n子を理解し、日常の中から家族だからできることを一緒に考えていくセミナーです。 \n・【日時】2024年3月9日(土)　13:00～15::00 \n・【場所】生石研修センター(高砂市) \n \nチラシのダウンロード \n 
URL:https://sust-harima.org/event/%e5%83%8d%e3%81%8f%e5%8a%9b%e3%82%a2%e3%83%83%e3%83%97%e3%82%bb%e3%83%9f%e3%83%8a%e3%83%bc%e3%80%80%e3%82%b5%e3%83%9d%e3%82%b9%e3%83%86%e5%ae%b6%e6%97%8f%e3%82%bb%e3%83%9f%e3%83%8a%e3%83%bc%e3%80%8c/
LOCATION:生石研修センター\, 高砂市阿弥陀町生石６１−２\, 兵庫県\, 676-0823\, 日本
CATEGORIES:セミナー
END:VEVENT
BEGIN:VEVENT
DTSTART;TZID=UTC:20240308T093000
DTEND;TZID=UTC:20240308T113000
DTSTAMP:20260426T011645
CREATED:20240208T052649Z
LAST-MODIFIED:20240208T052649Z
UID:1187-1709890200-1709897400@sust-harima.org
SUMMARY:プチボラ(封入作業)
DESCRIPTION:チラシの封入作業を一緒にしませんか？ \n普段しない作業を通して意外な長所が発見できるかもしれません。 \n・【日時】2024年3月8日(金)　9:30～11:30 \n・【場所】あかし若者サポートステーション \n  \n  \n当講座は登録者専用となります。\nあかしサポステに未登録の方は、まずは「個別相談申し込みフォーム」から登録お願い致します。 \n個別相談申し込みフォームはこちら
URL:https://sust-harima.org/event/%e3%83%97%e3%83%81%e3%83%9c%e3%83%a9%e5%b0%81%e5%85%a5%e4%bd%9c%e6%a5%ad-5/
LOCATION:あかし若者サポートステーション\, 38ヤングビル5階\, 明石市相生町2丁目6-5\, 兵庫県\, 673-0882\, 日本
CATEGORIES:ジョブトレーニング
END:VEVENT
BEGIN:VEVENT
DTSTART;TZID=UTC:20240306T093000
DTEND;TZID=UTC:20240306T233000
DTSTAMP:20260426T011645
CREATED:20240208T052658Z
LAST-MODIFIED:20240208T053424Z
UID:1177-1709717400-1709767800@sust-harima.org
SUMMARY:感情的にならないアンガーマネジメント
DESCRIPTION:感情的になってイライラして反省したことはありませんか？ \n怒りは、身近な感情であり、無くすことができない大切な感情です。 \n自分の怒りに振り回されずに上手に付き合うコツについて学びます。 \n・【日時】2024年3月6日(水)　9:30～11:30 \n・【場所】あかし若者サポートステーション \n  \n  \n当講座は登録者専用となります。\nあかしサポステに未登録の方は、まずは「個別相談申し込みフォーム」から登録お願い致します。 \n個別相談申し込みフォームはこちら
URL:https://sust-harima.org/event/%e3%82%a2%e3%83%b3%e3%82%ac%e3%83%bc%e3%82%b3%e3%83%b3%e3%83%88%e3%83%ad%e3%83%bc%e3%83%ab%e8%ac%9b%e5%ba%a7/
LOCATION:あかし若者サポートステーション\, 38ヤングビル5階\, 明石市相生町2丁目6-5\, 兵庫県\, 673-0882\, 日本
CATEGORIES:セミナー
END:VEVENT
BEGIN:VEVENT
DTSTART;TZID=UTC:20240228T093000
DTEND;TZID=UTC:20240228T120000
DTSTAMP:20260426T011645
CREATED:20240111T055934Z
LAST-MODIFIED:20240112T002720Z
UID:1165-1709112600-1709121600@sust-harima.org
SUMMARY:働くための身体づくり
DESCRIPTION:働く前の準備のために、まずは自分でできる健康づくりから始めましょう。\n自分の今の心と身体を確認し、いい汗かいてみんなでリフレッシュしましょう。 \n・【日時】2024年2月28日(水)　9:30～11:50 \n・【場所】明石市勤労福祉会館 \n・【持ち物】上履き、タオル、動きやすい服装、飲み物 \n  \n  \n当講座は登録者専用となります。\nあかしサポステに未登録の方は、まずは「個別相談申し込みフォーム」から登録お願い致します。 \n個別相談申し込みフォームはこちら
URL:https://sust-harima.org/event/%e5%83%8d%e3%81%8f%e3%81%9f%e3%82%81%e3%81%ae%e8%ba%ab%e4%bd%93%e3%81%a5%e3%81%8f%e3%82%8a-2/
LOCATION:明石市勤労福祉会館\, 明石市相生町２丁目７−１２\, 兵庫県\, 673-0882\, 日本
CATEGORIES:セミナー
END:VEVENT
BEGIN:VEVENT
DTSTART;TZID=UTC:20240226T133000
DTEND;TZID=UTC:20240226T163000
DTSTAMP:20260426T011645
CREATED:20240111T055047Z
LAST-MODIFIED:20240111T055047Z
UID:1161-1708954200-1708965000@sust-harima.org
SUMMARY:PC講座【Excel基礎】
DESCRIPTION:ビジネスの視点からExcelの基本を学びます。PCの経験を増やしたい方、是非ご参加ください。\nExcelは表やグラフ作成など様々な場面で活用できます。 \n・【日時】2024年2月26日(月)　13:30～16:00 \n・【場所】あかし若者サポートステーション \n  \n  \n当講座は登録者専用となります。\nあかしサポステに未登録の方は、まずは「個別相談申し込みフォーム」から登録お願い致します。 \n個別相談申し込みフォームはこちら \n  \n 
URL:https://sust-harima.org/event/pc%e8%ac%9b%e5%ba%a7%e3%80%90excel%e5%9f%ba%e7%a4%8e%e3%80%91-4/
LOCATION:あかし若者サポートステーション\, 38ヤングビル5階\, 明石市相生町2丁目6-5\, 兵庫県\, 673-0882\, 日本
CATEGORIES:PC講座
END:VEVENT
BEGIN:VEVENT
DTSTART;TZID=UTC:20240224T140000
DTEND;TZID=UTC:20240224T160000
DTSTAMP:20260426T011645
CREATED:20240111T052507Z
LAST-MODIFIED:20240219T052319Z
UID:1157-1708783200-1708790400@sust-harima.org
SUMMARY:自立就職支援セミナー「自分らしく生きる～不安との向き合い方～」
DESCRIPTION:定員に達しましたので、予約受付は終了しております。(2024/2/19) \n  \n講師：須磨寺副住職　小池陽人　師 \n自分らしく生きていますか？\n「生きるとは？自立とは？働くとは？」\nそんな視点から自分なりの答えを見つけましょう。 \n・【日時】2024年2月24日(土)　14:00～15:50 \n・【場所】ウィズあかし \n  \n \nチラシのダウンロードはこちら
URL:https://sust-harima.org/event/%e8%87%aa%e7%ab%8b%e5%b0%b1%e8%81%b7%e6%94%af%e6%8f%b4%e3%82%bb%e3%83%9f%e3%83%8a%e3%83%bc%e3%80%8c%e8%87%aa%e5%88%86%e3%82%89%e3%81%97%e3%81%8f%e7%94%9f%e3%81%8d%e3%82%8b%ef%bd%9e%e4%b8%8d%e5%ae%89/
LOCATION:ウィズあかし\, 明石市東仲ノ町６−１\, 兵庫県\, 673-0886\, 日本
CATEGORIES:セミナー
END:VEVENT
BEGIN:VEVENT
DTSTART;TZID=UTC:20240221T093000
DTEND;TZID=UTC:20240221T113000
DTSTAMP:20260426T011645
CREATED:20240111T051437Z
LAST-MODIFIED:20240111T051437Z
UID:1152-1708507800-1708515000@sust-harima.org
SUMMARY:自己肯定感の高め方
DESCRIPTION:自分らしく働くために、自己肯定感を高めることが大切です。\nまずは自分と向き合いましょう。ありのままの自分を知り、受け入れる方法や心の使い方を一緒に学んでみませんか。 \n・【日時】2024年2月21日(水)　9:30～11:30 \n・【場所】サテライト播磨 \n  \n  \n当講座は登録者専用となります。\nあかしサポステに未登録の方は、まずは「個別相談申し込みフォーム」から登録お願い致します。 \n個別相談申し込みフォームはこちら
URL:https://sust-harima.org/event/%e8%87%aa%e5%b7%b1%e8%82%af%e5%ae%9a%e6%84%9f%e3%81%ae%e9%ab%98%e3%82%81%e6%96%b9/
LOCATION:サテライト播磨\, 加古川市加古川町溝之口755\, 兵庫県\, 673-0064\, 日本
CATEGORIES:セミナー
END:VEVENT
BEGIN:VEVENT
DTSTART;TZID=UTC:20240219T133000
DTEND;TZID=UTC:20240219T163000
DTSTAMP:20260426T011645
CREATED:20240111T050404Z
LAST-MODIFIED:20240111T050404Z
UID:1148-1708349400-1708360200@sust-harima.org
SUMMARY:PC講座【Word基礎】
DESCRIPTION:PC経験が少なく不安を感じる方はWordの基礎から学んでいきましょう。\nWordは就職活動や職場など、様々な場面で活用できます。 \n・【日時】2024年2月19日(月)　13:30～16:30 \n・【場所】あかし若者サポートステーション \n  \n  \n当講座は登録者専用となります。\nあかしサポステに未登録の方は、まずは「個別相談申し込みフォーム」から登録お願い致します。 \n個別相談申し込みフォームはこちら
URL:https://sust-harima.org/event/pc%e8%ac%9b%e5%ba%a7%e3%80%90word%e5%9f%ba%e7%a4%8e%e3%80%91-4/
LOCATION:あかし若者サポートステーション\, 38ヤングビル5階\, 明石市相生町2丁目6-5\, 兵庫県\, 673-0882\, 日本
CATEGORIES:PC講座
END:VEVENT
BEGIN:VEVENT
DTSTART;TZID=UTC:20240216T140000
DTEND;TZID=UTC:20240216T143000
DTSTAMP:20260426T011645
CREATED:20240111T045702Z
LAST-MODIFIED:20240111T045856Z
UID:1145-1708092000-1708093800@sust-harima.org
SUMMARY:サポステ説明会
DESCRIPTION:サポステの施設を見学しながら、どんな支援が受けられるかをご説明いたします。\n利用を迷われている方や、興味がある方は、お気軽にご参加ください。 \n・【日時】2024年2月16日 (金)　14:00～14:30 \n・【場所】あかし若者サポートステーション \n 
URL:https://sust-harima.org/event/%e3%82%b5%e3%83%9d%e3%82%b9%e3%83%86%e8%aa%ac%e6%98%8e%e4%bc%9a-4/
LOCATION:あかし若者サポートステーション\, 38ヤングビル5階\, 明石市相生町2丁目6-5\, 兵庫県\, 673-0882\, 日本
END:VEVENT
BEGIN:VEVENT
DTSTART;TZID=UTC:20240213T100000
DTEND;TZID=UTC:20240213T120000
DTSTAMP:20260426T011645
CREATED:20240111T044017Z
LAST-MODIFIED:20240111T044017Z
UID:1133-1707818400-1707825600@sust-harima.org
SUMMARY:働く力アップセミナー「面接が苦手な人のための面接力向上セミナー」
DESCRIPTION:企業の採用担当者が面接でチェックしているポイントを知り、\n受け答えのコツや就活マナーについて実践的に学ぶことで、面接力を向上させましょう！ \n・【日時】2024年2月13日(火)　10:00～12:00 \n・【場所】生石研修センター(高砂市) \n  \n \nチラシのダウンロード \n 
URL:https://sust-harima.org/event/%e5%83%8d%e3%81%8f%e5%8a%9b%e3%82%a2%e3%83%83%e3%83%97%e3%82%bb%e3%83%9f%e3%83%8a%e3%83%bc%e3%80%8c%e9%9d%a2%e6%8e%a5%e3%81%8c%e8%8b%a6%e6%89%8b%e3%81%aa%e4%ba%ba%e3%81%ae%e3%81%9f%e3%82%81%e3%81%ae/
LOCATION:生石研修センター\, 高砂市阿弥陀町生石６１−２\, 兵庫県\, 676-0823\, 日本
CATEGORIES:セミナー
END:VEVENT
BEGIN:VEVENT
DTSTART;TZID=UTC:20240210T100000
DTEND;TZID=UTC:20240210T120000
DTSTAMP:20260426T011645
CREATED:20240111T043528Z
LAST-MODIFIED:20240111T043528Z
UID:1130-1707559200-1707566400@sust-harima.org
SUMMARY:播磨町就職等自立支援セミナー「子どもの就労に悩む家族へ～一歩を踏み出すために家族だからできること～」
DESCRIPTION:働けない理由はさまざまですが、一歩を踏み出すきっかけは家族のかかわりがとても大切だと考えています。\n日常生活の中から、ほんの少し変えるだけでいいのです。\n同じ悩みを持つ家族同士が語らいながら、自分たちにできることを一緒に考えます。 \n・【日時】2024年2月10日(土)10:00～12:00 \n・【場所】播磨町福祉会館 \n  \n \nチラシのダウンロード
URL:https://sust-harima.org/event/%e6%92%ad%e7%a3%a8%e7%94%ba%e5%b0%b1%e8%81%b7%e7%ad%89%e8%87%aa%e7%ab%8b%e6%94%af%e6%8f%b4%e3%82%bb%e3%83%9f%e3%83%8a%e3%83%bc%e3%80%8c%e5%ad%90%e3%81%a9%e3%82%82%e3%81%ae%e5%b0%b1%e5%8a%b4%e3%81%ab/
LOCATION:播磨町福祉会館\, 加古郡播磨町宮北１丁目３−５\, 兵庫県\, 675-0143\, 日本
CATEGORIES:セミナー
END:VEVENT
BEGIN:VEVENT
DTSTART;TZID=UTC:20240208T093000
DTEND;TZID=UTC:20240208T233000
DTSTAMP:20260426T011645
CREATED:20240111T011038Z
LAST-MODIFIED:20240111T011931Z
UID:1124-1707384600-1707435000@sust-harima.org
SUMMARY:プチボラ(封入作業)
DESCRIPTION:チラシの封入作業を一緒にしませんか？ \n普段しない作業を通して意外な長所が発見できるかもしれません。 \n・【日時】2024年2月8日(木)　9:30～11:30 \n・【場所】サテライト播磨 \n  \n  \n当講座は登録者専用となります。\nあかしサポステに未登録の方は、まずは「個別相談申し込みフォーム」から登録お願い致します。 \n個別相談申し込みフォームはこちら
URL:https://sust-harima.org/event/%e3%83%97%e3%83%81%e3%83%9c%e3%83%a9%e5%b0%81%e5%85%a5%e4%bd%9c%e6%a5%ad-4/
LOCATION:サテライト播磨\, 加古川市加古川町溝之口755\, 兵庫県\, 673-0064\, 日本
CATEGORIES:ジョブトレーニング
END:VEVENT
BEGIN:VEVENT
DTSTART;TZID=UTC:20240130T093000
DTEND;TZID=UTC:20240130T233000
DTSTAMP:20260426T011645
CREATED:20231215T055051Z
LAST-MODIFIED:20231215T055242Z
UID:1098-1706607000-1706657400@sust-harima.org
SUMMARY:はじめの一歩　プログラムA
DESCRIPTION:物事の考え方や見方の違いに気付くことができれば、あなたの短所は長所に変えることができます。 \nグループワーク形式で楽しく自分のいいところを探してみませんか。 \n\n【日時】2024年1月30日(火)\n【場所】あかし若者サポートステーション\n\n  \n  \n当講座は登録者専用となります。\nあかしサポステに未登録の方は、まずは「個別相談申し込みフォーム」から登録お願い致します。 \n個別相談申し込みフォームはこちら
URL:https://sust-harima.org/event/%e3%81%af%e3%81%98%e3%82%81%e3%81%ae%e4%b8%80%e6%ad%a9%e3%80%80%e3%83%97%e3%83%ad%e3%82%b0%e3%83%a9%e3%83%a0a/
LOCATION:あかし若者サポートステーション\, 38ヤングビル5階\, 明石市相生町2丁目6-5\, 兵庫県\, 673-0882\, 日本
CATEGORIES:セミナー
END:VEVENT
BEGIN:VEVENT
DTSTART;TZID=UTC:20240129T133000
DTEND;TZID=UTC:20240129T163000
DTSTAMP:20260426T011645
CREATED:20231215T054611Z
LAST-MODIFIED:20231215T055027Z
UID:1095-1706535000-1706545800@sust-harima.org
SUMMARY:PC講座【Excel基礎】
DESCRIPTION:ビジネスの視点からExcelの基本を学びます。 \nPCの経験を増やしたい方、是非ご参加ください。 \nExcelは表やグラフ作成など様々な場面で活用できます。 \n  \n  \n当講座は登録者専用となります。\nあかしサポステに未登録の方は、まずは「個別相談申し込みフォーム」から登録お願い致します。 \n個別相談申し込みフォームはこちら \n  \n  \n当講座は登録者専用となります。\nあかしサポステに未登録の方は、まずは「個別相談申し込みフォーム」から登録お願い致します。 \n個別相談申し込みフォームはこちら
URL:https://sust-harima.org/event/pc%e8%ac%9b%e5%ba%a7%e3%80%90excel%e5%9f%ba%e7%a4%8e%e3%80%91-3/
LOCATION:サテライト播磨\, 加古川市加古川町溝之口755\, 兵庫県\, 673-0064\, 日本
CATEGORIES:PC講座
END:VEVENT
BEGIN:VEVENT
DTSTART;TZID=UTC:20240125T140000
DTEND;TZID=UTC:20240125T160000
DTSTAMP:20260426T011645
CREATED:20231215T054221Z
LAST-MODIFIED:20231215T054221Z
UID:1092-1706191200-1706198400@sust-harima.org
SUMMARY:就職支援セミナー「これからの“キャリア”の話をしよう」
DESCRIPTION:キャリア理論、ワーク、例えを通じて、新しいキャリアの作り方を学びましょう。 \n将来の自分のなりたい姿やありたい状態を実現するには何が大切か、一緒に考えていきましょう。 \n\n【日時】2024年1月25日(木)\n【場所】明石市勤労福祉会館\n\n \nチラシのダウンロード
URL:https://sust-harima.org/event/%e5%b0%b1%e8%81%b7%e6%94%af%e6%8f%b4%e3%82%bb%e3%83%9f%e3%83%8a%e3%83%bc%e3%80%8c%e3%81%93%e3%82%8c%e3%81%8b%e3%82%89%e3%81%ae%e3%82%ad%e3%83%a3%e3%83%aa%e3%82%a2%e3%81%ae%e8%a9%b1/
LOCATION:明石市勤労福祉会館\, 明石市相生町２丁目７−１２\, 兵庫県\, 673-0882\, 日本
CATEGORIES:セミナー
END:VEVENT
BEGIN:VEVENT
DTSTART;TZID=UTC:20240119T140000
DTEND;TZID=UTC:20240119T143000
DTSTAMP:20260426T011645
CREATED:20231215T053514Z
LAST-MODIFIED:20231215T053514Z
UID:1090-1705672800-1705674600@sust-harima.org
SUMMARY:サポステ説明会
DESCRIPTION:サポステの施設を見学しながら、どんな支援が受けられるかをご説明いたします。 \n利用を迷われている方や、興味がある方は、お気軽にご参加ください。 \n\n【日時】2024年1月19日(金)\n【場所】サテライト播磨
URL:https://sust-harima.org/event/%e3%82%b5%e3%83%9d%e3%82%b9%e3%83%86%e8%aa%ac%e6%98%8e%e4%bc%9a-3/
LOCATION:サテライト播磨\, 加古川市加古川町溝之口755\, 兵庫県\, 673-0064\, 日本
END:VEVENT
BEGIN:VEVENT
DTSTART;TZID=UTC:20240117T133000
DTEND;TZID=UTC:20240117T163000
DTSTAMP:20260426T011645
CREATED:20231215T053120Z
LAST-MODIFIED:20231215T053153Z
UID:1087-1705498200-1705509000@sust-harima.org
SUMMARY:PC講座【Word基礎】
DESCRIPTION:PC経験が少なく不安を感じる方はWordの基礎から学んでいきましょう。 \nWordは就職活動や職場など、様々な場面で活用できます。 \n\n【日時】2024年1月17日(水)\n【場所】サテライト播磨\n\n  \n  \n当講座は登録者専用となります。\nあかしサポステに未登録の方は、まずは「個別相談申し込みフォーム」から登録お願い致します。 \n個別相談申し込みフォームはこちら
URL:https://sust-harima.org/event/pc%e8%ac%9b%e5%ba%a7%e3%80%90word%e5%9f%ba%e7%a4%8e%e3%80%91-3/
LOCATION:サテライト播磨\, 加古川市加古川町溝之口755\, 兵庫県\, 673-0064\, 日本
CATEGORIES:PC講座
END:VEVENT
BEGIN:VEVENT
DTSTART;TZID=UTC:20240112T100000
DTEND;TZID=UTC:20240112T120000
DTSTAMP:20260426T011645
CREATED:20231215T052258Z
LAST-MODIFIED:20231215T052444Z
UID:1084-1705053600-1705060800@sust-harima.org
SUMMARY:播磨町就職等自立支援セミナー「レジリエンス～しなやかな心の持ち方～」
DESCRIPTION:誰もが持つ「心の回復力」であるレジリエンスを高めておけば、ストレスと上手に付き合い乗り越えて成長することができます。 \nレジリエンスについて知り、折れないしなやかな心を持つコツを学びましょう。 \n\n【日時】2024年1月12日(金)\n【場所】播磨町福祉会館\n\n \nチラシのダウンロード \n 
URL:https://sust-harima.org/event/%e6%92%ad%e7%a3%a8%e7%94%ba%e5%b0%b1%e8%81%b7%e7%ad%89%e8%87%aa%e7%ab%8b%e6%94%af%e6%8f%b4%e3%82%bb%e3%83%9f%e3%83%8a%e3%83%bc%e3%80%8c%e3%83%ac%e3%82%b8%e3%83%aa%e3%82%a8%e3%83%b3%e3%82%b9%ef%bd%9e/
LOCATION:播磨町福祉会館\, 加古郡播磨町宮北１丁目３−５\, 兵庫県\, 675-0143\, 日本
CATEGORIES:セミナー
END:VEVENT
BEGIN:VEVENT
DTSTART;TZID=UTC:20240111T093000
DTEND;TZID=UTC:20240111T233000
DTSTAMP:20260426T011645
CREATED:20231215T051440Z
LAST-MODIFIED:20231215T052606Z
UID:1081-1704965400-1705015800@sust-harima.org
SUMMARY:プチボラ(封入作業)
DESCRIPTION:チラシの封入作業を一緒にしませんか？ \n普段しない作業を通して意外な長所が発見できるかもしれません。 \n\n【日時】2024年1月11日(木)\n【場所】あかし若者サポートステーション\n\n  \n  \n当講座は登録者専用となります。\nあかしサポステに未登録の方は、まずは「個別相談申し込みフォーム」から登録お願い致します。 \n個別相談申し込みフォームはこちら
URL:https://sust-harima.org/event/%e3%83%97%e3%83%81%e3%83%9c%e3%83%a9%e5%b0%81%e5%85%a5%e4%bd%9c%e6%a5%ad-3/
LOCATION:あかし若者サポートステーション\, 38ヤングビル5階\, 明石市相生町2丁目6-5\, 兵庫県\, 673-0882\, 日本
CATEGORIES:ジョブトレーニング
END:VEVENT
BEGIN:VEVENT
DTSTART;TZID=UTC:20240109T100000
DTEND;TZID=UTC:20240109T120000
DTSTAMP:20260426T011645
CREATED:20231215T050707Z
LAST-MODIFIED:20231215T051015Z
UID:1078-1704794400-1704801600@sust-harima.org
SUMMARY:働く力アップセミナー「ピンチをチャンスに変えるリフレーミング思考」
DESCRIPTION:物の見方・視点(フレーム)を変えることをリフレーミングといいます。 \n出来事自体は変わらなくても自分のフレームを変えると受け止め方が変わります。 \n問題や悩みの背景にある発想を転換し、よりよい自分に向かう一歩を踏み出しましょう。 \n\n【日時】2024年1月9日(火)　10:00～12:00\n【場所】生石研修センター(高砂市)\n\n \nチラシのダウンロード \n  \n 
URL:https://sust-harima.org/event/%e5%83%8d%e3%81%8f%e5%8a%9b%e3%82%a2%e3%83%83%e3%83%97%e3%82%bb%e3%83%9f%e3%83%8a%e3%83%bc%e3%80%8c%e3%83%94%e3%83%b3%e3%83%81%e3%82%92%e3%83%81%e3%83%a3%e3%83%b3%e3%82%b9%e3%81%ab%e5%a4%89%e3%81%88/
LOCATION:生石研修センター\, 高砂市阿弥陀町生石６１−２\, 兵庫県\, 676-0823\, 日本
CATEGORIES:セミナー
END:VEVENT
BEGIN:VEVENT
DTSTART;TZID=UTC:20231222T140000
DTEND;TZID=UTC:20231222T143000
DTSTAMP:20260426T011645
CREATED:20231116T044427Z
LAST-MODIFIED:20231127T054409Z
UID:979-1703253600-1703255400@sust-harima.org
SUMMARY:サポステ説明会
DESCRIPTION:サポステの施設を見学しながら、どんな支援が受けられるかをご説明いたします。 \n利用を迷われている方や、興味がある方は、お気軽にご参加ください。 \n\n【日時】2023年12月22日　14：00～14：30\n【場所】あかし若者サポートステーション
URL:https://sust-harima.org/event/%e3%82%b5%e3%83%9d%e3%82%b9%e3%83%86%e8%aa%ac%e6%98%8e%e4%bc%9a-2/
LOCATION:あかし若者サポートステーション\, 38ヤングビル5階\, 明石市相生町2丁目6-5\, 兵庫県\, 673-0882\, 日本
END:VEVENT
BEGIN:VEVENT
DTSTART;TZID=UTC:20231221T133000
DTEND;TZID=UTC:20231221T163000
DTSTAMP:20260426T011645
CREATED:20231116T044004Z
LAST-MODIFIED:20231130T031441Z
UID:977-1703165400-1703176200@sust-harima.org
SUMMARY:PC講座【Excel基礎】
DESCRIPTION:ビジネスの視点からExcelの基本を学びます。 \nPCの経験を増やしたいから、是非ご参加ください。 \nExcelは表やグラフ作成など様々な場面で活用できます。 \n\n【日時】2023年12月21日　13：30～16：30\n【場所】あかし若者サポートステーション\n\n  \n  \n当講座は登録者専用となります。\nあかしサポステに未登録の方は、まずは「個別相談申し込みフォーム」から登録お願い致します。 \n個別相談申し込みフォームはこちら
URL:https://sust-harima.org/event/pc%e8%ac%9b%e5%ba%a7%e3%80%90excel%e5%9f%ba%e7%a4%8e%e3%80%91-2/
LOCATION:あかし若者サポートステーション\, 38ヤングビル5階\, 明石市相生町2丁目6-5\, 兵庫県\, 673-0882\, 日本
CATEGORIES:PC講座
END:VEVENT
BEGIN:VEVENT
DTSTART;TZID=UTC:20231215T133000
DTEND;TZID=UTC:20231215T163000
DTSTAMP:20260426T011645
CREATED:20231116T043630Z
LAST-MODIFIED:20231130T031110Z
UID:975-1702647000-1702657800@sust-harima.org
SUMMARY:PC講座【Word基礎】
DESCRIPTION:PC経験が少なく不安を感じる方はWordの基礎から学んでいきましょう。 \nWordは就職活動や職場など、様々な場面で活用できます。 \n\n【日時】2023年12月15日　13：30～16：30\n【会場】あかし若者サポートステーション\n\n  \n  \n当講座は登録者専用となります。\nあかしサポステに未登録の方は、まずは「個別相談申し込みフォーム」から登録お願い致します。 \n個別相談申し込みフォームはこちら
URL:https://sust-harima.org/event/pc%e8%ac%9b%e5%ba%a7%e3%80%90word%e5%9f%ba%e7%a4%8e%e3%80%91-2/
LOCATION:あかし若者サポートステーション\, 38ヤングビル5階\, 明石市相生町2丁目6-5\, 兵庫県\, 673-0882\, 日本
CATEGORIES:PC講座
END:VEVENT
BEGIN:VEVENT
DTSTART;TZID=UTC:20231212T100000
DTEND;TZID=UTC:20231212T120000
DTSTAMP:20260426T011645
CREATED:20231116T043340Z
LAST-MODIFIED:20231129T054220Z
UID:973-1702375200-1702382400@sust-harima.org
SUMMARY:働く力アップセミナー「コミュニケーションを高めるプレゼン・発表術」
DESCRIPTION:会社という集団(チーム)の中で仕事をするときには、自分の考えを人に理解してもらうことが必要です。 \nプレゼンストーリーと資料作り、発表の基本技術と練習方法について学びます。 \n\n【日時】2023年12月12日　10：00～12：00\n【会場】生石研修センター(高砂市)\n\n \nチラシのダウンロード \n 
URL:https://sust-harima.org/event/%e5%83%8d%e3%81%8f%e5%8a%9b%e3%82%a2%e3%83%83%e3%83%97%e3%82%bb%e3%83%9f%e3%83%8a%e3%83%bc%e3%80%8c%e3%82%b3%e3%83%9f%e3%83%a5%e3%83%8b%e3%82%b1%e3%83%bc%e3%82%b7%e3%83%a7%e3%83%b3%e3%82%92%e9%ab%98/
LOCATION:生石研修センター\, 高砂市阿弥陀町生石６１−２\, 兵庫県\, 676-0823\, 日本
CATEGORIES:セミナー
END:VEVENT
BEGIN:VEVENT
DTSTART;TZID=UTC:20231211T093000
DTEND;TZID=UTC:20231211T113000
DTSTAMP:20260426T011645
CREATED:20231114T055518Z
LAST-MODIFIED:20231130T030702Z
UID:969-1702287000-1702294200@sust-harima.org
SUMMARY:プチボラ(封入作業)
DESCRIPTION:チラシの封入作業を一緒にしませんか？ \n普段しない作業を通して意外な長所が発見できるかもしれません。 \n\n【日時】2023年12月11日　9：30～11：30\n【場所】あかし若者サポートステーションサテライト播磨\n\n  \n  \n当講座は登録者専用となります。\nあかしサポステに未登録の方は、まずは「個別相談申し込みフォーム」から登録お願い致します。 \n個別相談申し込みフォームはこちら
URL:https://sust-harima.org/event/%e3%83%97%e3%83%81%e3%83%9c%e3%83%a9%e5%b0%81%e5%85%a5%e4%bd%9c%e6%a5%ad-2/
LOCATION:サテライト播磨\, 加古川市加古川町溝之口755\, 兵庫県\, 673-0064\, 日本
CATEGORIES:ジョブトレーニング
END:VEVENT
BEGIN:VEVENT
DTSTART;TZID=UTC:20231208T100000
DTEND;TZID=UTC:20231208T120000
DTSTAMP:20260426T011645
CREATED:20231114T055028Z
LAST-MODIFIED:20231129T054250Z
UID:967-1702029600-1702036800@sust-harima.org
SUMMARY:播磨町就職等自立支援セミナー「面接が苦手な人のための面接力向上セミナー」
DESCRIPTION:企業の採用担当者が面接でチェックしているポイントを知り、 \n受け答えのコツや就活マナーについて実践的に学ぶことで、面接力を向上させましょう！ \n\n【日時】2023年12月8日　10：00～12：00\n【場所】播磨町福祉会館\n\n \nチラシのダウンロード
URL:https://sust-harima.org/event/%e6%92%ad%e7%a3%a8%e7%94%ba%e5%b0%b1%e8%81%b7%e7%ad%89%e8%87%aa%e7%ab%8b%e6%94%af%e6%8f%b4%e3%82%bb%e3%83%9f%e3%83%8a%e3%83%bc%e3%80%8c%e9%9d%a2%e6%8e%a5%e3%81%8c%e8%8b%a6%e6%89%8b%e3%81%aa%e4%ba%ba/
LOCATION:播磨町福祉会館\, 加古郡播磨町宮北１丁目３−５\, 兵庫県\, 675-0143\, 日本
CATEGORIES:セミナー
END:VEVENT
END:VCALENDAR