BEGIN:VCALENDAR
VERSION:2.0
PRODID:-//あかしサポステ - ECPv6.2.9//NONSGML v1.0//EN
CALSCALE:GREGORIAN
METHOD:PUBLISH
X-ORIGINAL-URL:https://sust-harima.org
X-WR-CALDESC:あかしサポステ のイベント
REFRESH-INTERVAL;VALUE=DURATION:PT1H
X-Robots-Tag:noindex
X-PUBLISHED-TTL:PT1H
BEGIN:VTIMEZONE
TZID:UTC
BEGIN:STANDARD
TZOFFSETFROM:+0000
TZOFFSETTO:+0000
TZNAME:UTC
DTSTART:20260101T000000
END:STANDARD
END:VTIMEZONE
BEGIN:VEVENT
DTSTART;TZID=UTC:20260526T133000
DTEND;TZID=UTC:20260526T153000
DTSTAMP:20260425T111313
CREATED:20260413T040839Z
LAST-MODIFIED:20260413T040839Z
UID:2707-1779802200-1779809400@sust-harima.org
SUMMARY:PC講座【Excel基礎】
DESCRIPTION:ビジネスの視点からExcelの基本を学びます。PCの経験を増やしたい方、是非ご参加ください。\nExcelは表やグラフ作成など様々な場面で活用できます。 \n・【日時】2026年5月26日(火)　13:30～15:30 \n・【場所】サテライト播磨
URL:https://sust-harima.org/event/pc%e8%ac%9b%e5%ba%a7%e3%80%90excel%e5%9f%ba%e7%a4%8e%e3%80%91-30/
LOCATION:サテライト播磨\, 加古川市加古川町溝之口755\, 兵庫県\, 673-0064\, 日本
CATEGORIES:PC講座
END:VEVENT
BEGIN:VEVENT
DTSTART;TZID=UTC:20260527T093000
DTEND;TZID=UTC:20260527T120000
DTSTAMP:20260425T111313
CREATED:20260413T040831Z
LAST-MODIFIED:20260413T040831Z
UID:2709-1779874200-1779883200@sust-harima.org
SUMMARY:身体づくりセミナー
DESCRIPTION:働く前の準備のために、まずは自分でできる健康づくりから始めませんか？\n身体を動かすことで、就労に向けての気持ちを整えましょう。\n持ち物：上履き、動きやすい服装、タオル、飲み物 \n・【日時】2026年5月27日(水)　9:30～11:50 \n・【場所】明石勤労福祉会館 \n  \n  \n当講座は登録者専用となります。\nあかしサポステに未登録の方は、まずは「個別相談申し込みフォーム」から登録お願い致します。 \n個別相談申し込みフォームはこちら
URL:https://sust-harima.org/event/%e8%ba%ab%e4%bd%93%e3%81%a5%e3%81%8f%e3%82%8a%e3%82%bb%e3%83%9f%e3%83%8a%e3%83%bc-5/
LOCATION:明石市勤労福祉会館\, 明石市相生町２丁目７−１２\, 兵庫県\, 673-0882\, 日本
CATEGORIES:ジョブトレーニング
END:VEVENT
END:VCALENDAR