BEGIN:VCALENDAR
VERSION:2.0
PRODID:-//あかしサポステ - ECPv6.2.9//NONSGML v1.0//EN
CALSCALE:GREGORIAN
METHOD:PUBLISH
X-WR-CALNAME:あかしサポステ
X-ORIGINAL-URL:https://sust-harima.org
X-WR-CALDESC:あかしサポステ のイベント
REFRESH-INTERVAL;VALUE=DURATION:PT1H
X-Robots-Tag:noindex
X-PUBLISHED-TTL:PT1H
BEGIN:VTIMEZONE
TZID:UTC
BEGIN:STANDARD
TZOFFSETFROM:+0000
TZOFFSETTO:+0000
TZNAME:UTC
DTSTART:20240101T000000
END:STANDARD
END:VTIMEZONE
BEGIN:VEVENT
DTSTART;TZID=UTC:20240918T140000
DTEND;TZID=UTC:20240918T160000
DTSTAMP:20260426T031055
CREATED:20240808T053100Z
LAST-MODIFIED:20240819T041737Z
UID:1648-1726668000-1726675200@sust-harima.org
SUMMARY:就職氷河期活躍支援セミナー「これからの“キャリア”の話をしよう」
DESCRIPTION:キャリア理論、ワーク、例えを通じて、新しいキャリアの作り方を学び、\n将来の自分のなりたい姿を実現するには何が大切かについて考えます。 \n  \n・【日時】2024年9月18日(水)　14:00～16:00 \n・【場所】複合型交流拠点ウィズあかし \n \nチラシのダウンロード
URL:https://sust-harima.org/event/%e5%b0%b1%e8%81%b7%e6%b0%b7%e6%b2%b3%e6%9c%9f%e6%b4%bb%e8%ba%8d%e6%94%af%e6%8f%b4%e3%82%bb%e3%83%9f%e3%83%8a%e3%83%bc%e3%80%8c%e3%81%93%e3%82%8c%e3%81%8b%e3%82%89%e3%81%ae%e3%82%ad%e3%83%a3/
LOCATION:ウィズあかし\, 明石市東仲ノ町６−１\, 兵庫県\, 673-0886\, 日本
CATEGORIES:セミナー
END:VEVENT
BEGIN:VEVENT
DTSTART;TZID=UTC:20240913T100000
DTEND;TZID=UTC:20240913T120000
DTSTAMP:20260426T031055
CREATED:20240808T053112Z
LAST-MODIFIED:20240808T053112Z
UID:1646-1726221600-1726228800@sust-harima.org
SUMMARY:播磨町就職等自立支援セミナー「一緒に学ぼうSST！～対人関係をラクにする技術～」
DESCRIPTION:SST(ソーシャルスキルトレーニング)とは、対人関係の中で必要不可欠な技術です。\n会社や日常生活の場面をもとにロールプレイなどで解決方法を見つけていき、対人関係を良くする方法を一緒に学びます。 \n・【日時】2024年9月13日(金)　10:00～12:00 \n・【場所】播磨町福祉会館 \nチラシのダウンロード
URL:https://sust-harima.org/event/%e6%92%ad%e7%a3%a8%e7%94%ba%e5%b0%b1%e8%81%b7%e7%ad%89%e8%87%aa%e7%ab%8b%e6%94%af%e6%8f%b4%e3%82%bb%e3%83%9f%e3%83%8a%e3%83%bc%e3%80%8c%e4%b8%80%e7%b7%92%e3%81%ab%e5%ad%a6%e3%81%bc%e3%81%86sst/
LOCATION:播磨町福祉会館\, 加古郡播磨町宮北１丁目３−５\, 兵庫県\, 675-0143\, 日本
CATEGORIES:セミナー
END:VEVENT
BEGIN:VEVENT
DTSTART;TZID=UTC:20240910T100000
DTEND;TZID=UTC:20240910T120000
DTSTAMP:20260426T031055
CREATED:20240808T053124Z
LAST-MODIFIED:20240808T053124Z
UID:1644-1725962400-1725969600@sust-harima.org
SUMMARY:高砂市就職自立支援セミナー「面接が苦手な人のための面接力向上セミナー」
DESCRIPTION:就職活動の中で面接が一番不安だという方へ。\n企業の採用担当者が面接でチェックしているポイントを知り、\n受け答えのコツや就活マナーについて実践的に学ぶことで面接力を向上させましょう。 \n・【日時】2024年9月10日(火)　10:00～12:00 \n・【場所】生石研修センター(高砂市) \nチラシのダウンロード
URL:https://sust-harima.org/event/%e9%ab%98%e7%a0%82%e5%b8%82%e5%b0%b1%e8%81%b7%e8%87%aa%e7%ab%8b%e6%94%af%e6%8f%b4%e3%82%bb%e3%83%9f%e3%83%8a%e3%83%bc%e3%80%8c%e9%9d%a2%e6%8e%a5%e3%81%8c%e8%8b%a6%e6%89%8b%e3%81%aa%e4%ba%ba%e3%81%ae/
LOCATION:生石研修センター\, 高砂市阿弥陀町生石６１−２\, 兵庫県\, 676-0823\, 日本
CATEGORIES:セミナー
END:VEVENT
BEGIN:VEVENT
DTSTART;TZID=UTC:20240909T093000
DTEND;TZID=UTC:20240909T233000
DTSTAMP:20260426T031055
CREATED:20240808T053137Z
LAST-MODIFIED:20240808T053137Z
UID:1642-1725874200-1725924600@sust-harima.org
SUMMARY:プチボラ(封入作業)
DESCRIPTION:チラシの封入作業を一緒にしませんか？\n普段しない作業を通して意外な長所が発見できるかもしれません。 \n・【日時】2024年9月9日(月)　9:30～11:30 \n・【場所】あかし若者サポートステーション \n  \n  \n当講座は登録者専用となります。\nあかしサポステに未登録の方は、まずは「個別相談申し込みフォーム」から登録お願い致します。 \n個別相談申し込みフォームはこちら
URL:https://sust-harima.org/event/%e3%83%97%e3%83%81%e3%83%9c%e3%83%a9%e5%b0%81%e5%85%a5%e4%bd%9c%e6%a5%ad-11/
LOCATION:あかし若者サポートステーション\, 38ヤングビル5階\, 明石市相生町2丁目6-5\, 兵庫県\, 673-0882\, 日本
CATEGORIES:ジョブトレーニング
END:VEVENT
BEGIN:VEVENT
DTSTART;TZID=UTC:20240906T140000
DTEND;TZID=UTC:20240906T143000
DTSTAMP:20260426T031055
CREATED:20240808T053145Z
LAST-MODIFIED:20240808T053145Z
UID:1639-1725631200-1725633000@sust-harima.org
SUMMARY:サポステ説明会
DESCRIPTION:サポステの施設を見学しながら、どんな支援が受けられるかをご説明いたします。\n利用を迷われている方や、興味がある方は、お気軽にご参加ください。 \n・【日時】2024年9月6日(金)　14:00～14:30 \n・【場所】サテライト播磨
URL:https://sust-harima.org/event/%e3%82%b5%e3%83%9d%e3%82%b9%e3%83%86%e8%aa%ac%e6%98%8e%e4%bc%9a-11/
LOCATION:サテライト播磨\, 加古川市加古川町溝之口755\, 兵庫県\, 673-0064\, 日本
END:VEVENT
BEGIN:VEVENT
DTSTART;TZID=UTC:20240904T093000
DTEND;TZID=UTC:20240904T233000
DTSTAMP:20260426T031055
CREATED:20240808T053152Z
LAST-MODIFIED:20240808T053152Z
UID:1637-1725442200-1725492600@sust-harima.org
SUMMARY:はじめの一歩　プログラムA
DESCRIPTION:物事の考え方や見方の違いに気づくことができれば、あなたの短所は長所に変えることができます。\nグループワーク形式で楽しく自分のいいところを探してみませんか。 \n・【日時】2024年9月4日(水)　9:30～11:30 \n・【場所】あかし若者サポートステーション \n  \n  \n当講座は登録者専用となります。\nあかしサポステに未登録の方は、まずは「個別相談申し込みフォーム」から登録お願い致します。 \n個別相談申し込みフォームはこちら
URL:https://sust-harima.org/event/%e3%81%af%e3%81%98%e3%82%81%e3%81%ae%e4%b8%80%e6%ad%a9%e3%80%80%e3%83%97%e3%83%ad%e3%82%b0%e3%83%a9%e3%83%a0a-2/
LOCATION:あかし若者サポートステーション\, 38ヤングビル5階\, 明石市相生町2丁目6-5\, 兵庫県\, 673-0882\, 日本
CATEGORIES:セミナー
END:VEVENT
BEGIN:VEVENT
DTSTART;TZID=UTC:20240826T133000
DTEND;TZID=UTC:20240826T163000
DTSTAMP:20260426T031055
CREATED:20240710T000009Z
LAST-MODIFIED:20240710T041843Z
UID:1596-1724679000-1724689800@sust-harima.org
SUMMARY:PC講座【Excel基礎】
DESCRIPTION:ビジネスの視点からExcelの基本を学びます。PCの経験を増やしたい方、是非ご参加ください。\nExcelは表やグラフ作成など様々な場面で活用できます。 \n・【日時】2024年8月26日(月)　13:30～16:30 \n・【場所】あかし若者サポートステーション \n  \n  \n当講座は登録者専用となります。\nあかしサポステに未登録の方は、まずは「個別相談申し込みフォーム」から登録お願い致します。 \n個別相談申し込みフォームはこちら \n 
URL:https://sust-harima.org/event/pc%e8%ac%9b%e5%ba%a7%e3%80%90excel%e5%9f%ba%e7%a4%8e%e3%80%91-10/
LOCATION:あかし若者サポートステーション\, 38ヤングビル5階\, 明石市相生町2丁目6-5\, 兵庫県\, 673-0882\, 日本
CATEGORIES:PC講座
END:VEVENT
BEGIN:VEVENT
DTSTART;TZID=UTC:20240823T133000
DTEND;TZID=UTC:20240823T163000
DTSTAMP:20260426T031055
CREATED:20240710T000026Z
LAST-MODIFIED:20240710T041856Z
UID:1593-1724419800-1724430600@sust-harima.org
SUMMARY:PC講座【Word基礎】
DESCRIPTION:PC経験が少なく不安を感じる方はWordの基礎から学んでいきましょう。\nWordは就職活動や職場など、様々な場面で活用できます。 \n・【日時】2024年8月23日(金)　13:30～16:30 \n・【場所】あかし若者サポートステーション \n  \n  \n当講座は登録者専用となります。\nあかしサポステに未登録の方は、まずは「個別相談申し込みフォーム」から登録お願い致します。 \n個別相談申し込みフォームはこちら
URL:https://sust-harima.org/event/pc%e8%ac%9b%e5%ba%a7%e3%80%90word%e5%9f%ba%e7%a4%8e%e3%80%91-10/
LOCATION:あかし若者サポートステーション\, 38ヤングビル5階\, 明石市相生町2丁目6-5\, 兵庫県\, 673-0882\, 日本
CATEGORIES:PC講座
END:VEVENT
BEGIN:VEVENT
DTSTART;TZID=UTC:20240821T140000
DTEND;TZID=UTC:20240821T160000
DTSTAMP:20260426T031055
CREATED:20240710T000011Z
LAST-MODIFIED:20240710T041921Z
UID:1584-1724248800-1724256000@sust-harima.org
SUMMARY:就職氷河期活躍支援セミナー「レジリエンスを高めよう！～困難をしなやかに乗り越え回復する力～」
DESCRIPTION:レジリエンス(立ち直り力)は誰でも持っている力です。\nビジネスの現場でも注目されているこのレジリエンスを高める方法を学びます。 \n  \n・【日時】2024年8月21日(土)　14:00～16:00 \n・【場所】複合型交流拠点ウィズあかし \n  \n 
URL:https://sust-harima.org/event/%e5%b0%b1%e8%81%b7%e6%b0%b7%e6%b2%b3%e6%9c%9f%e6%b4%bb%e8%ba%8d%e6%94%af%e6%8f%b4%e3%82%bb%e3%83%9f%e3%83%8a%e3%83%bc%e3%80%8c%e3%83%ac%e3%82%b8%e3%83%aa%e3%82%a8%e3%83%b3%e3%82%b9%e3%82%92%e9%ab%98/
LOCATION:ウィズあかし\, 明石市東仲ノ町６−１\, 兵庫県\, 673-0886\, 日本
CATEGORIES:セミナー
END:VEVENT
BEGIN:VEVENT
DTSTART;TZID=UTC:20240819T140000
DTEND;TZID=UTC:20240819T143000
DTSTAMP:20260426T031055
CREATED:20240710T000002Z
LAST-MODIFIED:20240710T041935Z
UID:1581-1724076000-1724077800@sust-harima.org
SUMMARY:サポステ説明会
DESCRIPTION:サポステの施設を見学しながら、どんな支援が受けられるかをご説明いたします。\n利用を迷われている方や、興味がある方は、お気軽にご参加ください。 \n\n【日時】2024年8月19日(月)\n【場所】あかし若者サポートステーション
URL:https://sust-harima.org/event/%e3%82%b5%e3%83%9d%e3%82%b9%e3%83%86%e8%aa%ac%e6%98%8e%e4%bc%9a-10/
LOCATION:あかし若者サポートステーション\, 38ヤングビル5階\, 明石市相生町2丁目6-5\, 兵庫県\, 673-0882\, 日本
END:VEVENT
BEGIN:VEVENT
DTSTART;TZID=UTC:20240809T100000
DTEND;TZID=UTC:20240809T120000
DTSTAMP:20260426T031055
CREATED:20240710T000002Z
LAST-MODIFIED:20240710T041624Z
UID:1578-1723197600-1723204800@sust-harima.org
SUMMARY:播磨町就職等自立支援セミナー「EQ～こころの知能指数の活かし方～」
DESCRIPTION:自分の感情をコントロールし、他社の感情を読み取ることができればより良い人間関係が生まれます。\nそのためには、脳のしくみから情動のメカニズムを理解し、職場において適切な対処を学びます。 \n・【日時】2024年8月9日(金)　10:00～12:00 \n・【場所】播磨町福祉会館 \nチラシのダウンロード
URL:https://sust-harima.org/event/%e6%92%ad%e7%a3%a8%e7%94%ba%e5%b0%b1%e8%81%b7%e7%ad%89%e8%87%aa%e7%ab%8b%e6%94%af%e6%8f%b4%e3%82%bb%e3%83%9f%e3%83%8a%e3%83%bc%e3%80%8ceq%ef%bd%9e%e3%81%93%e3%81%93%e3%82%8d%e3%81%ae%e7%9f%a5%e8%83%bd/
LOCATION:播磨町福祉会館\, 加古郡播磨町宮北１丁目３−５\, 兵庫県\, 675-0143\, 日本
CATEGORIES:セミナー
END:VEVENT
BEGIN:VEVENT
DTSTART;TZID=UTC:20240808T093000
DTEND;TZID=UTC:20240808T113000
DTSTAMP:20260426T031055
CREATED:20240710T000046Z
LAST-MODIFIED:20240710T041951Z
UID:1574-1723109400-1723116600@sust-harima.org
SUMMARY:プチボラ(封入作業)
DESCRIPTION:チラシの封入作業を一緒にしませんか？\n普段しない作業を通して意外な長所が発見できるかもしれません。 \n・【日時】2024年8月8日(木)　9:30～11:30 \n・【場所】サテライト播磨 \n  \n  \n当講座は登録者専用となります。\nあかしサポステに未登録の方は、まずは「個別相談申し込みフォーム」から登録お願い致します。 \n個別相談申し込みフォームはこちら
URL:https://sust-harima.org/event/%e3%83%97%e3%83%81%e3%83%9c%e3%83%a9%e5%b0%81%e5%85%a5%e4%bd%9c%e6%a5%ad-10/
LOCATION:サテライト播磨\, 加古川市加古川町溝之口755\, 兵庫県\, 673-0064\, 日本
CATEGORIES:ジョブトレーニング
END:VEVENT
BEGIN:VEVENT
DTSTART;TZID=UTC:20240730T093000
DTEND;TZID=UTC:20240730T113000
DTSTAMP:20260426T031055
CREATED:20240610T015254Z
LAST-MODIFIED:20240610T015254Z
UID:1517-1722331800-1722339000@sust-harima.org
SUMMARY:自己肯定感の高め方
DESCRIPTION:自己肯定感とは「ありのままの自分」をこれでよいと思える気持ちです。自信を築く土台にもなります。\n自分を受け入れる方法や心の使い方を学び、就労へ一歩踏み出す自信をつけていきましょう。 \n・【日時】2024年7月30日(火)　9:30～11:30 \n・【場所】あかし若者サポートステーション \n  \n  \n当講座は登録者専用となります。\nあかしサポステに未登録の方は、まずは「個別相談申し込みフォーム」から登録お願い致します。 \n個別相談申し込みフォームはこちら
URL:https://sust-harima.org/event/%e8%87%aa%e5%b7%b1%e8%82%af%e5%ae%9a%e6%84%9f%e3%81%ae%e9%ab%98%e3%82%81%e6%96%b9-2/
LOCATION:あかし若者サポートステーション\, 38ヤングビル5階\, 明石市相生町2丁目6-5\, 兵庫県\, 673-0882\, 日本
CATEGORIES:セミナー
END:VEVENT
BEGIN:VEVENT
DTSTART;TZID=UTC:20240729T133000
DTEND;TZID=UTC:20240729T163000
DTSTAMP:20260426T031055
CREATED:20240610T015240Z
LAST-MODIFIED:20240610T015240Z
UID:1515-1722259800-1722270600@sust-harima.org
SUMMARY:PC講座【Excel基礎】
DESCRIPTION:ビジネスの視点からExcelの基本を学びます。PCの経験を増やしたい方、是非ご参加ください。\nExcelは表やグラフ作成など様々な場面で活用できます。 \n・【日時】2024年7月29日(月)　13:30～16:30 \n・【場所】サテライト播磨 \n  \n  \n当講座は登録者専用となります。\nあかしサポステに未登録の方は、まずは「個別相談申し込みフォーム」から登録お願い致します。 \n個別相談申し込みフォームはこちら
URL:https://sust-harima.org/event/pc%e8%ac%9b%e5%ba%a7%e3%80%90excel%e5%9f%ba%e7%a4%8e%e3%80%91-9/
LOCATION:サテライト播磨\, 加古川市加古川町溝之口755\, 兵庫県\, 673-0064\, 日本
CATEGORIES:PC講座
END:VEVENT
BEGIN:VEVENT
DTSTART;TZID=UTC:20240727T140000
DTEND;TZID=UTC:20240727T160000
DTSTAMP:20260426T031055
CREATED:20240610T014153Z
LAST-MODIFIED:20240702T045007Z
UID:1512-1722088800-1722096000@sust-harima.org
SUMMARY:就職氷河期世代活躍支援セミナー「家族セミナー」
DESCRIPTION:子供の就労に関し、親としてできることを学び、我が子の就労に悩んでいる家族同士で語り合いながら、\n課題の改善点について考えましょう。 \n・【日時】2024年7月27日(土)　14:00～16:00 \n・【場所】複合型交流拠点ウィズあかし
URL:https://sust-harima.org/event/%e5%b0%b1%e8%81%b7%e6%b0%b7%e6%b2%b3%e6%9c%9f%e4%b8%96%e4%bb%a3%e6%b4%bb%e8%ba%8d%e6%94%af%e6%8f%b4%e3%82%bb%e3%83%9f%e3%83%8a%e3%83%bc%e3%80%8c%e5%ae%b6%e6%97%8f%e3%82%bb%e3%83%9f%e3%83%8a%e3%83%bc/
LOCATION:ウィズあかし\, 明石市東仲ノ町６−１\, 兵庫県\, 673-0886\, 日本
CATEGORIES:セミナー
END:VEVENT
BEGIN:VEVENT
DTSTART;TZID=UTC:20240726T140000
DTEND;TZID=UTC:20240726T143000
DTSTAMP:20260426T031055
CREATED:20240610T014144Z
LAST-MODIFIED:20240610T014144Z
UID:1510-1722002400-1722004200@sust-harima.org
SUMMARY:サポステ説明会
DESCRIPTION:サポステの施設を見学しながら、どんな支援が受けられるかをご説明いたします。 \n利用を迷われている方や、興味がある方は、お気軽にご参加ください。 \n\n【日時】2024年7月26日(金)\n【場所】サテライト播磨
URL:https://sust-harima.org/event/%e3%82%b5%e3%83%9d%e3%82%b9%e3%83%86%e8%aa%ac%e6%98%8e%e4%bc%9a-9/
LOCATION:サテライト播磨\, 加古川市加古川町溝之口755\, 兵庫県\, 673-0064\, 日本
END:VEVENT
BEGIN:VEVENT
DTSTART;TZID=UTC:20240719T140000
DTEND;TZID=UTC:20240719T160000
DTSTAMP:20260426T031055
CREATED:20240610T014110Z
LAST-MODIFIED:20240610T014110Z
UID:1502-1721397600-1721404800@sust-harima.org
SUMMARY:就職意識啓発セミナー「はたらく幸せ、仕事で求めるウェルビーイング」
DESCRIPTION:人が身体的・精神的・社会的に“良好な状態”であることを指す「ウェルビーイング」が注目されています。\n働く上で、人はどのようなときに幸せを感じるのか。\n幸福度を高める考え方、方法について学びましょう。 \n・【日時】2024年7月19日(金)　14:00～16:00 \n・【場所】複合型交流拠点ウィズあかし \nチラシのダウンロード \n 
URL:https://sust-harima.org/event/%e5%b0%b1%e8%81%b7%e6%84%8f%e8%ad%98%e5%95%93%e7%99%ba%e3%82%bb%e3%83%9f%e3%83%8a%e3%83%bc%e3%80%8c%e3%81%af%e3%81%9f%e3%82%89%e3%81%8f%e5%b9%b8%e3%81%9b%e3%80%81%e4%bb%95%e4%ba%8b%e3%81%a7%e6%b1%82/
LOCATION:ウィズあかし\, 明石市東仲ノ町６−１\, 兵庫県\, 673-0886\, 日本
CATEGORIES:セミナー
END:VEVENT
BEGIN:VEVENT
DTSTART;TZID=UTC:20240712T100000
DTEND;TZID=UTC:20240712T120000
DTSTAMP:20260426T031055
CREATED:20240610T014050Z
LAST-MODIFIED:20240610T014050Z
UID:1498-1720778400-1720785600@sust-harima.org
SUMMARY:播磨町就職等自立支援セミナー「やさしい自己理解セミナー～自分を知ろう～」
DESCRIPTION:就職活動の第一歩は自己理解から！\nグループワークを通じて、自分の性格や価値観を知り、自分に合った働き方を見つけましょう。 \n・【日時】2024年7月12日(金)　10:00～12:00 \n・【場所】播磨町福祉会館 \nチラシのダウンロード
URL:https://sust-harima.org/event/%e6%92%ad%e7%a3%a8%e7%94%ba%e5%b0%b1%e8%81%b7%e7%ad%89%e8%87%aa%e7%ab%8b%e6%94%af%e6%8f%b4%e3%82%bb%e3%83%9f%e3%83%8a%e3%83%bc%e3%80%8c%e3%82%84%e3%81%95%e3%81%97%e3%81%84%e8%87%aa%e5%b7%b1%e7%90%86/
LOCATION:播磨町福祉会館\, 加古郡播磨町宮北１丁目３−５\, 兵庫県\, 675-0143\, 日本
CATEGORIES:セミナー
END:VEVENT
BEGIN:VEVENT
DTSTART;TZID=UTC:20240710T093000
DTEND;TZID=UTC:20240710T113000
DTSTAMP:20260426T031055
CREATED:20240610T014028Z
LAST-MODIFIED:20240610T014028Z
UID:1496-1720603800-1720611000@sust-harima.org
SUMMARY:プチボラ(封入作業)
DESCRIPTION:チラシの封入作業を一緒にしませんか？ \n普段しない作業を通して意外な長所が発見できるかもしれません。 \n・【日時】2024年7月10日(水)　9:30～11:30 \n・【場所】あかし若者サポートステーション \n  \n  \n当講座は登録者専用となります。\nあかしサポステに未登録の方は、まずは「個別相談申し込みフォーム」から登録お願い致します。 \n個別相談申し込みフォームはこちら
URL:https://sust-harima.org/event/%e3%83%97%e3%83%81%e3%83%9c%e3%83%a9%e5%b0%81%e5%85%a5%e4%bd%9c%e6%a5%ad-9/
LOCATION:あかし若者サポートステーション\, 38ヤングビル5階\, 明石市相生町2丁目6-5\, 兵庫県\, 673-0882\, 日本
CATEGORIES:ジョブトレーニング
END:VEVENT
BEGIN:VEVENT
DTSTART;TZID=UTC:20240709T100000
DTEND;TZID=UTC:20240709T120000
DTSTAMP:20260426T031055
CREATED:20240610T014008Z
LAST-MODIFIED:20240610T015725Z
UID:1487-1720519200-1720526400@sust-harima.org
SUMMARY:高砂市就職自立支援セミナー「自分らしさ発見プログラム」
DESCRIPTION:物事のとらえ方や視点を変えることで、あなたが短所だと思っていることも長所に変えることができます。\n他の参加者と一緒に新たな「自分らしさ」を発見しましょう。 \n・【日時】2024年7月9日(水)　10:00～12:00 \n・【場所】生石研修センター(高砂市) \nチラシのダウンロード
URL:https://sust-harima.org/event/%e9%ab%98%e7%a0%82%e5%b8%82%e5%b0%b1%e8%81%b7%e8%87%aa%e7%ab%8b%e6%94%af%e6%8f%b4%e3%82%bb%e3%83%9f%e3%83%8a%e3%83%bc%e3%80%8c%e8%87%aa%e5%88%86%e3%82%89%e3%81%97%e3%81%95%e7%99%ba%e8%a6%8b%e3%83%97/
LOCATION:生石研修センター\, 高砂市阿弥陀町生石６１−２\, 兵庫県\, 676-0823\, 日本
CATEGORIES:セミナー
END:VEVENT
BEGIN:VEVENT
DTSTART;TZID=UTC:20240703T100000
DTEND;TZID=UTC:20240703T110000
DTSTAMP:20260426T031055
CREATED:20240610T013946Z
LAST-MODIFIED:20240610T013946Z
UID:1485-1720000800-1720004400@sust-harima.org
SUMMARY:レザークラフト体験
DESCRIPTION:革を使った小物づくりを体験してみませんか？ \n講師から指導を受けながら、オンリーワンの作品を作ります。 \n材料や道具の準備は不要です。手ぶらでお気軽にご参加ください。 \n・【日時】2024年7月3日(水)　10:00～11:00 \n・【場所】あかし若者サポートステーション \n  \n  \n当講座は登録者専用となります。\nあかしサポステに未登録の方は、まずは「個別相談申し込みフォーム」から登録お願い致します。 \n個別相談申し込みフォームはこちら
URL:https://sust-harima.org/event/%e3%83%ac%e3%82%b6%e3%83%bc%e3%82%af%e3%83%a9%e3%83%95%e3%83%88%e4%bd%93%e9%a8%93-2/
LOCATION:あかし若者サポートステーション\, 38ヤングビル5階\, 明石市相生町2丁目6-5\, 兵庫県\, 673-0882\, 日本
CATEGORIES:セミナー
END:VEVENT
BEGIN:VEVENT
DTSTART;TZID=UTC:20240627T140000
DTEND;TZID=UTC:20240627T143000
DTSTAMP:20260426T031055
CREATED:20240510T020151Z
LAST-MODIFIED:20240510T020151Z
UID:1455-1719496800-1719498600@sust-harima.org
SUMMARY:サポステ説明会
DESCRIPTION:サポステの施設を見学しながら、どんな支援が受けられるかをご説明いたします。 \n利用を迷われている方や、興味がある方は、お気軽にご参加ください。 \n\n【日時】2024年6月27日(木)\n【場所】あかし若者サポートステーション
URL:https://sust-harima.org/event/%e3%82%b5%e3%83%9d%e3%82%b9%e3%83%86%e8%aa%ac%e6%98%8e%e4%bc%9a-8/
LOCATION:あかし若者サポートステーション\, 38ヤングビル5階\, 明石市相生町2丁目6-5\, 兵庫県\, 673-0882\, 日本
END:VEVENT
BEGIN:VEVENT
DTSTART;TZID=UTC:20240624T093000
DTEND;TZID=UTC:20240624T113000
DTSTAMP:20260426T031055
CREATED:20240510T020131Z
LAST-MODIFIED:20240510T020131Z
UID:1453-1719221400-1719228600@sust-harima.org
SUMMARY:一緒に学ぼうSST！(ソーシャルスキルトレーニング)
DESCRIPTION:SST(ソーシャルスキルトレーニング)とは、対人関係の中で必要不可欠な技術です。\n会社や日常生活の場面をもとにロールプレイなどで解決方法を見つけていき、\n対人関係を良くする方法を一緒に学びます。 \n・【日時】2024年6月24日(月)　13:30～16:30 \n・【場所】あかし若者サポートステーション \n  \n  \n当講座は登録者専用となります。\nあかしサポステに未登録の方は、まずは「個別相談申し込みフォーム」から登録お願い致します。 \n個別相談申し込みフォームはこちら
URL:https://sust-harima.org/event/%e4%b8%80%e7%b7%92%e3%81%ab%e5%ad%a6%e3%81%bc%e3%81%86sst%ef%bc%81%e3%82%bd%e3%83%bc%e3%82%b7%e3%83%a3%e3%83%ab%e3%82%b9%e3%82%ad%e3%83%ab%e3%83%88%e3%83%ac%e3%83%bc%e3%83%8b%e3%83%b3%e3%82%b0/
LOCATION:あかし若者サポートステーション\, 38ヤングビル5階\, 明石市相生町2丁目6-5\, 兵庫県\, 673-0882\, 日本
CATEGORIES:セミナー
END:VEVENT
BEGIN:VEVENT
DTSTART;TZID=UTC:20240621T133000
DTEND;TZID=UTC:20240621T163000
DTSTAMP:20260426T031055
CREATED:20240510T020029Z
LAST-MODIFIED:20240510T020029Z
UID:1451-1718976600-1718987400@sust-harima.org
SUMMARY:PC講座【Excel基礎】
DESCRIPTION:ビジネスの視点からExcelの基本を学びます。PCの経験を増やしたい方、是非ご参加ください。\nExcelは表やグラフ作成など様々な場面で活用できます。 \n・【日時】2024年6月21日(金)　13:30～16:30 \n・【場所】あかし若者サポートステーション \n  \n  \n当講座は登録者専用となります。\nあかしサポステに未登録の方は、まずは「個別相談申し込みフォーム」から登録お願い致します。 \n個別相談申し込みフォームはこちら
URL:https://sust-harima.org/event/pc%e8%ac%9b%e5%ba%a7%e3%80%90excel%e5%9f%ba%e7%a4%8e%e3%80%91-8/
LOCATION:あかし若者サポートステーション\, 38ヤングビル5階\, 明石市相生町2丁目6-5\, 兵庫県\, 673-0882\, 日本
CATEGORIES:PC講座
END:VEVENT
BEGIN:VEVENT
DTSTART;TZID=UTC:20240614T133000
DTEND;TZID=UTC:20240614T163000
DTSTAMP:20260426T031055
CREATED:20240510T020007Z
LAST-MODIFIED:20240510T020007Z
UID:1448-1718371800-1718382600@sust-harima.org
SUMMARY:PC講座【Word基礎】
DESCRIPTION:PC経験が少なく不安を感じる方はWordの基礎から学んでいきましょう。\nWordは就職活動や職場など、様々な場面で活用できます。 \n・【日時】2024年6月14日(金)　13:30～16:30 \n・【場所】あかし若者サポートステーション \n  \n  \n当講座は登録者専用となります。\nあかしサポステに未登録の方は、まずは「個別相談申し込みフォーム」から登録お願い致します。 \n個別相談申し込みフォームはこちら
URL:https://sust-harima.org/event/pc%e8%ac%9b%e5%ba%a7%e3%80%90word%e5%9f%ba%e7%a4%8e%e3%80%91-8/
LOCATION:あかし若者サポートステーション\, 38ヤングビル5階\, 明石市相生町2丁目6-5\, 兵庫県\, 673-0882\, 日本
CATEGORIES:PC講座
END:VEVENT
BEGIN:VEVENT
DTSTART;TZID=UTC:20240612T093000
DTEND;TZID=UTC:20240612T120000
DTSTAMP:20260426T031055
CREATED:20240510T015947Z
LAST-MODIFIED:20240510T015947Z
UID:1443-1718184600-1718193600@sust-harima.org
SUMMARY:働くための身体づくり
DESCRIPTION:働く前の準備のために、まずは自分でできる健康づくりから始めましょう。\n自分の今の心と身体を確認し、いい汗かいてみんなでリフレッシュしましょう。\n持ち物：上履き、動きやす服装、タオル、飲み物 \n  \n・【日時】2024年6月12日(水)　9:30～11:50 \n・【場所】明石市勤労福祉会館 \n  \n  \n当講座は登録者専用となります。\nあかしサポステに未登録の方は、まずは「個別相談申し込みフォーム」から登録お願い致します。 \n個別相談申し込みフォームはこちら \n 
URL:https://sust-harima.org/event/%e5%83%8d%e3%81%8f%e3%81%9f%e3%82%81%e3%81%ae%e8%ba%ab%e4%bd%93%e3%81%a5%e3%81%8f%e3%82%8a-3/
LOCATION:明石市勤労福祉会館\, 明石市相生町２丁目７−１２\, 兵庫県\, 673-0882\, 日本
CATEGORIES:セミナー
END:VEVENT
BEGIN:VEVENT
DTSTART;TZID=UTC:20240611T100000
DTEND;TZID=UTC:20240611T120000
DTSTAMP:20260426T031055
CREATED:20240510T015915Z
LAST-MODIFIED:20240510T015915Z
UID:1435-1718100000-1718107200@sust-harima.org
SUMMARY:高砂市就職自立支援セミナー「自己肯定感の高め方～自信をつけて一歩を踏み出そう～」
DESCRIPTION:自己肯定感とは「ありのままの自分」をこれでよいと思える気持ちです。自信を築く土台にもなります。 \n自分を受け入れる方法や心の使い方を学び、就労へ一歩を踏み出す自信をつけていきましょう。 \n  \n・【日時】2024年6月11日(火)　10:00～12:00 \n・【場所】生石研修センター(高砂市) \n  \n \nチラシのダウンロード
URL:https://sust-harima.org/event/%e9%ab%98%e7%a0%82%e5%b8%82%e5%b0%b1%e8%81%b7%e8%87%aa%e7%ab%8b%e6%94%af%e6%8f%b4%e3%82%bb%e3%83%9f%e3%83%8a%e3%83%bc%e3%80%8c%e8%87%aa%e5%b7%b1%e8%82%af%e5%ae%9a%e6%84%9f%e3%81%ae%e9%ab%98%e3%82%81/
LOCATION:生石研修センター\, 高砂市阿弥陀町生石６１−２\, 兵庫県\, 676-0823\, 日本
CATEGORIES:セミナー
END:VEVENT
BEGIN:VEVENT
DTSTART;TZID=UTC:20240607T093000
DTEND;TZID=UTC:20240607T113000
DTSTAMP:20260426T031055
CREATED:20240510T015828Z
LAST-MODIFIED:20240510T015828Z
UID:1433-1717752600-1717759800@sust-harima.org
SUMMARY:プチボラ(封入作業)
DESCRIPTION:チラシの封入作業を一緒にしませんか？ \n普段しない作業を通して意外な長所が発見できるかもしれません。 \n・【日時】2024年6月7日(金)　9:30～11:30 \n・【場所】サテライト播磨 \n  \n  \n当講座は登録者専用となります。\nあかしサポステに未登録の方は、まずは「個別相談申し込みフォーム」から登録お願い致します。 \n個別相談申し込みフォームはこちら
URL:https://sust-harima.org/event/%e3%83%97%e3%83%81%e3%83%9c%e3%83%a9%e5%b0%81%e5%85%a5%e4%bd%9c%e6%a5%ad-8/
LOCATION:サテライト播磨\, 加古川市加古川町溝之口755\, 兵庫県\, 673-0064\, 日本
CATEGORIES:ジョブトレーニング
END:VEVENT
BEGIN:VEVENT
DTSTART;TZID=UTC:20240531T140000
DTEND;TZID=UTC:20240531T143000
DTSTAMP:20260426T031055
CREATED:20240409T044831Z
LAST-MODIFIED:20240409T044831Z
UID:1413-1717164000-1717165800@sust-harima.org
SUMMARY:サポステ説明会
DESCRIPTION:サポステの施設を見学しながら、どんな支援が受けられるかをご説明いたします。 \n利用を迷われている方や、興味がある方は、お気軽にご参加ください。 \n\n【日時】2024年5月31日(金)\n【場所】サテライト播磨
URL:https://sust-harima.org/event/%e3%82%b5%e3%83%9d%e3%82%b9%e3%83%86%e8%aa%ac%e6%98%8e%e4%bc%9a-7/
LOCATION:サテライト播磨\, 加古川市加古川町溝之口755\, 兵庫県\, 673-0064\, 日本
END:VEVENT
BEGIN:VEVENT
DTSTART;TZID=UTC:20240527T133000
DTEND;TZID=UTC:20240527T163000
DTSTAMP:20260426T031055
CREATED:20240409T044845Z
LAST-MODIFIED:20240409T044845Z
UID:1411-1716816600-1716827400@sust-harima.org
SUMMARY:PC講座【Excel基礎】
DESCRIPTION:ビジネスの視点からExcelの基本を学びます。PCの経験を増やしたい方、是非ご参加ください。\nExcelは表やグラフ作成など様々な場面で活用できます。 \n・【日時】2024年5月27日(月)　13:30～16:30 \n・【場所】サテライト播磨 \n  \n  \n当講座は登録者専用となります。\nあかしサポステに未登録の方は、まずは「個別相談申し込みフォーム」から登録お願い致します。 \n個別相談申し込みフォームはこちら
URL:https://sust-harima.org/event/pc%e8%ac%9b%e5%ba%a7%e3%80%90excel%e5%9f%ba%e7%a4%8e%e3%80%91-7/
LOCATION:サテライト播磨\, 加古川市加古川町溝之口755\, 兵庫県\, 673-0064\, 日本
CATEGORIES:PC講座
END:VEVENT
END:VCALENDAR