BEGIN:VCALENDAR
VERSION:2.0
PRODID:-//あかしサポステ - ECPv6.2.9//NONSGML v1.0//EN
CALSCALE:GREGORIAN
METHOD:PUBLISH
X-ORIGINAL-URL:https://sust-harima.org
X-WR-CALDESC:あかしサポステ のイベント
REFRESH-INTERVAL;VALUE=DURATION:PT1H
X-Robots-Tag:noindex
X-PUBLISHED-TTL:PT1H
BEGIN:VTIMEZONE
TZID:UTC
BEGIN:STANDARD
TZOFFSETFROM:+0000
TZOFFSETTO:+0000
TZNAME:UTC
DTSTART:20240101T000000
END:STANDARD
END:VTIMEZONE
BEGIN:VEVENT
DTSTART;TZID=UTC:20241120T140000
DTEND;TZID=UTC:20241120T160000
DTSTAMP:20260425T203736
CREATED:20241011T022603Z
LAST-MODIFIED:20241011T022603Z
UID:1803-1732111200-1732118400@sust-harima.org
SUMMARY:就職氷河期活躍支援セミナー「人間関係を円滑にするコミュニケーション・マナー講座」
DESCRIPTION:人間関係は「相互尊重」が基本です。\n良好な人間関係を築くために、一生使えるコミュニケーション・マナーの基本をお伝えします。 \n  \n・【日時】2024年11月20日(水)　14:00～16:00 \n・【場所】複合型交流拠点ウィズあかし \nチラシのダウンロード
URL:https://sust-harima.org/event/%e5%b0%b1%e8%81%b7%e6%b0%b7%e6%b2%b3%e6%9c%9f%e6%b4%bb%e8%ba%8d%e6%94%af%e6%8f%b4%e3%82%bb%e3%83%9f%e3%83%8a%e3%83%bc%e3%80%8c%e4%ba%ba%e9%96%93%e9%96%a2%e4%bf%82%e3%82%92%e5%86%86%e6%bb%91%e3%81%ab/
LOCATION:ウィズあかし\, 明石市東仲ノ町６−１\, 兵庫県\, 673-0886\, 日本
END:VEVENT
END:VCALENDAR