BEGIN:VCALENDAR
VERSION:2.0
PRODID:-//あかしサポステ - ECPv6.2.9//NONSGML v1.0//EN
CALSCALE:GREGORIAN
METHOD:PUBLISH
X-WR-CALNAME:あかしサポステ
X-ORIGINAL-URL:https://sust-harima.org
X-WR-CALDESC:あかしサポステ のイベント
REFRESH-INTERVAL;VALUE=DURATION:PT1H
X-Robots-Tag:noindex
X-PUBLISHED-TTL:PT1H
BEGIN:VTIMEZONE
TZID:UTC
BEGIN:STANDARD
TZOFFSETFROM:+0000
TZOFFSETTO:+0000
TZNAME:UTC
DTSTART:20250101T000000
END:STANDARD
END:VTIMEZONE
BEGIN:VEVENT
DTSTART;TZID=UTC:20250512T093000
DTEND;TZID=UTC:20250512T113000
DTSTAMP:20260425T105734
CREATED:20250407T042405Z
LAST-MODIFIED:20250407T042407Z
UID:2029-1747042200-1747049400@sust-harima.org
SUMMARY:プチボラ(封入作業)
DESCRIPTION:チラシの封入作業を一緒にしませんか？\n普段しない作業を通して意外な長所が発見できるかもしれません。 \n・【日時】2025年5月12(月)　9:30～11:30 \n・【場所】あかし若者サポートステーション \n  \n  \n当講座は登録者専用となります。\nあかしサポステに未登録の方は、まずは「個別相談申し込みフォーム」から登録お願い致します。 \n個別相談申し込みフォームはこちら
URL:https://sust-harima.org/event/%e3%83%97%e3%83%81%e3%83%9c%e3%83%a9%e5%b0%81%e5%85%a5%e4%bd%9c%e6%a5%ad-19/
LOCATION:あかし若者サポートステーション\, 38ヤングビル5階\, 明石市相生町2丁目6-5\, 兵庫県\, 673-0882\, 日本
CATEGORIES:ジョブトレーニング
END:VEVENT
END:VCALENDAR