BEGIN:VCALENDAR
VERSION:2.0
PRODID:-//あかしサポステ - ECPv6.2.9//NONSGML v1.0//EN
CALSCALE:GREGORIAN
METHOD:PUBLISH
X-ORIGINAL-URL:https://sust-harima.org
X-WR-CALDESC:あかしサポステ のイベント
REFRESH-INTERVAL;VALUE=DURATION:PT1H
X-Robots-Tag:noindex
X-PUBLISHED-TTL:PT1H
BEGIN:VTIMEZONE
TZID:UTC
BEGIN:STANDARD
TZOFFSETFROM:+0000
TZOFFSETTO:+0000
TZNAME:UTC
DTSTART:20250101T000000
END:STANDARD
END:VTIMEZONE
BEGIN:VEVENT
DTSTART;TZID=UTC:20251010T100000
DTEND;TZID=UTC:20251010T120000
DTSTAMP:20260425T022803
CREATED:20250911T021930Z
LAST-MODIFIED:20250911T021930Z
UID:2283-1760090400-1760097600@sust-harima.org
SUMMARY:播磨町就職等自立支援セミナー「お金から考える働き方」
DESCRIPTION:「お金」を切り口に、自分の生き方や価値観を見つめ直すワークを通じて、\n自分に合った働き方を一緒に考えていきましょう。 \n・【日時】2025年10月10日(金)　10:00～12:00 \n・【場所】播磨町総合福祉センター
URL:https://sust-harima.org/event/%e6%92%ad%e7%a3%a8%e7%94%ba%e5%b0%b1%e8%81%b7%e7%ad%89%e8%87%aa%e7%ab%8b%e6%94%af%e6%8f%b4%e3%82%bb%e3%83%9f%e3%83%8a%e3%83%bc%e3%80%8c%e3%81%8a%e9%87%91%e3%81%8b%e3%82%89%e8%80%83%e3%81%88%e3%82%8b-2/
LOCATION:播磨町福祉会館\, 加古郡播磨町宮北１丁目３−５\, 兵庫県\, 675-0143\, 日本
CATEGORIES:セミナー
END:VEVENT
END:VCALENDAR