BEGIN:VCALENDAR
VERSION:2.0
PRODID:-//あかしサポステ - ECPv6.2.9//NONSGML v1.0//EN
CALSCALE:GREGORIAN
METHOD:PUBLISH
X-ORIGINAL-URL:https://sust-harima.org
X-WR-CALDESC:あかしサポステ のイベント
REFRESH-INTERVAL;VALUE=DURATION:PT1H
X-Robots-Tag:noindex
X-PUBLISHED-TTL:PT1H
BEGIN:VTIMEZONE
TZID:UTC
BEGIN:STANDARD
TZOFFSETFROM:+0000
TZOFFSETTO:+0000
TZNAME:UTC
DTSTART:20250101T000000
END:STANDARD
END:VTIMEZONE
BEGIN:VEVENT
DTSTART;TZID=UTC:20251020T140000
DTEND;TZID=UTC:20251020T160000
DTSTAMP:20260425T022803
CREATED:20251009T041631Z
LAST-MODIFIED:20251009T041631Z
UID:2385-1760968800-1760976000@sust-harima.org
SUMMARY:職業適性検査
DESCRIPTION:厚生労働省編一般職業適性検査（GATB）を行います。 \n11種類の筆記検査により仕事をする上で必要とされる基礎能力を測定します。 \n  \n・【日時】2025年10月20日(月)　14:00～16:00 \n・【場所】ハローワーク西脇
URL:https://sust-harima.org/event/%e8%81%b7%e6%a5%ad%e9%81%a9%e6%80%a7%e6%a4%9c%e6%9f%bb/
LOCATION:ハローワーク西脇\, 西脇市西脇885-30\, 兵庫県\, 677-0015
END:VEVENT
END:VCALENDAR