BEGIN:VCALENDAR
VERSION:2.0
PRODID:-//あかしサポステ - ECPv6.2.9//NONSGML v1.0//EN
CALSCALE:GREGORIAN
METHOD:PUBLISH
X-ORIGINAL-URL:https://sust-harima.org
X-WR-CALDESC:あかしサポステ のイベント
REFRESH-INTERVAL;VALUE=DURATION:PT1H
X-Robots-Tag:noindex
X-PUBLISHED-TTL:PT1H
BEGIN:VTIMEZONE
TZID:UTC
BEGIN:STANDARD
TZOFFSETFROM:+0000
TZOFFSETTO:+0000
TZNAME:UTC
DTSTART:20250101T000000
END:STANDARD
END:VTIMEZONE
BEGIN:VEVENT
DTSTART;TZID=UTC:20251114T100000
DTEND;TZID=UTC:20251114T120000
DTSTAMP:20260425T003610
CREATED:20251009T042920Z
LAST-MODIFIED:20251009T042920Z
UID:2360-1763114400-1763121600@sust-harima.org
SUMMARY:播磨町就職等自立支援セミナー「働き続けるためのメンタルヘルス」
DESCRIPTION:ストレスなく働き続けるのは難しい…。\nだからこそ自分に合った「ストレス対処法」やストレスを生みやすい\n「思考のクセ」などについて学び、ワークを通じてストレスとうまく付き合う方法を考えましょう。 \n・【日時】2025年11月14日(金)　10:00～12:00 \n・【場所】播磨町総合福祉センター
URL:https://sust-harima.org/event/%e6%92%ad%e7%a3%a8%e7%94%ba%e5%b0%b1%e8%81%b7%e7%ad%89%e8%87%aa%e7%ab%8b%e6%94%af%e6%8f%b4%e3%82%bb%e3%83%9f%e3%83%8a%e3%83%bc%e3%80%8c%e5%83%8d%e3%81%8d%e7%b6%9a%e3%81%91%e3%82%8b%e3%81%9f%e3%82%81/
LOCATION:播磨町福祉会館\, 加古郡播磨町宮北１丁目３−５\, 兵庫県\, 675-0143\, 日本
CATEGORIES:セミナー
END:VEVENT
END:VCALENDAR