BEGIN:VCALENDAR
VERSION:2.0
PRODID:-//あかしサポステ - ECPv6.2.9//NONSGML v1.0//EN
CALSCALE:GREGORIAN
METHOD:PUBLISH
X-WR-CALNAME:あかしサポステ
X-ORIGINAL-URL:https://sust-harima.org
X-WR-CALDESC:あかしサポステ のイベント
REFRESH-INTERVAL;VALUE=DURATION:PT1H
X-Robots-Tag:noindex
X-PUBLISHED-TTL:PT1H
BEGIN:VTIMEZONE
TZID:UTC
BEGIN:STANDARD
TZOFFSETFROM:+0000
TZOFFSETTO:+0000
TZNAME:UTC
DTSTART:20250101T000000
END:STANDARD
END:VTIMEZONE
BEGIN:VEVENT
DTSTART;TZID=UTC:20251120T093000
DTEND;TZID=UTC:20251120T113000
DTSTAMP:20260425T003512
CREATED:20251009T042859Z
LAST-MODIFIED:20251009T042859Z
UID:2365-1763631000-1763638200@sust-harima.org
SUMMARY:自己肯定感～自分らしい一歩をふみだそう～
DESCRIPTION:「自己肯定感」とはありのままの自分を肯定し、自分が価値ある存在と認識することです。\n自分を受け入れイキイキとした就労への第一歩を一緒にふみだしましょう。 \n・【日時】2025年11月20(木)　9:30～11:30 \n・【場所】あかし若者サポートステーション \n  \n  \n当講座は登録者専用となります。\nあかしサポステに未登録の方は、まずは「個別相談申し込みフォーム」から登録お願い致します。 \n個別相談申し込みフォームはこちら
URL:https://sust-harima.org/event/%e8%87%aa%e5%b7%b1%e8%82%af%e5%ae%9a%e6%84%9f%ef%bd%9e%e8%87%aa%e5%88%86%e3%82%89%e3%81%97%e3%81%84%e4%b8%80%e6%ad%a9%e3%82%92%e3%81%b5%e3%81%bf%e3%81%a0%e3%81%9d%e3%81%86%ef%bd%9e/
LOCATION:あかし若者サポートステーション\, 38ヤングビル5階\, 明石市相生町2丁目6-5\, 兵庫県\, 673-0882\, 日本
CATEGORIES:セミナー
END:VEVENT
END:VCALENDAR