BEGIN:VCALENDAR
VERSION:2.0
PRODID:-//あかしサポステ - ECPv6.2.9//NONSGML v1.0//EN
CALSCALE:GREGORIAN
METHOD:PUBLISH
X-WR-CALNAME:あかしサポステ
X-ORIGINAL-URL:https://sust-harima.org
X-WR-CALDESC:あかしサポステ のイベント
REFRESH-INTERVAL;VALUE=DURATION:PT1H
X-Robots-Tag:noindex
X-PUBLISHED-TTL:PT1H
BEGIN:VTIMEZONE
TZID:UTC
BEGIN:STANDARD
TZOFFSETFROM:+0000
TZOFFSETTO:+0000
TZNAME:UTC
DTSTART:20250101T000000
END:STANDARD
END:VTIMEZONE
BEGIN:VEVENT
DTSTART;TZID=UTC:20251213T100000
DTEND;TZID=UTC:20251213T120000
DTSTAMP:20260424T225321
CREATED:20251110T023721Z
LAST-MODIFIED:20251110T023721Z
UID:2444-1765620000-1765627200@sust-harima.org
SUMMARY:高砂市就職自立支援セミナー「働いていない子を持つ親のためのセミナー」
DESCRIPTION:子供の不就労に悩む親同士が語り合い、気持ちを共有することで心を軽くするセミナーです。\n日常の過ごし方や関わり方などを学び、親自身が前向きになることで子の変化を促すきっかけを作ります。 \n・【日時】2025年12月13日(土)　10:00～12:00　個別相談12:00～12:45 \n・【場所】生石研修センター(高砂市)
URL:https://sust-harima.org/event/%e9%ab%98%e7%a0%82%e5%b8%82%e5%b0%b1%e8%81%b7%e8%87%aa%e7%ab%8b%e6%94%af%e6%8f%b4%e3%82%bb%e3%83%9f%e3%83%8a%e3%83%bc%e3%80%8c%e5%83%8d%e3%81%84%e3%81%a6%e3%81%84%e3%81%aa%e3%81%84%e5%ad%90%e3%82%92/
LOCATION:生石研修センター\, 高砂市阿弥陀町生石６１−２\, 兵庫県\, 676-0823\, 日本
CATEGORIES:セミナー
END:VEVENT
END:VCALENDAR